Workbook

Sheet Ders Degerlendirme
C2: DERS DEĞERLENDİRME FORMU
B3: Dersin Kodu/Adı: | N3: Program Çıktıları | O3: 1 | P3: 2 | Q3: 3 | R3: 4 | S3: 5 | T3: 6 | U3: 7 | V3: 8 | W3: 9 | X3: 10 | Y3: 11 | Z3: 12 | AA3: 13 | AB3: 14 | AC3: 15 | AD3: 16 | AE3: 17 | AF3: 18 | AG3: 19 | AH3: 20
B4: Verildiği Dönem: | M4: A | N4: Öğretim Üyesinin ders değerlendirmesine gore (1:Hiç, 2:Az, 3:Kısmen, 4:Çok, 5:Tamamen) | O4: =IF(AND(I9>0,(100+I9)*O6/100>=5),5,IF(J9=0,1,IF(AND(I9>0,(100+I9)*O6/100<5),(100+I9)*O6/100,J9*O6/100))) -> #DIV/0! | P4: =IF(AND(I18>0,(100+I18)*P6/100>=5),5,IF(J18=0,1,IF(AND(I18>0,(100+I18)*P6/100<5),(100+I18)*P6/100,J18*P6/100))) -> #DIV/0! | Q4: =IF(AND(I27>0,(100+I27)*Q6/100>=5),5,IF(J27=0,1,IF(AND(I27>0,(100+I27)*Q6/100<5),(100+I27)*Q6/100,J27*Q6/100))) -> #DIV/0! | R4: =IF(AND(I36>0,(100+I36)*R6/100>=5),5,IF(J36=0,1,IF(AND(I36>0,(100+I36)*R6/100<5),(100+I36)*R6/100,J36*R6/100))) -> #DIV/0! | S4: =IF(AND(I45>0,(100+I45)*S6/100>=5),5,IF(J45=0,1,IF(AND(I45>0,(100+I45)*S6/100<5),(100+I45)*S6/100,J45*S6/100))) -> #DIV/0! | T4: =IF(AND(I54>0,(100+I54)*T6/100>=5),5,IF(J54=0,1,IF(AND(I54>0,(100+I54)*T6/100<5),(100+I54)*T6/100,J54*T6/100))) -> #DIV/0! | U4: =IF(AND(I63>0,(100+I63)*U6/100>=5),5,IF(J63=0,1,IF(AND(I63>0,(100+I63)*U6/100<5),(100+I63)*U6/100,J63*U6/100))) -> #DIV/0! | V4: =IF(AND(I72>0,(100+I72)*V6/100>=5),5,IF(J72=0,1,IF(AND(I72>0,(100+I72)*V6/100<5),(100+I72)*V6/100,J72*V6/100))) -> #DIV/0! | W4: =IF(AND(I81>0,(100+I81)*W6/100>=5),5,IF(J81=0,1,IF(AND(I81>0,(100+I81)*W6/100<5),(100+I81)*W6/100,J81*W6/100))) -> #DIV/0! | X4: =IF(AND(I90>0,(100+I90)*X6/100>=5),5,IF(J90=0,1,IF(AND(I90>0,(100+I90)*X6/100<5),(100+I90)*X6/100,J90*X6/100))) -> #DIV/0! | Y4: =IF(AND(I99>0,(100+I99)*Y6/100>=5),5,IF(J99=0,1,IF(AND(I99>0,(100+I99)*Y6/100<5),(100+I99)*Y6/100,J99*Y6/100))) -> #DIV/0! | Z4: =IF(AND(I108>0,(100+I108)*Z6/100>=5),5,IF(J108=0,1,IF(AND(I108>0,(100+I108)*Z6/100<5),(100+I108)*Z6/100,J108*Z6/100))) -> #DIV/0! | AA4: =IF(AND(I117>0,(100+I117)*AA6/100>=5),5,IF(J117=0,1,IF(AND(I117>0,(100+I117)*AA6/100<5),(100+I117)*AA6/100,J117*AA6/100))) -> #DIV/0! | AB4: =IF(AND(I126>0,(100+I126)*AB6/100>=5),5,IF(J126=0,1,IF(AND(I126>0,(100+I126)*AB6/100<5),(100+I126)*AB6/100,J126*AB6/100))) -> #DIV/0! | AC4: =IF(AND(I135>0,(100+I135)*AC6/100>=5),5,IF(J135=0,1,IF(AND(I135>0,(100+I135)*AC6/100<5),(100+I135)*AC6/100,J135*AC6/100))) -> #DIV/0! | AD4: =IF(AND(I144>0,(100+I144)*AD6/100>=5),5,IF(J144=0,1,IF(AND(I144>0,(100+I144)*AD6/100<5),(100+I144)*AD6/100,J144*AD6/100))) -> #DIV/0! | AE4: =IF(AND(I153>0,(100+I153)*AE6/100>=5),5,IF(J153=0,1,IF(AND(I153>0,(100+I153)*AE6/100<5),(100+I153)*AE6/100,J153*AE6/100))) -> #DIV/0! | AF4: =IF(AND(I162>0,(100+I162)*AF6/100>=5),5,IF(J162=0,1,IF(AND(I162>0,(100+I162)*AF6/100<5),(100+I162)*AF6/100,J162*AF6/100))) -> #DIV/0! | AG4: =IF(AND(I171>0,(100+I171)*AG6/100>=5),5,IF(J171=0,1,IF(AND(I171>0,(100+I171)*AG6/100<5),(100+I171)*AG6/100,J171*AG6/100))) -> #DIV/0! | AH4: =IF(AND(I180>0,(100+I180)*AH6/100>=5),5,IF(J180=0,1,IF(AND(I180>0,(100+I180)*AH6/100<5),(100+I180)*AH6/100,J180*AH6/100))) -> #DIV/0!
B5: Öğretim Üyesi Adı/Soyadı:
B6: Ders için açılan şube sayısı | M6: B | N6: Bölüm tanımlamasına göre (1:Hiç, 2:Az, 3:Kısmen, 4:Çok, 5:Tamamen) | O6: 0 | P6: 0 | Q6: 0 | R6: 0 | S6: 0 | T6: 0 | U6: 0 | V6: 0 | W6: 0 | X6: 0 | Y6: 0 | Z6: 0 | AA6: 0 | AB6: 0 | AC6: 0 | AD6: 0 | AE6: 0 | AF6: 0 | AG6: 0 | AH6: 0
B7: Tablodaki renkli bölgeler Öğretim Üyesi tarafından doldurulacaktır. | F7: Not gişişi | H7: Ortalama* | J7: Dönem Sonu Değer
B8: Ders Çıktıları | D8: Ölçüm Aracı | E8: Sınıf Ort. /100 | F8: kontrol | H8: Not Hesabı | I8: Sapma | J8: 0-100 | M8: C | N8: Öğrenci anketlerine gore T | O8: 0 | P8: 0 | Q8: 0 | R8: 0 | S8: 0 | T8: 0 | U8: 0 | V8: 0 | W8: 0 | X8: 0 | Y8: 0 | Z8: 0 | AA8: 0 | AB8: 0 | AC8: 0 | AD8: 0 | AE8: 0 | AF8: 0 | AG8: 0 | AH8: 0
A9: 1 | B9: Alanındaki ileri düzeydeki problemleri tanımlamak ve çözümleyebilmek için gerekli bilgiyi kavrama ve kullanma becerisi. | D9: Ara Sınav-1 | E9: 0 | F9: =IF(E9>0,1,0) -> 0 | G9: =IF(F17=0,1,F17) -> 1 | H9: =(E9*F9+E10*F10+E11*F11+E12*F12+E13*F13+E14*F14+E15*F15+E16*F16)/G9 -> 0 | I9: =IF(H9/$O$26*100-100=-100,0,H9/$O$26*100-100) -> #DIV/0! | J9: =IF(H9=0,0,100-ABS(I9)) -> 0
D10: Ara Sınav-2 | E10: 0 | F10: =IF(E10>0,1,0) -> 0 | M10: D | N10: Öğretim Üyesinin önerisi (1:Hiç, 2:Az, 3:Kısmen, 4:Çok, 5:Tamamen) | O10: 0 | P10: 0 | Q10: 0 | R10: 0 | S10: 0 | T10: 0 | U10: 0 | V10: 0 | W10: 0 | X10: 0 | Y10: 0 | Z10: 0 | AA10: 0 | AB10: 0 | AC10: 0 | AD10: 0 | AE10: 0 | AF10: 0 | AG10: 0 | AH10: 0
B11: Açıklama (Hangilerini?, Nasıl?): | D11: Ödevler | E11: 0 | F11: =IF(E11>0,1,0) -> 0
D12: Laboratuvar | E12: 0 | F12: =IF(E12>0,1,0) -> 0
D13: Projeler | E13: 0 | F13: =IF(E13>0,1,0) -> 0 | N13: Not Aralığı | P13: Öğrenci Sayısı
D14: Uygulamalar | E14: 0 | F14: =IF(E14>0,1,0) -> 0 | O14: AA | P14: 0
D15: Kısa Sınav | E15: 0 | F15: =IF(E15>0,1,0) -> 0 | O15: BA | P15: 0
D16: Dönem Ödevi | E16: 0 | F16: =IF(E16>0,1,0) -> 0 | O16: BB | P16: 0
F17: =SUM(F9:F16) -> 0 | O17: CB | P17: 0
A18: 2 | B18: Alanı ile ilgili verilerin toplanması, uygulanması, yorumlanması ve duyurulması aşamalarında toplumsal, bilimsel, kültürel ve etik değerleri gözeterek denetleyebilme ve öğretebilme becerisi. | D18: Ara Sınav-1 | E18: 0 | F18: =IF(E18>0,1,0) -> 0 | G18: =IF(F26=0,1,F26) -> 1 | H18: =(E18*F18+E19*F19+E20*F20+E21*F21+E22*F22+E23*F23+E24*F24+E25*F25)/G18 -> 0 | I18: =IF(H18/$O$26*100-100=-100,0,H18/$O$26*100-100) -> #DIV/0! | J18: =IF(H18=0,0,100-ABS(I18)) -> 0 | O18: CC | P18: 0
D19: Ara Sınav-2 | E19: 0 | F19: =IF(E19>0,1,0) -> 0 | O19: DC | P19: 0
B20: Açıklama (Hangilerini?, Nasıl?): | D20: Ödevler | E20: 0 | F20: =IF(E20>0,1,0) -> 0 | O20: DD | P20: 0
D21: Laboratuvar | E21: 0 | F21: =IF(E21>0,1,0) -> 0 | O21: FD | P21: 0
D22: Projeler | E22: 0 | F22: =IF(E22>0,1,0) -> 0 | O22: FF | P22: 0
D23: Uygulamalar | E23: 0 | F23: =IF(E23>0,1,0) -> 0 | N23: TOPLAM | P23: =SUM(P14:P22) -> 0
D24: Kısa Sınav | E24: 0 | F24: =IF(E24>0,1,0) -> 0
D25: Dönem Ödevi | E25: 0 | F25: =IF(E25>0,1,0) -> 0 | N25: Dönem Sonu Sınıf Ortalaması | O25: =(P14*4+P15*3.5+P16*3+P17*2.5+P18*2+P19*1.5+P20*1+P21*0.5+P22*0)/P23+0.005 -> #DIV/0!
F26: =SUM(F18:F25) -> 0 | N26: Sınıf Ortalaması 100'lük sistem karşılığı | O26: =Ortalama!D2 -> #DIV/0!
A27: 3 | B27: Bilimsel ve teknolojik gelişmelerle ilgili bilgilere erişme ve sürekli yenileme becerisi. | D27: Ara Sınav-1 | E27: 0 | F27: =IF(E27>0,1,0) -> 0 | G27: =IF(F35=0,1,F35) -> 1 | H27: =(E27*F27+E28*F28+E29*F29+E30*F30+E31*F31+E32*F32+E33*F33+E34*F34)/G27 -> 0 | I27: =IF(H27/$O$26*100-100=-100,0,H27/$O$26*100-100) -> #DIV/0! | J27: =IF(H27=0,0,100-ABS(I27)) -> 0 | N27: Tekrarlı Öğrenci Sayısı | O27: 0
B28: Açıklama (Hangilerini?, Nasıl?): | D28: Ara Sınav-2 | E28: 0 | F28: =IF(E28>0,1,0) -> 0
D29: Ödevler | E29: 0 | F29: =IF(E29>0,1,0) -> 0 | N29: Ders değerlendirmesi ile ilgili öneriler ve açıklamalar :
D30: Laboratuvar | E30: 0 | F30: =IF(E30>0,1,0) -> 0
D31: Projeler | E31: 0 | F31: =IF(E31>0,1,0) -> 0
D32: Uygulamalar | E32: 0 | F32: =IF(E32>0,1,0) -> 0
D33: Kısa Sınav | E33: 0 | F33: =IF(E33>0,1,0) -> 0
D34: Dönem Ödevi | E34: 0 | F34: =IF(E34>0,1,0) -> 0
F35: =SUM(F27:F34) -> 0
A36: 4 | B36: Alanındaki bilgi, beceri ve deneyimlerini disiplinlerarası uygulamalara aktarabilme becerisi. | D36: Ara Sınav-1 | E36: 0 | F36: =IF(E36>0,1,0) -> 0 | G36: =IF(F44=0,1,F44) -> 1 | H36: =(E36*F36+E37*F37+E38*F38+E39*F39+E40*F40+E41*F41+E42*F42+E43*F43)/G36 -> 0 | I36: =IF(H36/$O$26*100-100=-100,0,H36/$O$26*100-100) -> #DIV/0! | J36: =IF(H36=0,0,100-ABS(I36)) -> 0
B37: Açıklama (Hangilerini?, Nasıl?): | D37: Ara Sınav-2 | E37: 0 | F37: =IF(E37>0,1,0) -> 0
D38: Ödevler | E38: 0 | F38: =IF(E38>0,1,0) -> 0
D39: Laboratuvar | E39: 0 | F39: =IF(E39>0,1,0) -> 0
D40: Projeler | E40: 0 | F40: =IF(E40>0,1,0) -> 0
D41: Uygulamalar | E41: 0 | F41: =IF(E41>0,1,0) -> 0
D42: Kısa Sınav | E42: 0 | F42: =IF(E42>0,1,0) -> 0
D43: Dönem Ödevi | E43: 0 | F43: =IF(E43>0,1,0) -> 0
F44: =SUM(F36:F43) -> 0
A45: 5 | B45: Bilimsel çalışmalarda değerlendirme, veri analizi yapma ve sonuçları yazılı/sözlü sunma becerisi. | D45: Ara Sınav-1 | E45: 0 | F45: =IF(E45>0,1,0) -> 0 | G45: =IF(F53=0,1,F53) -> 1 | H45: =(E45*F45+E46*F46+E47*F47+E48*F48+E49*F49+E50*F50+E51*F51+E52*F52)/G45 -> 0 | I45: =IF(H45/$O$26*100-100=-100,0,H45/$O$26*100-100) -> #DIV/0! | J45: =IF(H45=0,0,100-ABS(I45)) -> 0
B46: Açıklama (Hangilerini?, Nasıl?): | D46: Ara Sınav-2 | E46: 0 | F46: =IF(E46>0,1,0) -> 0 | N46: Tarih : | O46: İmza :
D47: Ödevler | E47: 0 | F47: =IF(E47>0,1,0) -> 0
D48: Laboratuvar | E48: 0 | F48: =IF(E48>0,1,0) -> 0 | N48: Dersin ECTS Formunda herhangi bir değişiklik önerisinde bulunduysanız belirtiniz.
D49: Projeler | E49: 0 | F49: =IF(E49>0,1,0) -> 0
D50: Uygulamalar | E50: 0 | F50: =IF(E50>0,1,0) -> 0
D51: Kısa Sınav | E51: 0 | F51: =IF(E51>0,1,0) -> 0
D52: Dönem Ödevi | E52: 0 | F52: =IF(E52>0,1,0) -> 0
F53: =SUM(F45:F52) -> 0
A54: 6 | B54: Toplum ve endüstrinin gereksinimlerine göre, literatüre katkı sağlayabilecek araştırma konularını belirleyebilme becerisi. | D54: Ara Sınav-1 | E54: 0 | F54: =IF(E54>0,1,0) -> 0 | G54: =IF(F62=0,1,F62) -> 1 | H54: =(E54*F54+E55*F55+E56*F56+E57*F57+E58*F58+E59*F59+E60*F60+E61*F61)/G54 -> 0 | I54: =IF(H54/$O$26*100-100=-100,0,H54/$O$26*100-100) -> #DIV/0! | J54: =IF(H54=0,0,100-ABS(I54)) -> 0
D55: Ara Sınav-2 | E55: 0 | F55: =IF(E55>0,1,0) -> 0
B56: Açıklama (Hangilerini?, Nasıl?): | D56: Ödevler | E56: 0 | F56: =IF(E56>0,1,0) -> 0
D57: Laboratuvar | E57: 0 | F57: =IF(E57>0,1,0) -> 0
D58: Projeler | E58: 0 | F58: =IF(E58>0,1,0) -> 0
D59: Uygulamalar | E59: 0 | F59: =IF(E59>0,1,0) -> 0
D60: Kısa Sınav | E60: 0 | F60: =IF(E60>0,1,0) -> 0
D61: Dönem Ödevi | E61: 0 | F61: =IF(E61>0,1,0) -> 0
F62: =SUM(F54:F61) -> 0
A63: 7 | B63: Bilimsel bir çalışma için amaç ve hedef belirleme, yol haritası oluşturma, planlı çalışma becerisi. | D63: Ara Sınav-1 | E63: 0 | F63: =IF(E63>0,1,0) -> 0 | G63: =IF(F71=0,1,F71) -> 1 | H63: =(E63*F63+E64*F64+E65*F65+E66*F66+E67*F67+E68*F68+E69*F69+E70*F70)/G63 -> 0 | I63: =IF(H63/$O$26*100-100=-100,0,H63/$O$26*100-100) -> #DIV/0! | J63: =IF(H63=0,0,100-ABS(I63)) -> 0
B64: Açıklama (Hangilerini?, Nasıl?): | D64: Ara Sınav-2 | E64: 0 | F64: =IF(E64>0,1,0) -> 0
D65: Ödevler | E65: 0 | F65: =IF(E65>0,1,0) -> 0 | N65: Tarih : | O65: İmza :
D66: Laboratuvar | E66: 0 | F66: =IF(E66>0,1,0) -> 0
D67: Projeler | E67: 0 | F67: =IF(E67>0,1,0) -> 0
D68: Uygulamalar | E68: 0 | F68: =IF(E68>0,1,0) -> 0
D69: Kısa Sınav | E69: 0 | F69: =IF(E69>0,1,0) -> 0
D70: Dönem Ödevi | E70: 0 | F70: =IF(E70>0,1,0) -> 0
F71: =SUM(F63:F70) -> 0
A72: 8 | B72: Araştırma bulgularını teknolojik uygulamada ve/veya bilimsel araştırma konularını yönlendirmede kullanabilme becerisi | D72: Ara Sınav-1 | E72: 0 | F72: =IF(E72>0,1,0) -> 0 | G72: =IF(F80=0,1,F80) -> 1 | H72: =(E72*F72+E73*F73+E74*F74+E75*F75+E76*F76+E77*F77+E78*F78+E79*F79)/G72 -> 0 | I72: =IF(H72/$O$26*100-100=-100,0,H72/$O$26*100-100) -> #DIV/0! | J72: =IF(H72=0,0,100-ABS(I72)) -> 0
D73: Ara Sınav-2 | E73: 0 | F73: =IF(E73>0,1,0) -> 0
B74: Açıklama (Hangilerini?, Nasıl?): | D74: Ödevler | E74: 0 | F74: =IF(E74>0,1,0) -> 0
D75: Laboratuvar | E75: 0 | F75: =IF(E75>0,1,0) -> 0
D76: Projeler | E76: 0 | F76: =IF(E76>0,1,0) -> 0
D77: Uygulamalar | E77: 0 | F77: =IF(E77>0,1,0) -> 0
D78: Kısa Sınav | E78: 0 | F78: =IF(E78>0,1,0) -> 0
D79: Dönem Ödevi | E79: 0 | F79: =IF(E79>0,1,0) -> 0
F80: =SUM(F72:F79) -> 0
A81: 9 | B81: Araştırma yürütülmesinde ve bulgularının yayılımında hukuki hakların farkındalığı. | D81: Ara Sınav-1 | E81: 0 | F81: =IF(E81>0,1,0) -> 0 | G81: =IF(F89=0,1,F89) -> 1 | H81: =(E81*F81+E82*F82+E83*F83+E84*F84+E85*F85+E86*F86+E87*F87+E88*F88)/G81 -> 0 | I81: =IF(H81/$O$26*100-100=-100,0,H81/$O$26*100-100) -> #DIV/0! | J81: =IF(H81=0,0,100-ABS(I81)) -> 0
B82: Açıklama (Hangilerini?, Nasıl?): | D82: Ara Sınav-2 | E82: 0 | F82: =IF(E82>0,1,0) -> 0
D83: Ödevler | E83: 0 | F83: =IF(E83>0,1,0) -> 0
D84: Laboratuvar | E84: 0 | F84: =IF(E84>0,1,0) -> 0
D85: Projeler | E85: 0 | F85: =IF(E85>0,1,0) -> 0
D86: Uygulamalar | E86: 0 | F86: =IF(E86>0,1,0) -> 0
D87: Kısa Sınav | E87: 0 | F87: =IF(E87>0,1,0) -> 0
D88: Dönem Ödevi | E88: 0 | F88: =IF(E88>0,1,0) -> 0
F89: =SUM(F81:F88) -> 0
A90: 10 | B90: Disiplin içi takımlarda etkin çalışabilme ve bu tür takımlarda liderlik yapabilme becerisi | D90: Ara Sınav-1 | E90: 0 | F90: =IF(E90>0,1,0) -> 0 | G90: =IF(F98=0,1,F98) -> 1 | H90: =(E90*F90+E91*F91+E92*F92+E93*F93+E94*F94+E95*F95+E96*F96+E97*F97)/G90 -> 0 | I90: =IF(H90/$O$26*100-100=-100,0,H90/$O$26*100-100) -> #DIV/0! | J90: =IF(H90=0,0,100-ABS(I90)) -> 0
B91: Açıklama (Hangilerini?, Nasıl?): | D91: Ara Sınav-2 | E91: 0 | F91: =IF(E91>0,1,0) -> 0
D92: Ödevler | E92: 0 | F92: =IF(E92>0,1,0) -> 0
D93: Laboratuvar | E93: 0 | F93: =IF(E93>0,1,0) -> 0
D94: Projeler | E94: 0 | F94: =IF(E94>0,1,0) -> 0
D95: Uygulamalar | E95: 0 | F95: =IF(E95>0,1,0) -> 0
D96: Kısa Sınav | E96: 0 | F96: =IF(E96>0,1,0) -> 0
D97: Dönem Ödevi | E97: 0 | F97: =IF(E97>0,1,0) -> 0
F98: =SUM(F90:F97) -> 0
A99: 11 | B99: Çok disiplinli takımlarda etkin çalışabilme ve bu tür takımlarda liderlik yapabilme becerisi. | D99: Ara Sınav-1 | E99: 0 | F99: =IF(E99>0,1,0) -> 0 | G99: =IF(F107=0,1,F107) -> 1 | H99: =(E99*F99+E100*F100+E101*F101+E102*F102+E103*F103+E104*F104+E105*F105+E106*F106)/G99 -> 0 | I99: =IF(H99/$O$26*100-100=-100,0,H99/$O$26*100-100) -> #DIV/0! | J99: =IF(H99=0,0,100-ABS(I99)) -> 0
B100: Açıklama (Hangilerini?, Nasıl?): | D100: Ara Sınav-2 | E100: 0 | F100: =IF(E100>0,1,0) -> 0
D101: Ödevler | E101: 0 | F101: =IF(E101>0,1,0) -> 0
...

Sheet Ortalama
A1: 4lük sistem | B1: 100lük sistem | D1: Sınıf ortalamasının 100lük sistemde karşılığ
A2: 4 | B2: 100 | C2: =IF(AND('Ders Degerlendirme'!$O$25>=Ortalama!A2,SUM($C$1:C1)=0),Ortalama!B2,0) -> #DIV/0! | D2: =SUM(C2:C302) -> #DIV/0!
A3: 3.99 | B3: 99.76 | C3: =IF(AND('Ders Degerlendirme'!$O$25>=Ortalama!A3,SUM($C$1:C2)=0),Ortalama!B3,0) -> #DIV/0!
A4: 3.98 | B4: 99.53 | C4: =IF(AND('Ders Degerlendirme'!$O$25>=Ortalama!A4,SUM($C$1:C3)=0),Ortalama!B4,0) -> #DIV/0!
A5: 3.97 | B5: 99.3 | C5: =IF(AND('Ders Degerlendirme'!$O$25>=Ortalama!A5,SUM($C$1:C4)=0),Ortalama!B5,0) -> #DIV/0!
A6: 3.96 | B6: 99.06 | C6: =IF(AND('Ders Degerlendirme'!$O$25>=Ortalama!A6,SUM($C$1:C5)=0),Ortalama!B6,0) -> #DIV/0!
A7: 3.95 | B7: 98.83 | C7: =IF(AND('Ders Degerlendirme'!$O$25>=Ortalama!A7,SUM($C$1:C6)=0),Ortalama!B7,0) -> #DIV/0!
A8: 3.94 | B8: 98.6 | C8: =IF(AND('Ders Degerlendirme'!$O$25>=Ortalama!A8,SUM($C$1:C7)=0),Ortalama!B8,0) -> #DIV/0!
A9: 3.93 | B9: 98.36 | C9: =IF(AND('Ders Degerlendirme'!$O$25>=Ortalama!A9,SUM($C$1:C8)=0),Ortalama!B9,0) -> #DIV/0!
A10: 3.92 | B10: 98.13 | C10: =IF(AND('Ders Degerlendirme'!$O$25>=Ortalama!A10,SUM($C$1:C9)=0),Ortalama!B10,0) -> #DIV/0!
A11: 3.91 | B11: 97.9 | C11: =IF(AND('Ders Degerlendirme'!$O$25>=Ortalama!A11,SUM($C$1:C10)=0),Ortalama!B11,0) -> #DIV/0!
A12: 3.9 | B12: 97.66 | C12: =IF(AND('Ders Degerlendirme'!$O$25>=Ortalama!A12,SUM($C$1:C11)=0),Ortalama!B12,0) -> #DIV/0!
A13: 3.89 | B13: 97.43 | C13: =IF(AND('Ders Degerlendirme'!$O$25>=Ortalama!A13,SUM($C$1:C12)=0),Ortalama!B13,0) -> #DIV/0!
A14: 3.88 | B14: 97.2 | C14: =IF(AND('Ders Degerlendirme'!$O$25>=Ortalama!A14,SUM($C$1:C13)=0),Ortalama!B14,0) -> #DIV/0!
... A302: 1 | B302: 30 | C302: =IF(AND('Ders Degerlendirme'!$O$25>=Ortalama!A302,SUM($C$1:C301)=0),Ortalama!B302,0) -> #DIV/0!
