Workbook

Sheet %30
A1: Elektrik-Elektronik MÜHENDİSLİĞİ (%30 İngilizce)
A4: SINIF | B4: Dersin Kodu | C4: Dersin Adı | D4: Ders Saati | F4: Kredi | G4: AKTS
D5: T* | E5: U** | I5: * Her dönem açılabilen ders
A6: 1.SINIF GÜZ DÖNEMİ | B6: EEE101 | C6: Intro. To Electrical-Electronics Eng. | D6: 1 | E6: 0 | F6: 1 | G6: 2 | I6: ** Özel Değerlendirmeli ders
B7: EEE103 | C7: Computer Programming | D7: 3 | E7: 2 | F7: 4 | G7: 6
B8: EEE105 | C8: Material Science | D8: 3 | E8: 0 | F8: 3 | G8: 5
B9: FIZ103 | C9: Fizik I | D9: 4 | E9: 0 | F9: 4 | G9: 6
B10: MATH 101 | C10: Mathematics I | D10: 4 | E10: 0 | F10: 4 | G10: 6
B11: ENG103 | C11: Advance English I | D11: 3 | E11: 0 | F11: 3 | G11: 3
B12: TAR101 | C12: Atatürk İlk. ve İnk. Tarihi - I | D12: 2 | E12: 0 | F12: 2 | G12: 2
C13: TOPLAM | F13: =SUM(F6:F12) -> 21 | G13: =SUM(G6:G12) -> 30
A15: 1.SINIF BAHAR DÖNEMİ | B15: EEE104 | C15: Logic Circuit Design | D15: 3 | E15: 0 | F15: 3 | G15: 5
B16: EEE106 | C16: Logic Circuit Design Laboratory | D16: 0 | E16: 2 | F16: 1 | G16: 2
B17: PHYS104 | C17: Physics II | D17: 4 | E17: 0 | F17: 4 | G17: 6
B18: FIZ156 | C18: Fizik Lab | D18: 0 | E18: 2 | F18: 1 | G18: 2
B19: MAT102 | C19: Matematik II | D19: 4 | E19: 0 | F19: 4 | G19: 6
B20: MAT198 | C20: Lineer Cebir | D20: 3 | E20: 0 | F20: 3 | G20: 4
B21: ENG104 | C21: Advance English II | D21: 3 | E21: 0 | F21: 3 | G21: 3
B22: TAR102 | C22: Atatürk İlk. ve İnk. Tarihi - II | D22: 2 | E22: 0 | F22: 2 | G22: 2
C23: TOPLAM | F23: =SUM(F15:F22) -> 21 | G23: =SUM(G15:G22) -> 30
A25: 2.SINIF GÜZ DÖNEMİ | B25: EEE201 | C25: Enginering Mathematics | D25: 3 | E25: 0 | F25: 3 | G25: 6
B26: EEE209 | C26: Probability and Statistics | D26: 3 | E26: 0 | F26: 3 | G26: 5
B27: EEE221(*) | C27: Circuit Theory I | D27: 4 | E27: 0 | F27: 4 | G27: 7
B28: EEE221(*) | C28: Circuit Theory Laboratory I | D28: 0 | E28: 2 | F28: 1 | G28: 2
B29: ENG203 | C29: Academic English I | D29: 3 | E29: 0 | F29: 3 | G29: 3
B30: MAT 201 | C30: Diferansiyel Denklemler | D30: 2 | E30: 2 | F30: 3 | G30: 5
B31: TÜR101 | C31: Türk Dili I | D31: 2 | E31: 0 | F31: 2 | G31: 2
C32: TOPLAM | F32: =SUM(F25:F31) -> 19 | G32: =SUM(G25:G31) -> 30
A35: 2.SINIF BAHAR DÖNEMİ | B35: EEE212 | C35: Analog Electronics I | D35: 4 | E35: 0 | F35: 4 | G35: 6
B36: EEE214 | C36: Analog Electronics Laboratory I | D36: 0 | E36: 2 | F36: 1 | G36: 2
B37: EEE222 | C37: Circuit Theory II | D37: 4 | E37: 0 | F37: 4 | G37: 6
B38: EEE224 | C38: Circuit Theory Laboratory II | D38: 0 | E38: 2 | F38: 1 | G38: 2
B39: EEE252 | C39: Electromagnetic Field Theory | D39: 4 | E39: 0 | F39: 4 | G39: 5
B40: ENG204 | C40: Academic English II | D40: 3 | E40: 0 | F40: 3 | G40: 3
B41: MATH296 | C41: Complex Analysis | D41: 3 | E41: 0 | F41: 3 | G41: 4
B42: TÜR102 | C42: Türk Dili II | D42: 2 | E42: 0 | F42: 2 | G42: 2
C43: TOPLAM | F43: =SUM(F35:F42) -> 22 | G43: =SUM(G35:G42) -> 30
A45: 3.SINIF GÜZ DÖNEMİ | B45: EEE301 | C45: Seminar | D45: 1 | E45: 0 | F45: 1 | G45: 2
B46: EEE311 | C46: Analog Electronics II | D46: 4 | E46: 0 | F46: 4 | G46: 6
B47: EEE313 | C47: Analog Electronics Laboratory II | D47: 0 | E47: 2 | F47: 1 | G47: 2
B48: EEE321 | C48: Signals and Systems | D48: 3 | E48: 0 | F48: 3 | G48: 6
B49: EEE331 | C49: Foundations of Energys Systems | D49: 3 | E49: 0 | F49: 3 | G49: 5
B50: EEE351 | C50: Electromagnetic Waves | D50: 3 | E50: 0 | F50: 3 | G50: 5
B51: AD | C51: Alan Dışı Seçmeli - I | D51: 2 | E51: 0 | F51: 2 | G51: 2
B52: EEM 200 | C52: Staj I | F52: 0 | G52: 2
C53: TOPLAM | F53: =SUM(F45:F52) -> 17 | G53: =SUM(G45:G52) -> 30
A54: 3.SINIF BAHAR DÖNEMİ | B54: EEE304 | C54: Microprocessors | D54: 3 | E54: 0 | F54: 4 | G54: 5
B55: EEE306 | C55: Microprocessors Laboratory | D55: 0 | E55: 2 | F55: 1 | G55: 2
B56: EEE308 | C56: Numerical Analysis | D56: 3 | E56: 0 | F56: 0 | G56: 4
B57: EEE326 | C57: Control Systems I | D57: 3 | E57: 0 | F57: 3 | G57: 6
B58: EEE336 | C58: Electromech. Energy Conv. Sys. | D58: 4 | E58: 0 | F58: 4 | G58: 6
B59: MOS | C59: Mesleki/Teknik Olmayan Seçmeli | D59: 3 | E59: 0 | F59: 3 | G59: 3
B60: AD | C60: Alan Dışı Seçmeli - II | D60: 2 | E60: 0 | F60: 2 | G60: 2
B61: EEE392 (**) | C61: Project Management (**) | D61: 1 | E61: 0 | F61: 1 | G61: 2
C62: TOPLAM | F62: =SUM(F54:F61) -> 18 | G62: =SUM(G54:G61) -> 30
A63: 4.SINIF GÜZ DÖNEMİ | B63: EEE491 (*) (**) | C63: EE Engineering Design I | D63: 3 | E63: 2 | F63: 4 | G63: 6
C64: Technical Elective | D64: 3 | E64: 2 | F64: 4 | G64: 7
C65: Technical Elective | D65: 3 | E65: 2 | F65: 3 | G65: 7
C66: Technical Elective | D66: 3 | E66: 0 | F66: 3 | G66: 6
B67: ISG401 | C67: İş Sağlığı ve Güvenliği I | D67: 2 | E67: 0 | F67: 2 | G67: 2
B68: EEM300 | C68: Staj II | E68: 0 | F68: 0 | G68: 2
C69: TOPLAM | F69: =SUM(F63:F68) -> 16 | G69: =SUM(G63:G68) -> 30
A73: 4.SINIF BAHAR DÖNEMİ | B73: EEE492 (*) (**) | C73: EE Engineering Design II | D73: 2 | E73: 4 | F73: 4 | G73: 4
C74: Technical Elective | D74: 3 | E74: 0 | F74: 3 | G74: 6
C75: Technical Elective | D75: 3 | E75: 0 | F75: 3 | G75: 6
C76: Technical Elective | D76: 3 | E76: 0 | F76: 3 | G76: 6
C77: Technical Elective | D77: 3 | E77: 0 | F77: 3 | G77: 6
B78: ISG402 | C78: İş Sağlığı ve Güvenliği II | D78: 2 | E78: 0 | F78: 2 | G78: 2
C79: TOPLAM | F79: =SUM(F73:F78) -> 18 | G79: =SUM(G73:G78) -> 30
A81: SEÇMELİ DERSLER
C83: SEÇMELİ DERS PAKETLERİ | D83: T | E83: U | F83: Kr | G83: AKTS
B84: ELEKTRONİK (4 zorunlu + 3 seçmeli ders)
B85: ='%100'!B85 -> EEE411 | C85: ='%100'!C85 -> Digital Electronics | D85: 3 | E85: 2 | F85: 4 | G85: 7
B86: ='%100'!B86 -> EEE412 | C86: ='%100'!C86 -> Large Scale Integrated Circuit Design | D86: 3 | E86: 0 | F86: 3 | G86: 6
B87: ='%100'!B87 -> EEE413 | C87: ='%100'!C87 -> Semiconductor Circuit Technology | D87: 3 | E87: 0 | F87: 3 | G87: 6
B88: ='%100'!B88 -> EEE414 | C88: ='%100'!C88 -> Optoelectronics | D88: 3 | E88: 0 | F88: 3 | G88: 6
B90: KONTROL (4 zorunlu + 3 seçmeli ders)
B91: ='%100'!B91 -> EEE421 | C91: ='%100'!C91 -> Digital Signal Processing | D91: 3 | E91: 0 | F91: 3 | G91: 6
B92: ='%100'!B92 -> EEE423 | C92: ='%100'!C92 -> Industrial Control | D92: 3 | E92: 0 | F92: 3 | G92: 6
B93: ='%100'!B93 -> EEE424 | C93: ='%100'!C93 -> Discrete Time Control Systems | D93: 3 | E93: 0 | F93: 3 | G93: 6
B94: ='%100'!B94 -> EEE426 | C94: ='%100'!C94 -> Nonlinear Control Systems | D94: 3 | E94: 0 | F94: 3 | G94: 6
B96: GÜÇ ELEKTRONİĞİ (4 zorunlu + 3 seçmeli ders)
B97: ='%100'!B97 -> EEE423 | C97: ='%100'!C97 -> Industrial Control | D97: 3 | E97: 0 | F97: 3 | G97: 6
B98: ='%100'!B98 -> EEE431 | C98: ='%100'!C98 -> Power Electronics I | D98: 3 | E98: 0 | F98: 3 | G98: 6
B99: ='%100'!B99 -> EEE432 | C99: ='%100'!C99 -> Power Electronics II | D99: 3 | E99: 2 | F99: 4 | G99: 7
B100: ='%100'!B100 -> EEE434 | C100: ='%100'!C100 -> Electrical Motors and Drives | D100: 3 | E100: 2 | F100: 4 | G100: 7
B102: HABERLEŞME (4 zorunlu +3 seçmeli ders)
B103: ='%100'!B103 -> EEE421 | C103: ='%100'!C103 -> Digital Signal Processing | D103: 3 | E103: 0 | F103: 3 | G103: 6
B104: ='%100'!B104 -> EEE441 | C104: ='%100'!C104 -> Communication Systems I | D104: 3 | E104: 2 | F104: 4 | G104: 7
B105: ='%100'!B105 -> EEE442 | C105: ='%100'!C105 -> Communication Systems II | D105: 3 | E105: 2 | F105: 4 | G105: 7
B106: ='%100'!B106 -> EEE444 | C106: ='%100'!C106 -> Digital Communication | D106: 3 | E106: 0 | F106: 3 | G106: 6
B108: MİKRODALGA VE ANTENLER (4 zorunlu +3 seçmeli ders)
B109: EEE441 | C109: Communication Systems I | D109: 3 | E109: 2 | F109: 4 | G109: 7
B110: EEE451 | C110: Microwave Techniques I | D110: 3 | E110: 2 | F110: 4 | G110: 7
B111: EEE454 | C111: Antennas | D111: 3 | E111: 2 | F111: 4 | G111: 7
B112: EEE456 | C112: Electromagnetic Modelling | D112: 3 | E112: 0 | F112: 3 | G112: 6
B114: BİYOMEDİKAL (3 zorunlu + 4 seçmeli ders)
B115: ='%100'!B115 -> EEE421 | C115: ='%100'!C115 -> Digital Signal Processing | D115: 3 | E115: 0 | F115: 3 | G115: 6
B116: ='%100'!B116 -> EEE461 | C116: ='%100'!C116 -> Intro. to Biomedical Engineering | D116: 3 | E116: 2 | F116: 4 | G116: 7
B117: ='%100'!B117 -> EEE462 | C117: ='%100'!C117 -> Medical Imaging Systems | D117: 3 | E117: 0 | F117: 3 | G117: 6
...

Sheet %100
A1: ELECTRIC-ELECTRONIC ENGINEERING (%100 ENGLISH)
A4: SINIF | B4: Dersin Kodu | C4: Dersin Adı | D4: Ders Saati | F4: Kredi | G4: AKTS
D5: T | E5: U
A6: 1.SINIF GÜZ DÖNEMİ | B6: EEE101 | C6: Intro. To Electrical-Electronics Eng. | D6: 1 | E6: 0 | F6: 1 | G6: 2 | I6: * Her dönem açılabilen ders
B7: EEE103 | C7: Computer Programming | D7: 3 | E7: 2 | F7: 4 | G7: 6 | I7: ** Özel Değerlendirmeli ders
B8: EEE105 | C8: Material Science | D8: 3 | E8: 0 | F8: 3 | G8: 5
B9: PHYS103 | C9: Physics I | D9: 4 | E9: 0 | F9: 4 | G9: 6
B10: MATH101 | C10: Mathematics I | D10: 4 | E10: 0 | F10: 4 | G10: 6
B11: ENG103 | C11: Advanced English I | D11: 3 | E11: 0 | F11: 3 | G11: 3
B12: TAR101 | C12: Atatürk İlk. ve İnk. Tarihi - I | D12: 2 | E12: 0 | F12: 2 | G12: 2
C13: TOPLAM | F13: =SUM(F6:F12) -> 21 | G13: =SUM(G6:G12) -> 30
A15: 1.SINIF BAHAR DÖNEMİ | B15: EEE104 | C15: Logic Circuit Design | D15: 3 | E15: 0 | F15: 3 | G15: 5
B16: EEE106 | C16: Logic Circuit Design Laboratory | D16: 0 | E16: 2 | F16: 1 | G16: 2
B17: PHYS104 | C17: Physics II | D17: 4 | E17: 0 | F17: 4 | G17: 6
B18: PHYS156 | C18: Physics Lab. | D18: 0 | E18: 2 | F18: 1 | G18: 2
B19: MATH102 | C19: Mathematics II | D19: 4 | E19: 0 | F19: 4 | G19: 6
B20: MATH198 | C20: Linear Algebra | D20: 3 | E20: 0 | F20: 3 | G20: 4
B21: ENG104 | C21: Advanced English II | D21: 3 | E21: 0 | F21: 3 | G21: 3
B22: TAR102 | C22: Atatürk İlk. ve İnk. Tarihi - II | D22: 2 | E22: 0 | F22: 2 | G22: 2
C23: TOPLAM | F23: =SUM(F15:F22) -> 21 | G23: =SUM(G15:G22) -> 30
A25: 2.SINIF GÜZ DÖNEMİ | B25: EEE201 | C25: Enginering Mathematics | D25: 3 | E25: 0 | F25: 3 | G25: 6
B26: EEE209 | C26: Probability and Statistics | D26: 3 | E26: 0 | F26: 3 | G26: 5
B27: EEE221 (*) | C27: Circuit Theory I | D27: 4 | E27: 0 | F27: 4 | G27: 7
B28: EEE223 | C28: Circuit Theory Laboratory I | D28: 0 | E28: 2 | F28: 1 | G28: 2
B29: ENG203 | C29: Academic English I | D29: 3 | E29: 0 | F29: 3 | G29: 3
B30: MATH201 | C30: Differential Equations | D30: 2 | E30: 2 | F30: 3 | G30: 5
B31: TÜR201 | C31: Türk Dili I | D31: 2 | E31: 0 | F31: 2 | G31: 2
C32: TOPLAM | F32: =SUM(F25:F31) -> 19 | G32: =SUM(G25:G31) -> 30
A35: 2.SINIF BAHAR DÖNEMİ | B35: EEE212 | C35: Analog Electronics I | D35: 4 | E35: 0 | F35: 4 | G35: 6
B36: EEE214 | C36: Analog Electronics Laboratory I | D36: 0 | E36: 2 | F36: 1 | G36: 2
B37: EEE222 | C37: Circuit Theory II | D37: 4 | E37: 0 | F37: 4 | G37: 6
B38: EEE224 | C38: Circuit Theory Laboratory II | D38: 0 | E38: 2 | F38: 1 | G38: 2
B39: EEE252 | C39: Electromagnetic Field Theory | D39: 4 | E39: 0 | F39: 4 | G39: 5
B40: ENG204 | C40: Academic English II | D40: 3 | E40: 0 | F40: 3 | G40: 3
B41: MATH 296 | C41: Complex Analysis | D41: 3 | E41: 0 | F41: 3 | G41: 4
B42: TÜR202 | C42: Türk Dili II | D42: 2 | E42: 0 | F42: 2 | G42: 2
C43: TOPLAM | F43: =SUM(F35:F42) -> 22 | G43: =SUM(G35:G42) -> 30
A45: 3.SINIF GÜZ DÖNEMİ | B45: EEE301 | C45: Seminar | D45: 1 | E45: 0 | F45: 1 | G45: 2
B46: EEE311 | C46: Analog Electronics II | D46: 4 | E46: 0 | F46: 4 | G46: 6
B47: EEE313 | C47: Analog Electronics Laboratory II | D47: 0 | E47: 2 | F47: 1 | G47: 2
B48: EEE321 | C48: Signals and Systems | D48: 3 | E48: 0 | F48: 3 | G48: 6
B49: EEE331 | C49: Foundations of Energys Systems | D49: 3 | E49: 0 | F49: 3 | G49: 5
B50: EEE351 | C50: Electromagnetic Waves | D50: 3 | E50: 0 | F50: 3 | G50: 5
B51: ADS | C51: Alan Dışı Seçmeli I | D51: 2 | E51: 0 | F51: 2 | G51: 2
B52: EEM200 | C52: Staj I | F52: 0 | G52: 2
C53: TOPLAM | F53: =SUM(F45:F52) -> 17 | G53: =SUM(G45:G52) -> 30
A54: 3.SINIF BAHAR DÖNEMİ | B54: EEE304 | C54: Microprocessors | D54: 3 | E54: 0 | F54: 3 | G54: 5
B55: EEE306 | C55: Microprocessors Laboratory | D55: 0 | E55: 2 | F55: 1 | G55: 2
B56: EEE308 | C56: Numerical Analysis | D56: 3 | E56: 0 | F56: 3 | G56: 4
B57: EEE326 | C57: Control Systems I | D57: 3 | E57: 0 | F57: 3 | G57: 6
B58: EEE336 | C58: Electromech. Energy Conv. Sys. | D58: 4 | E58: 0 | F58: 4 | G58: 6
B59: ETE | C59: Engineering Technical Elective | D59: 3 | E59: 0 | F59: 3 | G59: 3
B60: ADS | C60: Alan Dışı Seçmeli II | D60: 2 | E60: 0 | F60: 2 | G60: 2
B61: EEE392 | C61: Project Management (**) | D61: 1 | E61: 0 | F61: 1 | G61: 2
C62: TOPLAM | F62: =SUM(F54:F61) -> 20 | G62: =SUM(G54:G61) -> 30
A63: 4.SINIF GÜZ DÖNEMİ | B63: EEE491 (*) (**) | C63: EE Engineering Design I | D63: 3 | E63: 2 | F63: 4 | G63: 6
C64: Technical Elective | D64: 3 | E64: 2 | F64: 4 | G64: 7
C65: Technical Elective | D65: 3 | E65: 2 | F65: 4 | G65: 7
C66: Technical Elective | D66: 3 | E66: 0 | F66: 3 | G66: 6
B67: OSH401 | C67: Occupational Safety and Health I | D67: 2 | E67: 0 | F67: 2 | G67: 2
B68: EEM300 | C68: Staj II | E68: 0 | F68: 0 | G68: 2
C69: TOPLAM | F69: =SUM(F63:F68) -> 17 | G69: =SUM(G63:G68) -> 30
A73: 4.SINIF BAHAR DÖNEMİ | B73: EEE492 (*) (**) | C73: EE Engineering Design II | D73: 2 | E73: 4 | F73: 4 | G73: 4
C74: Technical Elective | D74: 3 | E74: 0 | F74: 3 | G74: 6
C75: Technical Elective | D75: 3 | E75: 0 | F75: 3 | G75: 6
C76: Technical Elective | D76: 3 | E76: 0 | F76: 3 | G76: 6
C77: Technical Elective | D77: 3 | E77: 0 | F77: 3 | G77: 6
B78: OSH 402 | C78: Occupational Safety and Health II | D78: 2 | E78: 0 | F78: 2 | G78: 2
C79: TOPLAM | F79: =SUM(F73:F78) -> 18 | G79: =SUM(G73:G78) -> 30
C83: TECHNICAL ELECTİVE PACKAGES | D83: T | E83: U | F83: Kr | G83: AKTS
B84: ELECTRONICS (4 required + 3 technical electives)
B85: EEE411 | C85: Digital Electronics | D85: ='%30'!D85 -> 3 | E85: ='%30'!E85 -> 2 | F85: ='%30'!F85 -> 4 | G85: ='%30'!G85 -> 7
B86: EEE412 | C86: Large Scale Integrated Circuit Design | D86: ='%30'!D86 -> 3 | E86: ='%30'!E86 -> 0 | F86: ='%30'!F86 -> 3 | G86: ='%30'!G86 -> 6
B87: EEE413 | C87: Semiconductor Circuit Technology | D87: ='%30'!D87 -> 3 | E87: ='%30'!E87 -> 0 | F87: ='%30'!F87 -> 3 | G87: ='%30'!G87 -> 6
B88: EEE414 | C88: Optoelectronics | D88: ='%30'!D88 -> 3 | E88: ='%30'!E88 -> 0 | F88: ='%30'!F88 -> 3 | G88: ='%30'!G88 -> 6
B90: CONTROL (4 required + 3 technical electives)
B91: EEE421 | C91: Digital Signal Processing | D91: ='%30'!D91 -> 3 | E91: ='%30'!E91 -> 0 | F91: ='%30'!F91 -> 3 | G91: ='%30'!G91 -> 6
B92: EEE423 | C92: Industrial Control | D92: ='%30'!D92 -> 3 | E92: ='%30'!E92 -> 0 | F92: ='%30'!F92 -> 3 | G92: ='%30'!G92 -> 6
B93: EEE424 | C93: Discrete Time Control Systems | D93: ='%30'!D93 -> 3 | E93: ='%30'!E93 -> 0 | F93: ='%30'!F93 -> 3 | G93: ='%30'!G93 -> 6
B94: EEE426 | C94: Nonlinear Control Systems | D94: ='%30'!D94 -> 3 | E94: ='%30'!E94 -> 0 | F94: ='%30'!F94 -> 3 | G94: ='%30'!G94 -> 6
B96: POWER ELECTRONICS (4 required + 3 technical electives)
B97: EEE423 | C97: Industrial Control | D97: 3 | E97: 0 | F97: 3 | G97: 6
B98: EEE431 | C98: Power Electronics I | D98: 3 | E98: 0 | F98: 3 | G98: 6
B99: EEE432 | C99: Power Electronics II | D99: 3 | E99: 2 | F99: 4 | G99: 7
B100: EEE434 | C100: Electrical Motors and Drives | D100: 3 | E100: 2 | F100: 4 | G100: 7
B102: COMMUNICATION (4 required + 3 technical electives)
B103: EEE421 | C103: Digital Signal Processing | D103: 3 | E103: 0 | F103: 3 | G103: 6
B104: EEE441 | C104: Communication Systems I | D104: 3 | E104: 2 | F104: 4 | G104: 7
B105: EEE442 | C105: Communication Systems II | D105: 3 | E105: 2 | F105: 4 | G105: 7
B106: EEE444 | C106: Digital Communication | D106: 3 | E106: 0 | F106: 3 | G106: 6
B108: MICROWAVE AND ANTENNAS (4 required + 3 technical electives)
B109: EEE441 | C109: Communication Systems I | D109: 3 | E109: 2 | F109: 4 | G109: 7
B110: EEE451 | C110: Microwave Techniques I | D110: 3 | E110: 2 | F110: 4 | G110: 7
B111: EEE454 | C111: Antennas | D111: 3 | E111: 2 | F111: 4 | G111: 7
B112: EEE456 | C112: Electromagnetic Modelling | D112: 3 | E112: 0 | F112: 3 | G112: 6
B114: BIOMEDICAL (3 required + 4 technical electives)
B115: EEE421 | C115: Digital Signal Processing | D115: 3 | E115: 0 | F115: 3 | G115: 6
B116: EEE461 | C116: Intro. to Biomedical Engineering | D116: 3 | E116: 2 | F116: 4 | G116: 7
B117: EEE462 | C117: Medical Imaging Systems | D117: 3 | E117: 0 | F117: 3 | G117: 6
B119: POWER SYSTEMS AND HIGH VOLTAGE TECHNOLOGY (4 required + 3 technical electives)
...
