Workbook

Sheet %30
A1: Elektrik-Elektronik MÜHENDİSLİĞİ (%30 İngilizce)
A4: SINIF | B4: Dersin Kodu | C4: Dersin Adı | D4: Ders Saati | F4: Kredi | G4: AKTS
D5: T* | E5: U** | I5: * Her dönem açılabilen ders
A6: 1.SINIF GÜZ DÖNEMİ | B6: EEE101 | C6: Intro. To Electrical-Electronics Eng. | D6: 1 | E6: 0 | F6: 1 | G6: 2 | I6: ** Özel Değerlendirmeli ders
B7: EEE103 | C7: Computer Programming | D7: 3 | E7: 2 | F7: 4 | G7: 6
B8: EEE105 | C8: Material Science | D8: 3 | E8: 0 | F8: 3 | G8: 5
B9: FIZ103 | C9: Fizik I | D9: 4 | E9: 0 | F9: 4 | G9: 6
B10: MATH 101 | C10: Mathematics I | D10: 4 | E10: 0 | F10: 4 | G10: 6
B11: ENG103 | C11: Advance English I | D11: 3 | E11: 0 | F11: 3 | G11: 3
B12: TAR101 | C12: Atatürk İlk. ve İnk. Tarihi - I | D12: 2 | E12: 0 | F12: 2 | G12: 2
C13: TOPLAM | F13: =SUM(F6:F12) -> 21 | G13: =SUM(G6:G12) -> 30
A15: 1.SINIF BAHAR DÖNEMİ | B15: EEE104 | C15: Logic Circuit Design | D15: 3 | E15: 0 | F15: 3 | G15: 5
B16: EEE106 | C16: Logic Circuit Design Laboratory | D16: 0 | E16: 2 | F16: 1 | G16: 2
B17: PHYS104 | C17: Physics II | D17: 4 | E17: 0 | F17: 4 | G17: 6
B18: FIZ156 | C18: Fizik Lab | D18: 0 | E18: 2 | F18: 1 | G18: 2
B19: MAT102 | C19: Matematik II | D19: 4 | E19: 0 | F19: 4 | G19: 6
B20: MAT198 | C20: Lineer Cebir | D20: 3 | E20: 0 | F20: 3 | G20: 4
B21: ENG104 | C21: Advance English II | D21: 3 | E21: 0 | F21: 3 | G21: 3
B22: TAR102 | C22: Atatürk İlk. ve İnk. Tarihi - II | D22: 2 | E22: 0 | F22: 2 | G22: 2
C23: TOPLAM | F23: =SUM(F15:F22) -> 21 | G23: =SUM(G15:G22) -> 30
A25: 2.SINIF GÜZ DÖNEMİ | B25: EEE201 | C25: Enginering Mathematics | D25: 3 | E25: 0 | F25: 3 | G25: 6
B26: EEE209 | C26: Probability and Statistics | D26: 3 | E26: 0 | F26: 3 | G26: 5
B27: EEE221(*) | C27: Circuit Theory I | D27: 4 | E27: 0 | F27: 4 | G27: 7
B28: EEE221(*) | C28: Circuit Theory Laboratory I | D28: 0 | E28: 2 | F28: 1 | G28: 2
B29: ENG203 | C29: Academic English I | D29: 3 | E29: 0 | F29: 3 | G29: 3
B30: MAT 201 | C30: Diferansiyel Denklemler | D30: 2 | E30: 2 | F30: 3 | G30: 5
B31: TÜR101 | C31: Türk Dili I | D31: 2 | E31: 0 | F31: 2 | G31: 2
C32: TOPLAM | F32: =SUM(F25:F31) -> 19 | G32: =SUM(G25:G31) -> 30
A35: 2.SINIF BAHAR DÖNEMİ | B35: EEE212 | C35: Analog Electronics I | D35: 4 | E35: 0 | F35: 4 | G35: 6
B36: EEE214 | C36: Analog Electronics Laboratory I | D36: 0 | E36: 2 | F36: 1 | G36: 2
B37: EEE222 | C37: Circuit Theory II | D37: 4 | E37: 0 | F37: 4 | G37: 6
B38: EEE224 | C38: Circuit Theory Laboratory II | D38: 0 | E38: 2 | F38: 1 | G38: 2
B39: EEE252 | C39: Electromagnetic Field Theory | D39: 4 | E39: 0 | F39: 4 | G39: 5
B40: ENG204 | C40: Academic English II | D40: 3 | E40: 0 | F40: 3 | G40: 3
B41: MATH296 | C41: Complex Analysis | D41: 3 | E41: 0 | F41: 3 | G41: 4
B42: TÜR102 | C42: Türk Dili II | D42: 2 | E42: 0 | F42: 2 | G42: 2
C43: TOPLAM | F43: =SUM(F35:F42) -> 22 | G43: =SUM(G35:G42) -> 30
A45: 3.SINIF GÜZ DÖNEMİ | B45: EEE301 | C45: Seminar | D45: 1 | E45: 0 | F45: 1 | G45: 2
B46: EEE311 | C46: Analog Electronics II | D46: 4 | E46: 0 | F46: 4 | G46: 6
B47: EEE313 | C47: Analog Electronics Laboratory II | D47: 0 | E47: 2 | F47: 1 | G47: 2
...

Sheet %100
A1: ELECTRIC-ELECTRONIC ENGINEERING (%100 ENGLISH)
A4: SINIF | B4: Dersin Kodu | C4: Dersin Adı | D4: Ders Saati | F4: Kredi | G4: AKTS
D5: T | E5: U
A6: 1.SINIF GÜZ DÖNEMİ | B6: EEE101 | C6: Intro. To Electrical-Electronics Eng. | D6: 1 | E6: 0 | F6: 1 | G6: 2 | I6: * Her dönem açılabilen ders
B7: EEE103 | C7: Computer Programming | D7: 3 | E7: 2 | F7: 4 | G7: 6 | I7: ** Özel Değerlendirmeli ders
B8: EEE105 | C8: Material Science | D8: 3 | E8: 0 | F8: 3 | G8: 5
B9: PHYS103 | C9: Physics I | D9: 4 | E9: 0 | F9: 4 | G9: 6
B10: MATH101 | C10: Mathematics I | D10: 4 | E10: 0 | F10: 4 | G10: 6
B11: ENG103 | C11: Advanced English I | D11: 3 | E11: 0 | F11: 3 | G11: 3
B12: TAR101 | C12: Atatürk İlk. ve İnk. Tarihi - I | D12: 2 | E12: 0 | F12: 2 | G12: 2
C13: TOPLAM | F13: =SUM(F6:F12) -> 21 | G13: =SUM(G6:G12) -> 30
A15: 1.SINIF BAHAR DÖNEMİ | B15: EEE104 | C15: Logic Circuit Design | D15: 3 | E15: 0 | F15: 3 | G15: 5
B16: EEE106 | C16: Logic Circuit Design Laboratory | D16: 0 | E16: 2 | F16: 1 | G16: 2
B17: PHYS104 | C17: Physics II | D17: 4 | E17: 0 | F17: 4 | G17: 6
B18: PHYS156 | C18: Physics Lab. | D18: 0 | E18: 2 | F18: 1 | G18: 2
B19: MATH102 | C19: Mathematics II | D19: 4 | E19: 0 | F19: 4 | G19: 6
B20: MATH198 | C20: Linear Algebra | D20: 3 | E20: 0 | F20: 3 | G20: 4
B21: ENG104 | C21: Advanced English II | D21: 3 | E21: 0 | F21: 3 | G21: 3
B22: TAR102 | C22: Atatürk İlk. ve İnk. Tarihi - II | D22: 2 | E22: 0 | F22: 2 | G22: 2
C23: TOPLAM | F23: =SUM(F15:F22) -> 21 | G23: =SUM(G15:G22) -> 30
A25: 2.SINIF GÜZ DÖNEMİ | B25: EEE201 | C25: Enginering Mathematics | D25: 3 | E25: 0 | F25: 3 | G25: 6
B26: EEE209 | C26: Probability and Statistics | D26: 3 | E26: 0 | F26: 3 | G26: 5
B27: EEE221 (*) | C27: Circuit Theory I | D27: 4 | E27: 0 | F27: 4 | G27: 7
B28: EEE223 | C28: Circuit Theory Laboratory I | D28: 0 | E28: 2 | F28: 1 | G28: 2
B29: ENG203 | C29: Academic English I | D29: 3 | E29: 0 | F29: 3 | G29: 3
B30: MATH201 | C30: Differential Equations | D30: 2 | E30: 2 | F30: 3 | G30: 5
B31: TÜR201 | C31: Türk Dili I | D31: 2 | E31: 0 | F31: 2 | G31: 2
C32: TOPLAM | F32: =SUM(F25:F31) -> 19 | G32: =SUM(G25:G31) -> 30
A35: 2.SINIF BAHAR DÖNEMİ | B35: EEE212 | C35: Analog Electronics I | D35: 4 | E35: 0 | F35: 4 | G35: 6
B36: EEE214 | C36: Analog Electronics Laboratory I | D36: 0 | E36: 2 | F36: 1 | G36: 2
B37: EEE222 | C37: Circuit Theory II | D37: 4 | E37: 0 | F37: 4 | G37: 6
B38: EEE224 | C38: Circuit Theory Laboratory II | D38: 0 | E38: 2 | F38: 1 | G38: 2
B39: EEE252 | C39: Electromagnetic Field Theory | D39: 4 | E39: 0 | F39: 4 | G39: 5
B40: ENG204 | C40: Academic English II | D40: 3 | E40: 0 | F40: 3 | G40: 3
B41: MATH 296 | C41: Complex Analysis | D41: 3 | E41: 0 | F41: 3 | G41: 4
B42: TÜR202 | C42: Türk Dili II | D42: 2 | E42: 0 | F42: 2 | G42: 2
C43: TOPLAM | F43: =SUM(F35:F42) -> 22 | G43: =SUM(G35:G42) -> 30
A45: 3.SINIF GÜZ DÖNEMİ | B45: EEE301 | C45: Seminar | D45: 1 | E45: 0 | F45: 1 | G45: 2
B46: EEE311 | C46: Analog Electronics II | D46: 4 | E46: 0 | F46: 4 | G46: 6
B47: EEE313 | C47: Analog Electronics Laboratory II | D47: 0 | E47: 2 | F47: 1 | G47: 2
...
