Workbook

Sheet GİRİŞ
A1: İLKÖĞRETİM BÖLÜMÜ MATEMATİK EĞİTİMİ ANABİLİM DALI 2013-2014 BAHAR ÖĞRETİM YILI HAFTALIK DERS PROGRAMI (İ.Ö.)
C4: =liste!H1&" "&"1. Sınıf" -> İkinci Öğretim 1. Sınıf | K4: =liste!H1&" "&"2. Sınıf" -> İkinci Öğretim 2. Sınıf | S4: =liste!H1&" "&"3. Sınıf" -> İkinci Öğretim 3. Sınıf | AA4: =liste!H1&" "&"4. Sınıf" -> İkinci Öğretim 4. Sınıf
C5: A GRUBU | E5: DN | G5: B GRUBU | I5: DN | K5: A GRUBU | M5: DN | O5: B GRUBU | Q5: DN | S5: A GRUBU | U5: DN | W5: B GRUBU | Y5: DN | AA5: A GRUBU | AC5: DN | AE5: B GRUBU | AG5: DN
A6: PAZARTESİ | B6: =liste!I1 -> 12:30-13:20 | C6: =IF(D6=1,liste!$B$1,IF(D6=2,liste!$B$2,IF(D6=3,liste!$B$3,IF(D6=4,liste!$B$4,IF(D6=5,liste!$B$5,IF(D6=6,liste!$B$6,IF(D6=7,liste!$B$7,IF(D6=8,liste!$B$8,IF(D6=9,liste!$B$9,IF(D6=10,liste!$B$10,IF(D6=11,liste!$B$11,IF(D6=12,liste!$B$12,IF(D6=13,liste!$B$13,IF(D6=14,liste!$B$14,IF(D6=15,liste!$B$15,IF(D6=16,liste!$B$16,IF(D6=17,liste!$B$17,IF(D6=18,liste!$B$18,IF(D6=19,liste!$B$19,IF(D6=20,liste!$B$20,IF(D6=21,liste!$B$21,IF(D6=22,liste!$B$22,IF(D6=23,liste!$B$23,IF(D6=24,liste!$B$24,IF(D6=25,liste!$B$25,IF(D6=26,liste!$B$26,IF(D6=27,liste!$B$27,IF(D6=28,liste!$B$28,IF(D6=29,liste!$B$29,IF(D6>=30,'2'!C6,"")))))))))))))))))))))))))))))) | E6: =IF(F6=1,liste!$F$1,IF(F6=2,liste!$F$2,IF(F6=3,liste!$F$3,IF(F6=4,liste!$F$4,IF(F6=5,liste!$F$5,IF(F6=6,liste!$F$6,IF(F6=7,liste!$F$7,IF(F6=8,liste!$F$8,IF(F6=9,liste!$F$9,IF(F6=10,liste!$F$10,IF(F6=11,liste!$F$11,IF(F6=12,liste!$F$12,IF(F6=13,liste!$F$13,IF(F6=14,liste!$F$14,IF(F6=15,liste!$F$15,IF(F6=16,liste!$F$16,IF(F6=17,liste!$F$17,IF(F6=18,liste!$F$18,IF(F6=19,liste!$F$19,IF(F6=20,liste!$F$20,"")))))))))))))))))))) | G6: =IF(H6=1,liste!$B$1,IF(H6=2,liste!$B$2,IF(H6=3,liste!$B$3,IF(H6=4,liste!$B$4,IF(H6=5,liste!$B$5,IF(H6=6,liste!$B$6,IF(H6=7,liste!$B$7,IF(H6=8,liste!$B$8,IF(H6=9,liste!$B$9,IF(H6=10,liste!$B$10,IF(H6=11,liste!$B$11,IF(H6=12,liste!$B$12,IF(H6=13,liste!$B$13,IF(H6=14,liste!$B$14,IF(H6=15,liste!$B$15,IF(H6=16,liste!$B$16,IF(H6=17,liste!$B$17,IF(H6=18,liste!$B$18,IF(H6=19,liste!$B$19,IF(H6=20,liste!$B$20,IF(H6=21,liste!$B$21,IF(H6=22,liste!$B$22,IF(H6=23,liste!$B$23,IF(H6=24,liste!$B$24,IF(H6=25,liste!$B$25,IF(H6=26,liste!$B$26,IF(H6=27,liste!$B$27,IF(H6=28,liste!$B$28,IF(H6=29,liste!$B$29,IF(H6>=30,'2'!G6,"")))))))))))))))))))))))))))))) | I6: =IF(J6=1,liste!$F$1,IF(J6=2,liste!$F$2,IF(J6=3,liste!$F$3,IF(J6=4,liste!$F$4,IF(J6=5,liste!$F$5,IF(J6=6,liste!$F$6,IF(J6=7,liste!$F$7,IF(J6=8,liste!$F$8,IF(J6=9,liste!$F$9,IF(J6=10,liste!$F$10,IF(J6=11,liste!$F$11,IF(J6=12,liste!$F$12,IF(J6=13,liste!$F$13,IF(J6=14,liste!$F$14,IF(J6=15,liste!$F$15,IF(J6=16,liste!$F$16,IF(J6=17,liste!$F$17,IF(J6=18,liste!$F$18,IF(J6=19,liste!$F$19,IF(J6=20,liste!$F$20,"")))))))))))))))))))) | K6: =IF(L6=1,liste!$B$1,IF(L6=2,liste!$B$2,IF(L6=3,liste!$B$3,IF(L6=4,liste!$B$4,IF(L6=5,liste!$B$5,IF(L6=6,liste!$B$6,IF(L6=7,liste!$B$7,IF(L6=8,liste!$B$8,IF(L6=9,liste!$B$9,IF(L6=10,liste!$B$10,IF(L6=11,liste!$B$11,IF(L6=12,liste!$B$12,IF(L6=13,liste!$B$13,IF(L6=14,liste!$B$14,IF(L6=15,liste!$B$15,IF(L6=16,liste!$B$16,IF(L6=17,liste!$B$17,IF(L6=18,liste!$B$18,IF(L6=19,liste!$B$19,IF(L6=20,liste!$B$20,IF(L6=21,liste!$B$21,IF(L6=22,liste!$B$22,IF(L6=23,liste!$B$23,IF(L6=24,liste!$B$24,IF(L6=25,liste!$B$25,IF(L6=26,liste!$B$26,IF(L6=27,liste!$B$27,IF(L6=28,liste!$B$28,IF(L6=29,liste!$B$29,IF(L6>=30,'2'!K6,"")))))))))))))))))))))))))))))) | M6: =IF(N6=1,liste!$F$1,IF(N6=2,liste!$F$2,IF(N6=3,liste!$F$3,IF(N6=4,liste!$F$4,IF(N6=5,liste!$F$5,IF(N6=6,liste!$F$6,IF(N6=7,liste!$F$7,IF(N6=8,liste!$F$8,IF(N6=9,liste!$F$9,IF(N6=10,liste!$F$10,IF(N6=11,liste!$F$11,IF(N6=12,liste!$F$12,IF(N6=13,liste!$F$13,IF(N6=14,liste!$F$14,IF(N6=15,liste!$F$15,IF(N6=16,liste!$F$16,IF(N6=17,liste!$F$17,IF(N6=18,liste!$F$18,IF(N6=19,liste!$F$19,IF(N6=20,liste!$F$20,"")))))))))))))))))))) | O6: =IF(P6=1,liste!$B$1,IF(P6=2,liste!$B$2,IF(P6=3,liste!$B$3,IF(P6=4,liste!$B$4,IF(P6=5,liste!$B$5,IF(P6=6,liste!$B$6,IF(P6=7,liste!$B$7,IF(P6=8,liste!$B$8,IF(P6=9,liste!$B$9,IF(P6=10,liste!$B$10,IF(P6=11,liste!$B$11,IF(P6=12,liste!$B$12,IF(P6=13,liste!$B$13,IF(P6=14,liste!$B$14,IF(P6=15,liste!$B$15,IF(P6=16,liste!$B$16,IF(P6=17,liste!$B$17,IF(P6=18,liste!$B$18,IF(P6=19,liste!$B$19,IF(P6=20,liste!$B$20,IF(P6=21,liste!$B$21,IF(P6=22,liste!$B$22,IF(P6=23,liste!$B$23,IF(P6=24,liste!$B$24,IF(P6=25,liste!$B$25,IF(P6=26,liste!$B$26,IF(P6=27,liste!$B$27,IF(P6=28,liste!$B$28,IF(P6=29,liste!$B$29,IF(P6>=30,'2'!O6,"")))))))))))))))))))))))))))))) | Q6: =IF(R6=1,liste!$F$1,IF(R6=2,liste!$F$2,IF(R6=3,liste!$F$3,IF(R6=4,liste!$F$4,IF(R6=5,liste!$F$5,IF(R6=6,liste!$F$6,IF(R6=7,liste!$F$7,IF(R6=8,liste!$F$8,IF(R6=9,liste!$F$9,IF(R6=10,liste!$F$10,IF(R6=11,liste!$F$11,IF(R6=12,liste!$F$12,IF(R6=13,liste!$F$13,IF(R6=14,liste!$F$14,IF(R6=15,liste!$F$15,IF(R6=16,liste!$F$16,IF(R6=17,liste!$F$17,IF(R6=18,liste!$F$18,IF(R6=19,liste!$F$19,IF(R6=20,liste!$F$20,"")))))))))))))))))))) | S6: =IF(T6=1,liste!$B$1,IF(T6=2,liste!$B$2,IF(T6=3,liste!$B$3,IF(T6=4,liste!$B$4,IF(T6=5,liste!$B$5,IF(T6=6,liste!$B$6,IF(T6=7,liste!$B$7,IF(T6=8,liste!$B$8,IF(T6=9,liste!$B$9,IF(T6=10,liste!$B$10,IF(T6=11,liste!$B$11,IF(T6=12,liste!$B$12,IF(T6=13,liste!$B$13,IF(T6=14,liste!$B$14,IF(T6=15,liste!$B$15,IF(T6=16,liste!$B$16,IF(T6=17,liste!$B$17,IF(T6=18,liste!$B$18,IF(T6=19,liste!$B$19,IF(T6=20,liste!$B$20,IF(T6=21,liste!$B$21,IF(T6=22,liste!$B$22,IF(T6=23,liste!$B$23,IF(T6=24,liste!$B$24,IF(T6=25,liste!$B$25,IF(T6=26,liste!$B$26,IF(T6=27,liste!$B$27,IF(T6=28,liste!$B$28,IF(T6=29,liste!$B$29,IF(T6>=30,'2'!S6,"")))))))))))))))))))))))))))))) | U6: =IF(V6=1,liste!$F$1,IF(V6=2,liste!$F$2,IF(V6=3,liste!$F$3,IF(V6=4,liste!$F$4,IF(V6=5,liste!$F$5,IF(V6=6,liste!$F$6,IF(V6=7,liste!$F$7,IF(V6=8,liste!$F$8,IF(V6=9,liste!$F$9,IF(V6=10,liste!$F$10,IF(V6=11,liste!$F$11,IF(V6=12,liste!$F$12,IF(V6=13,liste!$F$13,IF(V6=14,liste!$F$14,IF(V6=15,liste!$F$15,IF(V6=16,liste!$F$16,IF(V6=17,liste!$F$17,IF(V6=18,liste!$F$18,IF(V6=19,liste!$F$19,IF(V6=20,liste!$F$20,"")))))))))))))))))))) | W6: =IF(X6=1,liste!$B$1,IF(X6=2,liste!$B$2,IF(X6=3,liste!$B$3,IF(X6=4,liste!$B$4,IF(X6=5,liste!$B$5,IF(X6=6,liste!$B$6,IF(X6=7,liste!$B$7,IF(X6=8,liste!$B$8,IF(X6=9,liste!$B$9,IF(X6=10,liste!$B$10,IF(X6=11,liste!$B$11,IF(X6=12,liste!$B$12,IF(X6=13,liste!$B$13,IF(X6=14,liste!$B$14,IF(X6=15,liste!$B$15,IF(X6=16,liste!$B$16,IF(X6=17,liste!$B$17,IF(X6=18,liste!$B$18,IF(X6=19,liste!$B$19,IF(X6=20,liste!$B$20,IF(X6=21,liste!$B$21,IF(X6=22,liste!$B$22,IF(X6=23,liste!$B$23,IF(X6=24,liste!$B$24,IF(X6=25,liste!$B$25,IF(X6=26,liste!$B$26,IF(X6=27,liste!$B$27,IF(X6=28,liste!$B$28,IF(X6=29,liste!$B$29,IF(X6>=30,'2'!W6,"")))))))))))))))))))))))))))))) | Y6: =IF(Z6=1,liste!$F$1,IF(Z6=2,liste!$F$2,IF(Z6=3,liste!$F$3,IF(Z6=4,liste!$F$4,IF(Z6=5,liste!$F$5,IF(Z6=6,liste!$F$6,IF(Z6=7,liste!$F$7,IF(Z6=8,liste!$F$8,IF(Z6=9,liste!$F$9,IF(Z6=10,liste!$F$10,IF(Z6=11,liste!$F$11,IF(Z6=12,liste!$F$12,IF(Z6=13,liste!$F$13,IF(Z6=14,liste!$F$14,IF(Z6=15,liste!$F$15,IF(Z6=16,liste!$F$16,IF(Z6=17,liste!$F$17,IF(Z6=18,liste!$F$18,IF(Z6=19,liste!$F$19,IF(Z6=20,liste!$F$20,"")))))))))))))))))))) | AA6: =IF(AB6=1,liste!$B$1,IF(AB6=2,liste!$B$2,IF(AB6=3,liste!$B$3,IF(AB6=4,liste!$B$4,IF(AB6=5,liste!$B$5,IF(AB6=6,liste!$B$6,IF(AB6=7,liste!$B$7,IF(AB6=8,liste!$B$8,IF(AB6=9,liste!$B$9,IF(AB6=10,liste!$B$10,IF(AB6=11,liste!$B$11,IF(AB6=12,liste!$B$12,IF(AB6=13,liste!$B$13,IF(AB6=14,liste!$B$14,IF(AB6=15,liste!$B$15,IF(AB6=16,liste!$B$16,IF(AB6=17,liste!$B$17,IF(AB6=18,liste!$B$18,IF(AB6=19,liste!$B$19,IF(AB6=20,liste!$B$20,IF(AB6=21,liste!$B$21,IF(AB6=22,liste!$B$22,IF(AB6=23,liste!$B$23,IF(AB6=24,liste!$B$24,IF(AB6=25,liste!$B$25,IF(AB6=26,liste!$B$26,IF(AB6=27,liste!$B$27,IF(AB6=28,liste!$B$28,IF(AB6=29,liste!$B$29,IF(AB6>=30,'2'!AA6,"")))))))))))))))))))))))))))))) | AC6: =IF(AD6=1,liste!$F$1,IF(AD6=2,liste!$F$2,IF(AD6=3,liste!$F$3,IF(AD6=4,liste!$F$4,IF(AD6=5,liste!$F$5,IF(AD6=6,liste!$F$6,IF(AD6=7,liste!$F$7,IF(AD6=8,liste!$F$8,IF(AD6=9,liste!$F$9,IF(AD6=10,liste!$F$10,IF(AD6=11,liste!$F$11,IF(AD6=12,liste!$F$12,IF(AD6=13,liste!$F$13,IF(AD6=14,liste!$F$14,IF(AD6=15,liste!$F$15,IF(AD6=16,liste!$F$16,IF(AD6=17,liste!$F$17,IF(AD6=18,liste!$F$18,IF(AD6=19,liste!$F$19,IF(AD6=20,liste!$F$20,"")))))))))))))))))))) | AE6: =IF(AF6=1,liste!$B$1,IF(AF6=2,liste!$B$2,IF(AF6=3,liste!$B$3,IF(AF6=4,liste!$B$4,IF(AF6=5,liste!$B$5,IF(AF6=6,liste!$B$6,IF(AF6=7,liste!$B$7,IF(AF6=8,liste!$B$8,IF(AF6=9,liste!$B$9,IF(AF6=10,liste!$B$10,IF(AF6=11,liste!$B$11,IF(AF6=12,liste!$B$12,IF(AF6=13,liste!$B$13,IF(AF6=14,liste!$B$14,IF(AF6=15,liste!$B$15,IF(AF6=16,liste!$B$16,IF(AF6=17,liste!$B$17,IF(AF6=18,liste!$B$18,IF(AF6=19,liste!$B$19,IF(AF6=20,liste!$B$20,IF(AF6=21,liste!$B$21,IF(AF6=22,liste!$B$22,IF(AF6=23,liste!$B$23,IF(AF6=24,liste!$B$24,IF(AF6=25,liste!$B$25,IF(AF6=26,liste!$B$26,IF(AF6=27,liste!$B$27,IF(AF6=28,liste!$B$28,IF(AF6=29,liste!$B$29,IF(AF6>=30,'2'!AE6,"")))))))))))))))))))))))))))))) | AG6: =IF(AH6=1,liste!$F$1,IF(AH6=2,liste!$F$2,IF(AH6=3,liste!$F$3,IF(AH6=4,liste!$F$4,IF(AH6=5,liste!$F$5,IF(AH6=6,liste!$F$6,IF(AH6=7,liste!$F$7,IF(AH6=8,liste!$F$8,IF(AH6=9,liste!$F$9,IF(AH6=10,liste!$F$10,IF(AH6=11,liste!$F$11,IF(AH6=12,liste!$F$12,IF(AH6=13,liste!$F$13,IF(AH6=14,liste!$F$14,IF(AH6=15,liste!$F$15,IF(AH6=16,liste!$F$16,IF(AH6=17,liste!$F$17,IF(AH6=18,liste!$F$18,IF(AH6=19,liste!$F$19,IF(AH6=20,liste!$F$20,""))))))))))))))))))))
C7: =IF(D7=1,liste!$D$1,IF(D7=2,liste!$D$2,IF(D7=3,liste!$D$3,IF(D7=4,liste!$D$4,IF(D7=5,liste!$D$5,IF(D7=6,liste!$D$6,IF(D7=7,liste!$D$7,IF(D7=8,liste!$D$8,IF(D7=9,liste!$D$9,IF(D7=10,liste!$D$10,IF(D7=11,liste!$D$11,IF(D7=12,liste!$D$12,IF(D7=13,liste!$D$13,IF(D7=14,liste!$D$14,IF(D7=15,liste!$D$15,IF(D7=16,liste!$D$16,IF(D7=17,liste!$D$17,IF(D7=18,liste!$D$18,IF(D7=19,liste!$D$19,IF(D7=20,liste!$D$20,IF(D7=21,liste!$D$21,IF(D7=22,liste!$D$22,IF(D7=23,liste!$D$23,IF(D7=24,liste!$D$24,IF(D7=25,liste!$D$25,IF(D7=26,liste!$D$26,IF(D7=27,liste!$D$27,IF(D7=28,liste!$D$28,IF(D7=29,liste!$D$29,IF(D7>=30,'2'!C7,"")))))))))))))))))))))))))))))) | G7: =IF(H7=1,liste!$D$1,IF(H7=2,liste!$D$2,IF(H7=3,liste!$D$3,IF(H7=4,liste!$D$4,IF(H7=5,liste!$D$5,IF(H7=6,liste!$D$6,IF(H7=7,liste!$D$7,IF(H7=8,liste!$D$8,IF(H7=9,liste!$D$9,IF(H7=10,liste!$D$10,IF(H7=11,liste!$D$11,IF(H7=12,liste!$D$12,IF(H7=13,liste!$D$13,IF(H7=14,liste!$D$14,IF(H7=15,liste!$D$15,IF(H7=16,liste!$D$16,IF(H7=17,liste!$D$17,IF(H7=18,liste!$D$18,IF(H7=19,liste!$D$19,IF(H7=20,liste!$D$20,IF(H7=21,liste!$D$21,IF(H7=22,liste!$D$22,IF(H7=23,liste!$D$23,IF(H7=24,liste!$D$24,IF(H7=25,liste!$D$25,IF(H7=26,liste!$D$26,IF(H7=27,liste!$D$27,IF(H7=28,liste!$D$28,IF(H7=29,liste!$D$29,IF(H7>=30,'2'!G7,"")))))))))))))))))))))))))))))) | K7: =IF(L7=1,liste!$D$1,IF(L7=2,liste!$D$2,IF(L7=3,liste!$D$3,IF(L7=4,liste!$D$4,IF(L7=5,liste!$D$5,IF(L7=6,liste!$D$6,IF(L7=7,liste!$D$7,IF(L7=8,liste!$D$8,IF(L7=9,liste!$D$9,IF(L7=10,liste!$D$10,IF(L7=11,liste!$D$11,IF(L7=12,liste!$D$12,IF(L7=13,liste!$D$13,IF(L7=14,liste!$D$14,IF(L7=15,liste!$D$15,IF(L7=16,liste!$D$16,IF(L7=17,liste!$D$17,IF(L7=18,liste!$D$18,IF(L7=19,liste!$D$19,IF(L7=20,liste!$D$20,IF(L7=21,liste!$D$21,IF(L7=22,liste!$D$22,IF(L7=23,liste!$D$23,IF(L7=24,liste!$D$24,IF(L7=25,liste!$D$25,IF(L7=26,liste!$D$26,IF(L7=27,liste!$D$27,IF(L7=28,liste!$D$28,IF(L7=29,liste!$D$29,IF(L7>=30,'2'!K7,"")))))))))))))))))))))))))))))) | O7: =IF(P7=1,liste!$D$1,IF(P7=2,liste!$D$2,IF(P7=3,liste!$D$3,IF(P7=4,liste!$D$4,IF(P7=5,liste!$D$5,IF(P7=6,liste!$D$6,IF(P7=7,liste!$D$7,IF(P7=8,liste!$D$8,IF(P7=9,liste!$D$9,IF(P7=10,liste!$D$10,IF(P7=11,liste!$D$11,IF(P7=12,liste!$D$12,IF(P7=13,liste!$D$13,IF(P7=14,liste!$D$14,IF(P7=15,liste!$D$15,IF(P7=16,liste!$D$16,IF(P7=17,liste!$D$17,IF(P7=18,liste!$D$18,IF(P7=19,liste!$D$19,IF(P7=20,liste!$D$20,IF(P7=21,liste!$D$21,IF(P7=22,liste!$D$22,IF(P7=23,liste!$D$23,IF(P7=24,liste!$D$24,IF(P7=25,liste!$D$25,IF(P7=26,liste!$D$26,IF(P7=27,liste!$D$27,IF(P7=28,liste!$D$28,IF(P7=29,liste!$D$29,IF(P7>=30,'2'!O7,"")))))))))))))))))))))))))))))) | S7: =IF(T7=1,liste!$D$1,IF(T7=2,liste!$D$2,IF(T7=3,liste!$D$3,IF(T7=4,liste!$D$4,IF(T7=5,liste!$D$5,IF(T7=6,liste!$D$6,IF(T7=7,liste!$D$7,IF(T7=8,liste!$D$8,IF(T7=9,liste!$D$9,IF(T7=10,liste!$D$10,IF(T7=11,liste!$D$11,IF(T7=12,liste!$D$12,IF(T7=13,liste!$D$13,IF(T7=14,liste!$D$14,IF(T7=15,liste!$D$15,IF(T7=16,liste!$D$16,IF(T7=17,liste!$D$17,IF(T7=18,liste!$D$18,IF(T7=19,liste!$D$19,IF(T7=20,liste!$D$20,IF(T7=21,liste!$D$21,IF(T7=22,liste!$D$22,IF(T7=23,liste!$D$23,IF(T7=24,liste!$D$24,IF(T7=25,liste!$D$25,IF(T7=26,liste!$D$26,IF(T7=27,liste!$D$27,IF(T7=28,liste!$D$28,IF(T7=29,liste!$D$29,IF(T7>=30,'2'!S7,"")))))))))))))))))))))))))))))) | W7: =IF(X7=1,liste!$D$1,IF(X7=2,liste!$D$2,IF(X7=3,liste!$D$3,IF(X7=4,liste!$D$4,IF(X7=5,liste!$D$5,IF(X7=6,liste!$D$6,IF(X7=7,liste!$D$7,IF(X7=8,liste!$D$8,IF(X7=9,liste!$D$9,IF(X7=10,liste!$D$10,IF(X7=11,liste!$D$11,IF(X7=12,liste!$D$12,IF(X7=13,liste!$D$13,IF(X7=14,liste!$D$14,IF(X7=15,liste!$D$15,IF(X7=16,liste!$D$16,IF(X7=17,liste!$D$17,IF(X7=18,liste!$D$18,IF(X7=19,liste!$D$19,IF(X7=20,liste!$D$20,IF(X7=21,liste!$D$21,IF(X7=22,liste!$D$22,IF(X7=23,liste!$D$23,IF(X7=24,liste!$D$24,IF(X7=25,liste!$D$25,IF(X7=26,liste!$D$26,IF(X7=27,liste!$D$27,IF(X7=28,liste!$D$28,IF(X7=29,liste!$D$29,IF(X7>=30,'2'!W7,"")))))))))))))))))))))))))))))) | AA7: =IF(AB7=1,liste!$D$1,IF(AB7=2,liste!$D$2,IF(AB7=3,liste!$D$3,IF(AB7=4,liste!$D$4,IF(AB7=5,liste!$D$5,IF(AB7=6,liste!$D$6,IF(AB7=7,liste!$D$7,IF(AB7=8,liste!$D$8,IF(AB7=9,liste!$D$9,IF(AB7=10,liste!$D$10,IF(AB7=11,liste!$D$11,IF(AB7=12,liste!$D$12,IF(AB7=13,liste!$D$13,IF(AB7=14,liste!$D$14,IF(AB7=15,liste!$D$15,IF(AB7=16,liste!$D$16,IF(AB7=17,liste!$D$17,IF(AB7=18,liste!$D$18,IF(AB7=19,liste!$D$19,IF(AB7=20,liste!$D$20,IF(AB7=21,liste!$D$21,IF(AB7=22,liste!$D$22,IF(AB7=23,liste!$D$23,IF(AB7=24,liste!$D$24,IF(AB7=25,liste!$D$25,IF(AB7=26,liste!$D$26,IF(AB7=27,liste!$D$27,IF(AB7=28,liste!$D$28,IF(AB7=29,liste!$D$29,IF(AB7>=30,'2'!AA7,"")))))))))))))))))))))))))))))) | AE7: =IF(AF7=1,liste!$D$1,IF(AF7=2,liste!$D$2,IF(AF7=3,liste!$D$3,IF(AF7=4,liste!$D$4,IF(AF7=5,liste!$D$5,IF(AF7=6,liste!$D$6,IF(AF7=7,liste!$D$7,IF(AF7=8,liste!$D$8,IF(AF7=9,liste!$D$9,IF(AF7=10,liste!$D$10,IF(AF7=11,liste!$D$11,IF(AF7=12,liste!$D$12,IF(AF7=13,liste!$D$13,IF(AF7=14,liste!$D$14,IF(AF7=15,liste!$D$15,IF(AF7=16,liste!$D$16,IF(AF7=17,liste!$D$17,IF(AF7=18,liste!$D$18,IF(AF7=19,liste!$D$19,IF(AF7=20,liste!$D$20,IF(AF7=21,liste!$D$21,IF(AF7=22,liste!$D$22,IF(AF7=23,liste!$D$23,IF(AF7=24,liste!$D$24,IF(AF7=25,liste!$D$25,IF(AF7=26,liste!$D$26,IF(AF7=27,liste!$D$27,IF(AF7=28,liste!$D$28,IF(AF7=29,liste!$D$29,IF(AF7>=30,'2'!AE7,""))))))))))))))))))))))))))))))
B8: =liste!I2 -> 13:30-14:20 | C8: =IF(D8=1,liste!$B$1,IF(D8=2,liste!$B$2,IF(D8=3,liste!$B$3,IF(D8=4,liste!$B$4,IF(D8=5,liste!$B$5,IF(D8=6,liste!$B$6,IF(D8=7,liste!$B$7,IF(D8=8,liste!$B$8,IF(D8=9,liste!$B$9,IF(D8=10,liste!$B$10,IF(D8=11,liste!$B$11,IF(D8=12,liste!$B$12,IF(D8=13,liste!$B$13,IF(D8=14,liste!$B$14,IF(D8=15,liste!$B$15,IF(D8=16,liste!$B$16,IF(D8=17,liste!$B$17,IF(D8=18,liste!$B$18,IF(D8=19,liste!$B$19,IF(D8=20,liste!$B$20,IF(D8=21,liste!$B$21,IF(D8=22,liste!$B$22,IF(D8=23,liste!$B$23,IF(D8=24,liste!$B$24,IF(D8=25,liste!$B$25,IF(D8=26,liste!$B$26,IF(D8=27,liste!$B$27,IF(D8=28,liste!$B$28,IF(D8=29,liste!$B$29,IF(D8>=30,'2'!C8,"")))))))))))))))))))))))))))))) | E8: =IF(F8=1,liste!$F$1,IF(F8=2,liste!$F$2,IF(F8=3,liste!$F$3,IF(F8=4,liste!$F$4,IF(F8=5,liste!$F$5,IF(F8=6,liste!$F$6,IF(F8=7,liste!$F$7,IF(F8=8,liste!$F$8,IF(F8=9,liste!$F$9,IF(F8=10,liste!$F$10,IF(F8=11,liste!$F$11,IF(F8=12,liste!$F$12,IF(F8=13,liste!$F$13,IF(F8=14,liste!$F$14,IF(F8=15,liste!$F$15,IF(F8=16,liste!$F$16,IF(F8=17,liste!$F$17,IF(F8=18,liste!$F$18,IF(F8=19,liste!$F$19,IF(F8=20,liste!$F$20,"")))))))))))))))))))) | G8: =IF(H8=1,liste!$B$1,IF(H8=2,liste!$B$2,IF(H8=3,liste!$B$3,IF(H8=4,liste!$B$4,IF(H8=5,liste!$B$5,IF(H8=6,liste!$B$6,IF(H8=7,liste!$B$7,IF(H8=8,liste!$B$8,IF(H8=9,liste!$B$9,IF(H8=10,liste!$B$10,IF(H8=11,liste!$B$11,IF(H8=12,liste!$B$12,IF(H8=13,liste!$B$13,IF(H8=14,liste!$B$14,IF(H8=15,liste!$B$15,IF(H8=16,liste!$B$16,IF(H8=17,liste!$B$17,IF(H8=18,liste!$B$18,IF(H8=19,liste!$B$19,IF(H8=20,liste!$B$20,IF(H8=21,liste!$B$21,IF(H8=22,liste!$B$22,IF(H8=23,liste!$B$23,IF(H8=24,liste!$B$24,IF(H8=25,liste!$B$25,IF(H8=26,liste!$B$26,IF(H8=27,liste!$B$27,IF(H8=28,liste!$B$28,IF(H8=29,liste!$B$29,IF(H8>=30,'2'!G8,"")))))))))))))))))))))))))))))) | I8: =IF(J8=1,liste!$F$1,IF(J8=2,liste!$F$2,IF(J8=3,liste!$F$3,IF(J8=4,liste!$F$4,IF(J8=5,liste!$F$5,IF(J8=6,liste!$F$6,IF(J8=7,liste!$F$7,IF(J8=8,liste!$F$8,IF(J8=9,liste!$F$9,IF(J8=10,liste!$F$10,IF(J8=11,liste!$F$11,IF(J8=12,liste!$F$12,IF(J8=13,liste!$F$13,IF(J8=14,liste!$F$14,IF(J8=15,liste!$F$15,IF(J8=16,liste!$F$16,IF(J8=17,liste!$F$17,IF(J8=18,liste!$F$18,IF(J8=19,liste!$F$19,IF(J8=20,liste!$F$20,"")))))))))))))))))))) | K8: =IF(L8=1,liste!$B$1,IF(L8=2,liste!$B$2,IF(L8=3,liste!$B$3,IF(L8=4,liste!$B$4,IF(L8=5,liste!$B$5,IF(L8=6,liste!$B$6,IF(L8=7,liste!$B$7,IF(L8=8,liste!$B$8,IF(L8=9,liste!$B$9,IF(L8=10,liste!$B$10,IF(L8=11,liste!$B$11,IF(L8=12,liste!$B$12,IF(L8=13,liste!$B$13,IF(L8=14,liste!$B$14,IF(L8=15,liste!$B$15,IF(L8=16,liste!$B$16,IF(L8=17,liste!$B$17,IF(L8=18,liste!$B$18,IF(L8=19,liste!$B$19,IF(L8=20,liste!$B$20,IF(L8=21,liste!$B$21,IF(L8=22,liste!$B$22,IF(L8=23,liste!$B$23,IF(L8=24,liste!$B$24,IF(L8=25,liste!$B$25,IF(L8=26,liste!$B$26,IF(L8=27,liste!$B$27,IF(L8=28,liste!$B$28,IF(L8=29,liste!$B$29,IF(L8>=30,'2'!K8,"")))))))))))))))))))))))))))))) | M8: =IF(N8=1,liste!$F$1,IF(N8=2,liste!$F$2,IF(N8=3,liste!$F$3,IF(N8=4,liste!$F$4,IF(N8=5,liste!$F$5,IF(N8=6,liste!$F$6,IF(N8=7,liste!$F$7,IF(N8=8,liste!$F$8,IF(N8=9,liste!$F$9,IF(N8=10,liste!$F$10,IF(N8=11,liste!$F$11,IF(N8=12,liste!$F$12,IF(N8=13,liste!$F$13,IF(N8=14,liste!$F$14,IF(N8=15,liste!$F$15,IF(N8=16,liste!$F$16,IF(N8=17,liste!$F$17,IF(N8=18,liste!$F$18,IF(N8=19,liste!$F$19,IF(N8=20,liste!$F$20,"")))))))))))))))))))) | O8: =IF(P8=1,liste!$B$1,IF(P8=2,liste!$B$2,IF(P8=3,liste!$B$3,IF(P8=4,liste!$B$4,IF(P8=5,liste!$B$5,IF(P8=6,liste!$B$6,IF(P8=7,liste!$B$7,IF(P8=8,liste!$B$8,IF(P8=9,liste!$B$9,IF(P8=10,liste!$B$10,IF(P8=11,liste!$B$11,IF(P8=12,liste!$B$12,IF(P8=13,liste!$B$13,IF(P8=14,liste!$B$14,IF(P8=15,liste!$B$15,IF(P8=16,liste!$B$16,IF(P8=17,liste!$B$17,IF(P8=18,liste!$B$18,IF(P8=19,liste!$B$19,IF(P8=20,liste!$B$20,IF(P8=21,liste!$B$21,IF(P8=22,liste!$B$22,IF(P8=23,liste!$B$23,IF(P8=24,liste!$B$24,IF(P8=25,liste!$B$25,IF(P8=26,liste!$B$26,IF(P8=27,liste!$B$27,IF(P8=28,liste!$B$28,IF(P8=29,liste!$B$29,IF(P8>=30,'2'!O8,"")))))))))))))))))))))))))))))) | Q8: =IF(R8=1,liste!$F$1,IF(R8=2,liste!$F$2,IF(R8=3,liste!$F$3,IF(R8=4,liste!$F$4,IF(R8=5,liste!$F$5,IF(R8=6,liste!$F$6,IF(R8=7,liste!$F$7,IF(R8=8,liste!$F$8,IF(R8=9,liste!$F$9,IF(R8=10,liste!$F$10,IF(R8=11,liste!$F$11,IF(R8=12,liste!$F$12,IF(R8=13,liste!$F$13,IF(R8=14,liste!$F$14,IF(R8=15,liste!$F$15,IF(R8=16,liste!$F$16,IF(R8=17,liste!$F$17,IF(R8=18,liste!$F$18,IF(R8=19,liste!$F$19,IF(R8=20,liste!$F$20,"")))))))))))))))))))) | S8: =IF(T8=1,liste!$B$1,IF(T8=2,liste!$B$2,IF(T8=3,liste!$B$3,IF(T8=4,liste!$B$4,IF(T8=5,liste!$B$5,IF(T8=6,liste!$B$6,IF(T8=7,liste!$B$7,IF(T8=8,liste!$B$8,IF(T8=9,liste!$B$9,IF(T8=10,liste!$B$10,IF(T8=11,liste!$B$11,IF(T8=12,liste!$B$12,IF(T8=13,liste!$B$13,IF(T8=14,liste!$B$14,IF(T8=15,liste!$B$15,IF(T8=16,liste!$B$16,IF(T8=17,liste!$B$17,IF(T8=18,liste!$B$18,IF(T8=19,liste!$B$19,IF(T8=20,liste!$B$20,IF(T8=21,liste!$B$21,IF(T8=22,liste!$B$22,IF(T8=23,liste!$B$23,IF(T8=24,liste!$B$24,IF(T8=25,liste!$B$25,IF(T8=26,liste!$B$26,IF(T8=27,liste!$B$27,IF(T8=28,liste!$B$28,IF(T8=29,liste!$B$29,IF(T8>=30,'2'!S8,"")))))))))))))))))))))))))))))) | U8: =IF(V8=1,liste!$F$1,IF(V8=2,liste!$F$2,IF(V8=3,liste!$F$3,IF(V8=4,liste!$F$4,IF(V8=5,liste!$F$5,IF(V8=6,liste!$F$6,IF(V8=7,liste!$F$7,IF(V8=8,liste!$F$8,IF(V8=9,liste!$F$9,IF(V8=10,liste!$F$10,IF(V8=11,liste!$F$11,IF(V8=12,liste!$F$12,IF(V8=13,liste!$F$13,IF(V8=14,liste!$F$14,IF(V8=15,liste!$F$15,IF(V8=16,liste!$F$16,IF(V8=17,liste!$F$17,IF(V8=18,liste!$F$18,IF(V8=19,liste!$F$19,IF(V8=20,liste!$F$20,"")))))))))))))))))))) | W8: =IF(X8=1,liste!$B$1,IF(X8=2,liste!$B$2,IF(X8=3,liste!$B$3,IF(X8=4,liste!$B$4,IF(X8=5,liste!$B$5,IF(X8=6,liste!$B$6,IF(X8=7,liste!$B$7,IF(X8=8,liste!$B$8,IF(X8=9,liste!$B$9,IF(X8=10,liste!$B$10,IF(X8=11,liste!$B$11,IF(X8=12,liste!$B$12,IF(X8=13,liste!$B$13,IF(X8=14,liste!$B$14,IF(X8=15,liste!$B$15,IF(X8=16,liste!$B$16,IF(X8=17,liste!$B$17,IF(X8=18,liste!$B$18,IF(X8=19,liste!$B$19,IF(X8=20,liste!$B$20,IF(X8=21,liste!$B$21,IF(X8=22,liste!$B$22,IF(X8=23,liste!$B$23,IF(X8=24,liste!$B$24,IF(X8=25,liste!$B$25,IF(X8=26,liste!$B$26,IF(X8=27,liste!$B$27,IF(X8=28,liste!$B$28,IF(X8=29,liste!$B$29,IF(X8>=30,'2'!W8,"")))))))))))))))))))))))))))))) | Y8: =IF(Z8=1,liste!$F$1,IF(Z8=2,liste!$F$2,IF(Z8=3,liste!$F$3,IF(Z8=4,liste!$F$4,IF(Z8=5,liste!$F$5,IF(Z8=6,liste!$F$6,IF(Z8=7,liste!$F$7,IF(Z8=8,liste!$F$8,IF(Z8=9,liste!$F$9,IF(Z8=10,liste!$F$10,IF(Z8=11,liste!$F$11,IF(Z8=12,liste!$F$12,IF(Z8=13,liste!$F$13,IF(Z8=14,liste!$F$14,IF(Z8=15,liste!$F$15,IF(Z8=16,liste!$F$16,IF(Z8=17,liste!$F$17,IF(Z8=18,liste!$F$18,IF(Z8=19,liste!$F$19,IF(Z8=20,liste!$F$20,"")))))))))))))))))))) | AA8: =IF(AB8=1,liste!$B$1,IF(AB8=2,liste!$B$2,IF(AB8=3,liste!$B$3,IF(AB8=4,liste!$B$4,IF(AB8=5,liste!$B$5,IF(AB8=6,liste!$B$6,IF(AB8=7,liste!$B$7,IF(AB8=8,liste!$B$8,IF(AB8=9,liste!$B$9,IF(AB8=10,liste!$B$10,IF(AB8=11,liste!$B$11,IF(AB8=12,liste!$B$12,IF(AB8=13,liste!$B$13,IF(AB8=14,liste!$B$14,IF(AB8=15,liste!$B$15,IF(AB8=16,liste!$B$16,IF(AB8=17,liste!$B$17,IF(AB8=18,liste!$B$18,IF(AB8=19,liste!$B$19,IF(AB8=20,liste!$B$20,IF(AB8=21,liste!$B$21,IF(AB8=22,liste!$B$22,IF(AB8=23,liste!$B$23,IF(AB8=24,liste!$B$24,IF(AB8=25,liste!$B$25,IF(AB8=26,liste!$B$26,IF(AB8=27,liste!$B$27,IF(AB8=28,liste!$B$28,IF(AB8=29,liste!$B$29,IF(AB8>=30,'2'!AA8,"")))))))))))))))))))))))))))))) | AC8: =IF(AD8=1,liste!$F$1,IF(AD8=2,liste!$F$2,IF(AD8=3,liste!$F$3,IF(AD8=4,liste!$F$4,IF(AD8=5,liste!$F$5,IF(AD8=6,liste!$F$6,IF(AD8=7,liste!$F$7,IF(AD8=8,liste!$F$8,IF(AD8=9,liste!$F$9,IF(AD8=10,liste!$F$10,IF(AD8=11,liste!$F$11,IF(AD8=12,liste!$F$12,IF(AD8=13,liste!$F$13,IF(AD8=14,liste!$F$14,IF(AD8=15,liste!$F$15,IF(AD8=16,liste!$F$16,IF(AD8=17,liste!$F$17,IF(AD8=18,liste!$F$18,IF(AD8=19,liste!$F$19,IF(AD8=20,liste!$F$20,"")))))))))))))))))))) | AE8: =IF(AF8=1,liste!$B$1,IF(AF8=2,liste!$B$2,IF(AF8=3,liste!$B$3,IF(AF8=4,liste!$B$4,IF(AF8=5,liste!$B$5,IF(AF8=6,liste!$B$6,IF(AF8=7,liste!$B$7,IF(AF8=8,liste!$B$8,IF(AF8=9,liste!$B$9,IF(AF8=10,liste!$B$10,IF(AF8=11,liste!$B$11,IF(AF8=12,liste!$B$12,IF(AF8=13,liste!$B$13,IF(AF8=14,liste!$B$14,IF(AF8=15,liste!$B$15,IF(AF8=16,liste!$B$16,IF(AF8=17,liste!$B$17,IF(AF8=18,liste!$B$18,IF(AF8=19,liste!$B$19,IF(AF8=20,liste!$B$20,IF(AF8=21,liste!$B$21,IF(AF8=22,liste!$B$22,IF(AF8=23,liste!$B$23,IF(AF8=24,liste!$B$24,IF(AF8=25,liste!$B$25,IF(AF8=26,liste!$B$26,IF(AF8=27,liste!$B$27,IF(AF8=28,liste!$B$28,IF(AF8=29,liste!$B$29,IF(AF8>=30,'2'!AE8,"")))))))))))))))))))))))))))))) | AG8: =IF(AH8=1,liste!$F$1,IF(AH8=2,liste!$F$2,IF(AH8=3,liste!$F$3,IF(AH8=4,liste!$F$4,IF(AH8=5,liste!$F$5,IF(AH8=6,liste!$F$6,IF(AH8=7,liste!$F$7,IF(AH8=8,liste!$F$8,IF(AH8=9,liste!$F$9,IF(AH8=10,liste!$F$10,IF(AH8=11,liste!$F$11,IF(AH8=12,liste!$F$12,IF(AH8=13,liste!$F$13,IF(AH8=14,liste!$F$14,IF(AH8=15,liste!$F$15,IF(AH8=16,liste!$F$16,IF(AH8=17,liste!$F$17,IF(AH8=18,liste!$F$18,IF(AH8=19,liste!$F$19,IF(AH8=20,liste!$F$20,""))))))))))))))))))))
C9: =IF(D9=1,liste!$D$1,IF(D9=2,liste!$D$2,IF(D9=3,liste!$D$3,IF(D9=4,liste!$D$4,IF(D9=5,liste!$D$5,IF(D9=6,liste!$D$6,IF(D9=7,liste!$D$7,IF(D9=8,liste!$D$8,IF(D9=9,liste!$D$9,IF(D9=10,liste!$D$10,IF(D9=11,liste!$D$11,IF(D9=12,liste!$D$12,IF(D9=13,liste!$D$13,IF(D9=14,liste!$D$14,IF(D9=15,liste!$D$15,IF(D9=16,liste!$D$16,IF(D9=17,liste!$D$17,IF(D9=18,liste!$D$18,IF(D9=19,liste!$D$19,IF(D9=20,liste!$D$20,IF(D9=21,liste!$D$21,IF(D9=22,liste!$D$22,IF(D9=23,liste!$D$23,IF(D9=24,liste!$D$24,IF(D9=25,liste!$D$25,IF(D9=26,liste!$D$26,IF(D9=27,liste!$D$27,IF(D9=28,liste!$D$28,IF(D9=29,liste!$D$29,IF(D9>=30,'2'!C9,"")))))))))))))))))))))))))))))) | G9: =IF(H9=1,liste!$D$1,IF(H9=2,liste!$D$2,IF(H9=3,liste!$D$3,IF(H9=4,liste!$D$4,IF(H9=5,liste!$D$5,IF(H9=6,liste!$D$6,IF(H9=7,liste!$D$7,IF(H9=8,liste!$D$8,IF(H9=9,liste!$D$9,IF(H9=10,liste!$D$10,IF(H9=11,liste!$D$11,IF(H9=12,liste!$D$12,IF(H9=13,liste!$D$13,IF(H9=14,liste!$D$14,IF(H9=15,liste!$D$15,IF(H9=16,liste!$D$16,IF(H9=17,liste!$D$17,IF(H9=18,liste!$D$18,IF(H9=19,liste!$D$19,IF(H9=20,liste!$D$20,IF(H9=21,liste!$D$21,IF(H9=22,liste!$D$22,IF(H9=23,liste!$D$23,IF(H9=24,liste!$D$24,IF(H9=25,liste!$D$25,IF(H9=26,liste!$D$26,IF(H9=27,liste!$D$27,IF(H9=28,liste!$D$28,IF(H9=29,liste!$D$29,IF(H9>=30,'2'!G9,"")))))))))))))))))))))))))))))) | K9: =IF(L9=1,liste!$D$1,IF(L9=2,liste!$D$2,IF(L9=3,liste!$D$3,IF(L9=4,liste!$D$4,IF(L9=5,liste!$D$5,IF(L9=6,liste!$D$6,IF(L9=7,liste!$D$7,IF(L9=8,liste!$D$8,IF(L9=9,liste!$D$9,IF(L9=10,liste!$D$10,IF(L9=11,liste!$D$11,IF(L9=12,liste!$D$12,IF(L9=13,liste!$D$13,IF(L9=14,liste!$D$14,IF(L9=15,liste!$D$15,IF(L9=16,liste!$D$16,IF(L9=17,liste!$D$17,IF(L9=18,liste!$D$18,IF(L9=19,liste!$D$19,IF(L9=20,liste!$D$20,IF(L9=21,liste!$D$21,IF(L9=22,liste!$D$22,IF(L9=23,liste!$D$23,IF(L9=24,liste!$D$24,IF(L9=25,liste!$D$25,IF(L9=26,liste!$D$26,IF(L9=27,liste!$D$27,IF(L9=28,liste!$D$28,IF(L9=29,liste!$D$29,IF(L9>=30,'2'!K9,"")))))))))))))))))))))))))))))) | O9: =IF(P9=1,liste!$D$1,IF(P9=2,liste!$D$2,IF(P9=3,liste!$D$3,IF(P9=4,liste!$D$4,IF(P9=5,liste!$D$5,IF(P9=6,liste!$D$6,IF(P9=7,liste!$D$7,IF(P9=8,liste!$D$8,IF(P9=9,liste!$D$9,IF(P9=10,liste!$D$10,IF(P9=11,liste!$D$11,IF(P9=12,liste!$D$12,IF(P9=13,liste!$D$13,IF(P9=14,liste!$D$14,IF(P9=15,liste!$D$15,IF(P9=16,liste!$D$16,IF(P9=17,liste!$D$17,IF(P9=18,liste!$D$18,IF(P9=19,liste!$D$19,IF(P9=20,liste!$D$20,IF(P9=21,liste!$D$21,IF(P9=22,liste!$D$22,IF(P9=23,liste!$D$23,IF(P9=24,liste!$D$24,IF(P9=25,liste!$D$25,IF(P9=26,liste!$D$26,IF(P9=27,liste!$D$27,IF(P9=28,liste!$D$28,IF(P9=29,liste!$D$29,IF(P9>=30,'2'!O9,"")))))))))))))))))))))))))))))) | S9: =IF(T9=1,liste!$D$1,IF(T9=2,liste!$D$2,IF(T9=3,liste!$D$3,IF(T9=4,liste!$D$4,IF(T9=5,liste!$D$5,IF(T9=6,liste!$D$6,IF(T9=7,liste!$D$7,IF(T9=8,liste!$D$8,IF(T9=9,liste!$D$9,IF(T9=10,liste!$D$10,IF(T9=11,liste!$D$11,IF(T9=12,liste!$D$12,IF(T9=13,liste!$D$13,IF(T9=14,liste!$D$14,IF(T9=15,liste!$D$15,IF(T9=16,liste!$D$16,IF(T9=17,liste!$D$17,IF(T9=18,liste!$D$18,IF(T9=19,liste!$D$19,IF(T9=20,liste!$D$20,IF(T9=21,liste!$D$21,IF(T9=22,liste!$D$22,IF(T9=23,liste!$D$23,IF(T9=24,liste!$D$24,IF(T9=25,liste!$D$25,IF(T9=26,liste!$D$26,IF(T9=27,liste!$D$27,IF(T9=28,liste!$D$28,IF(T9=29,liste!$D$29,IF(T9>=30,'2'!S9,"")))))))))))))))))))))))))))))) | W9: =IF(X9=1,liste!$D$1,IF(X9=2,liste!$D$2,IF(X9=3,liste!$D$3,IF(X9=4,liste!$D$4,IF(X9=5,liste!$D$5,IF(X9=6,liste!$D$6,IF(X9=7,liste!$D$7,IF(X9=8,liste!$D$8,IF(X9=9,liste!$D$9,IF(X9=10,liste!$D$10,IF(X9=11,liste!$D$11,IF(X9=12,liste!$D$12,IF(X9=13,liste!$D$13,IF(X9=14,liste!$D$14,IF(X9=15,liste!$D$15,IF(X9=16,liste!$D$16,IF(X9=17,liste!$D$17,IF(X9=18,liste!$D$18,IF(X9=19,liste!$D$19,IF(X9=20,liste!$D$20,IF(X9=21,liste!$D$21,IF(X9=22,liste!$D$22,IF(X9=23,liste!$D$23,IF(X9=24,liste!$D$24,IF(X9=25,liste!$D$25,IF(X9=26,liste!$D$26,IF(X9=27,liste!$D$27,IF(X9=28,liste!$D$28,IF(X9=29,liste!$D$29,IF(X9>=30,'2'!W9,"")))))))))))))))))))))))))))))) | AA9: =IF(AB9=1,liste!$D$1,IF(AB9=2,liste!$D$2,IF(AB9=3,liste!$D$3,IF(AB9=4,liste!$D$4,IF(AB9=5,liste!$D$5,IF(AB9=6,liste!$D$6,IF(AB9=7,liste!$D$7,IF(AB9=8,liste!$D$8,IF(AB9=9,liste!$D$9,IF(AB9=10,liste!$D$10,IF(AB9=11,liste!$D$11,IF(AB9=12,liste!$D$12,IF(AB9=13,liste!$D$13,IF(AB9=14,liste!$D$14,IF(AB9=15,liste!$D$15,IF(AB9=16,liste!$D$16,IF(AB9=17,liste!$D$17,IF(AB9=18,liste!$D$18,IF(AB9=19,liste!$D$19,IF(AB9=20,liste!$D$20,IF(AB9=21,liste!$D$21,IF(AB9=22,liste!$D$22,IF(AB9=23,liste!$D$23,IF(AB9=24,liste!$D$24,IF(AB9=25,liste!$D$25,IF(AB9=26,liste!$D$26,IF(AB9=27,liste!$D$27,IF(AB9=28,liste!$D$28,IF(AB9=29,liste!$D$29,IF(AB9>=30,'2'!AA9,"")))))))))))))))))))))))))))))) | AE9: =IF(AF9=1,liste!$D$1,IF(AF9=2,liste!$D$2,IF(AF9=3,liste!$D$3,IF(AF9=4,liste!$D$4,IF(AF9=5,liste!$D$5,IF(AF9=6,liste!$D$6,IF(AF9=7,liste!$D$7,IF(AF9=8,liste!$D$8,IF(AF9=9,liste!$D$9,IF(AF9=10,liste!$D$10,IF(AF9=11,liste!$D$11,IF(AF9=12,liste!$D$12,IF(AF9=13,liste!$D$13,IF(AF9=14,liste!$D$14,IF(AF9=15,liste!$D$15,IF(AF9=16,liste!$D$16,IF(AF9=17,liste!$D$17,IF(AF9=18,liste!$D$18,IF(AF9=19,liste!$D$19,IF(AF9=20,liste!$D$20,IF(AF9=21,liste!$D$21,IF(AF9=22,liste!$D$22,IF(AF9=23,liste!$D$23,IF(AF9=24,liste!$D$24,IF(AF9=25,liste!$D$25,IF(AF9=26,liste!$D$26,IF(AF9=27,liste!$D$27,IF(AF9=28,liste!$D$28,IF(AF9=29,liste!$D$29,IF(AF9>=30,'2'!AE9,""))))))))))))))))))))))))))))))
B10: =liste!I3 -> 14:30-15:20 | C10: =IF(D10=1,liste!$B$1,IF(D10=2,liste!$B$2,IF(D10=3,liste!$B$3,IF(D10=4,liste!$B$4,IF(D10=5,liste!$B$5,IF(D10=6,liste!$B$6,IF(D10=7,liste!$B$7,IF(D10=8,liste!$B$8,IF(D10=9,liste!$B$9,IF(D10=10,liste!$B$10,IF(D10=11,liste!$B$11,IF(D10=12,liste!$B$12,IF(D10=13,liste!$B$13,IF(D10=14,liste!$B$14,IF(D10=15,liste!$B$15,IF(D10=16,liste!$B$16,IF(D10=17,liste!$B$17,IF(D10=18,liste!$B$18,IF(D10=19,liste!$B$19,IF(D10=20,liste!$B$20,IF(D10=21,liste!$B$21,IF(D10=22,liste!$B$22,IF(D10=23,liste!$B$23,IF(D10=24,liste!$B$24,IF(D10=25,liste!$B$25,IF(D10=26,liste!$B$26,IF(D10=27,liste!$B$27,IF(D10=28,liste!$B$28,IF(D10=29,liste!$B$29,IF(D10>=30,'2'!C10,"")))))))))))))))))))))))))))))) | E10: =IF(F10=1,liste!$F$1,IF(F10=2,liste!$F$2,IF(F10=3,liste!$F$3,IF(F10=4,liste!$F$4,IF(F10=5,liste!$F$5,IF(F10=6,liste!$F$6,IF(F10=7,liste!$F$7,IF(F10=8,liste!$F$8,IF(F10=9,liste!$F$9,IF(F10=10,liste!$F$10,IF(F10=11,liste!$F$11,IF(F10=12,liste!$F$12,IF(F10=13,liste!$F$13,IF(F10=14,liste!$F$14,IF(F10=15,liste!$F$15,IF(F10=16,liste!$F$16,IF(F10=17,liste!$F$17,IF(F10=18,liste!$F$18,IF(F10=19,liste!$F$19,IF(F10=20,liste!$F$20,"")))))))))))))))))))) | G10: =IF(H10=1,liste!$B$1,IF(H10=2,liste!$B$2,IF(H10=3,liste!$B$3,IF(H10=4,liste!$B$4,IF(H10=5,liste!$B$5,IF(H10=6,liste!$B$6,IF(H10=7,liste!$B$7,IF(H10=8,liste!$B$8,IF(H10=9,liste!$B$9,IF(H10=10,liste!$B$10,IF(H10=11,liste!$B$11,IF(H10=12,liste!$B$12,IF(H10=13,liste!$B$13,IF(H10=14,liste!$B$14,IF(H10=15,liste!$B$15,IF(H10=16,liste!$B$16,IF(H10=17,liste!$B$17,IF(H10=18,liste!$B$18,IF(H10=19,liste!$B$19,IF(H10=20,liste!$B$20,IF(H10=21,liste!$B$21,IF(H10=22,liste!$B$22,IF(H10=23,liste!$B$23,IF(H10=24,liste!$B$24,IF(H10=25,liste!$B$25,IF(H10=26,liste!$B$26,IF(H10=27,liste!$B$27,IF(H10=28,liste!$B$28,IF(H10=29,liste!$B$29,IF(H10>=30,'2'!G10,"")))))))))))))))))))))))))))))) | I10: =IF(J10=1,liste!$F$1,IF(J10=2,liste!$F$2,IF(J10=3,liste!$F$3,IF(J10=4,liste!$F$4,IF(J10=5,liste!$F$5,IF(J10=6,liste!$F$6,IF(J10=7,liste!$F$7,IF(J10=8,liste!$F$8,IF(J10=9,liste!$F$9,IF(J10=10,liste!$F$10,IF(J10=11,liste!$F$11,IF(J10=12,liste!$F$12,IF(J10=13,liste!$F$13,IF(J10=14,liste!$F$14,IF(J10=15,liste!$F$15,IF(J10=16,liste!$F$16,IF(J10=17,liste!$F$17,IF(J10=18,liste!$F$18,IF(J10=19,liste!$F$19,IF(J10=20,liste!$F$20,"")))))))))))))))))))) | K10: =IF(L10=1,liste!$B$1,IF(L10=2,liste!$B$2,IF(L10=3,liste!$B$3,IF(L10=4,liste!$B$4,IF(L10=5,liste!$B$5,IF(L10=6,liste!$B$6,IF(L10=7,liste!$B$7,IF(L10=8,liste!$B$8,IF(L10=9,liste!$B$9,IF(L10=10,liste!$B$10,IF(L10=11,liste!$B$11,IF(L10=12,liste!$B$12,IF(L10=13,liste!$B$13,IF(L10=14,liste!$B$14,IF(L10=15,liste!$B$15,IF(L10=16,liste!$B$16,IF(L10=17,liste!$B$17,IF(L10=18,liste!$B$18,IF(L10=19,liste!$B$19,IF(L10=20,liste!$B$20,IF(L10=21,liste!$B$21,IF(L10=22,liste!$B$22,IF(L10=23,liste!$B$23,IF(L10=24,liste!$B$24,IF(L10=25,liste!$B$25,IF(L10=26,liste!$B$26,IF(L10=27,liste!$B$27,IF(L10=28,liste!$B$28,IF(L10=29,liste!$B$29,IF(L10>=30,'2'!K10,"")))))))))))))))))))))))))))))) | M10: =IF(N10=1,liste!$F$1,IF(N10=2,liste!$F$2,IF(N10=3,liste!$F$3,IF(N10=4,liste!$F$4,IF(N10=5,liste!$F$5,IF(N10=6,liste!$F$6,IF(N10=7,liste!$F$7,IF(N10=8,liste!$F$8,IF(N10=9,liste!$F$9,IF(N10=10,liste!$F$10,IF(N10=11,liste!$F$11,IF(N10=12,liste!$F$12,IF(N10=13,liste!$F$13,IF(N10=14,liste!$F$14,IF(N10=15,liste!$F$15,IF(N10=16,liste!$F$16,IF(N10=17,liste!$F$17,IF(N10=18,liste!$F$18,IF(N10=19,liste!$F$19,IF(N10=20,liste!$F$20,"")))))))))))))))))))) | O10: =IF(P10=1,liste!$B$1,IF(P10=2,liste!$B$2,IF(P10=3,liste!$B$3,IF(P10=4,liste!$B$4,IF(P10=5,liste!$B$5,IF(P10=6,liste!$B$6,IF(P10=7,liste!$B$7,IF(P10=8,liste!$B$8,IF(P10=9,liste!$B$9,IF(P10=10,liste!$B$10,IF(P10=11,liste!$B$11,IF(P10=12,liste!$B$12,IF(P10=13,liste!$B$13,IF(P10=14,liste!$B$14,IF(P10=15,liste!$B$15,IF(P10=16,liste!$B$16,IF(P10=17,liste!$B$17,IF(P10=18,liste!$B$18,IF(P10=19,liste!$B$19,IF(P10=20,liste!$B$20,IF(P10=21,liste!$B$21,IF(P10=22,liste!$B$22,IF(P10=23,liste!$B$23,IF(P10=24,liste!$B$24,IF(P10=25,liste!$B$25,IF(P10=26,liste!$B$26,IF(P10=27,liste!$B$27,IF(P10=28,liste!$B$28,IF(P10=29,liste!$B$29,IF(P10>=30,'2'!O10,"")))))))))))))))))))))))))))))) | Q10: =IF(R10=1,liste!$F$1,IF(R10=2,liste!$F$2,IF(R10=3,liste!$F$3,IF(R10=4,liste!$F$4,IF(R10=5,liste!$F$5,IF(R10=6,liste!$F$6,IF(R10=7,liste!$F$7,IF(R10=8,liste!$F$8,IF(R10=9,liste!$F$9,IF(R10=10,liste!$F$10,IF(R10=11,liste!$F$11,IF(R10=12,liste!$F$12,IF(R10=13,liste!$F$13,IF(R10=14,liste!$F$14,IF(R10=15,liste!$F$15,IF(R10=16,liste!$F$16,IF(R10=17,liste!$F$17,IF(R10=18,liste!$F$18,IF(R10=19,liste!$F$19,IF(R10=20,liste!$F$20,"")))))))))))))))))))) | S10: =IF(T10=1,liste!$B$1,IF(T10=2,liste!$B$2,IF(T10=3,liste!$B$3,IF(T10=4,liste!$B$4,IF(T10=5,liste!$B$5,IF(T10=6,liste!$B$6,IF(T10=7,liste!$B$7,IF(T10=8,liste!$B$8,IF(T10=9,liste!$B$9,IF(T10=10,liste!$B$10,IF(T10=11,liste!$B$11,IF(T10=12,liste!$B$12,IF(T10=13,liste!$B$13,IF(T10=14,liste!$B$14,IF(T10=15,liste!$B$15,IF(T10=16,liste!$B$16,IF(T10=17,liste!$B$17,IF(T10=18,liste!$B$18,IF(T10=19,liste!$B$19,IF(T10=20,liste!$B$20,IF(T10=21,liste!$B$21,IF(T10=22,liste!$B$22,IF(T10=23,liste!$B$23,IF(T10=24,liste!$B$24,IF(T10=25,liste!$B$25,IF(T10=26,liste!$B$26,IF(T10=27,liste!$B$27,IF(T10=28,liste!$B$28,IF(T10=29,liste!$B$29,IF(T10>=30,'2'!S10,"")))))))))))))))))))))))))))))) | U10: =IF(V10=1,liste!$F$1,IF(V10=2,liste!$F$2,IF(V10=3,liste!$F$3,IF(V10=4,liste!$F$4,IF(V10=5,liste!$F$5,IF(V10=6,liste!$F$6,IF(V10=7,liste!$F$7,IF(V10=8,liste!$F$8,IF(V10=9,liste!$F$9,IF(V10=10,liste!$F$10,IF(V10=11,liste!$F$11,IF(V10=12,liste!$F$12,IF(V10=13,liste!$F$13,IF(V10=14,liste!$F$14,IF(V10=15,liste!$F$15,IF(V10=16,liste!$F$16,IF(V10=17,liste!$F$17,IF(V10=18,liste!$F$18,IF(V10=19,liste!$F$19,IF(V10=20,liste!$F$20,"")))))))))))))))))))) | W10: =IF(X10=1,liste!$B$1,IF(X10=2,liste!$B$2,IF(X10=3,liste!$B$3,IF(X10=4,liste!$B$4,IF(X10=5,liste!$B$5,IF(X10=6,liste!$B$6,IF(X10=7,liste!$B$7,IF(X10=8,liste!$B$8,IF(X10=9,liste!$B$9,IF(X10=10,liste!$B$10,IF(X10=11,liste!$B$11,IF(X10=12,liste!$B$12,IF(X10=13,liste!$B$13,IF(X10=14,liste!$B$14,IF(X10=15,liste!$B$15,IF(X10=16,liste!$B$16,IF(X10=17,liste!$B$17,IF(X10=18,liste!$B$18,IF(X10=19,liste!$B$19,IF(X10=20,liste!$B$20,IF(X10=21,liste!$B$21,IF(X10=22,liste!$B$22,IF(X10=23,liste!$B$23,IF(X10=24,liste!$B$24,IF(X10=25,liste!$B$25,IF(X10=26,liste!$B$26,IF(X10=27,liste!$B$27,IF(X10=28,liste!$B$28,IF(X10=29,liste!$B$29,IF(X10>=30,'2'!W10,"")))))))))))))))))))))))))))))) | Y10: =IF(Z10=1,liste!$F$1,IF(Z10=2,liste!$F$2,IF(Z10=3,liste!$F$3,IF(Z10=4,liste!$F$4,IF(Z10=5,liste!$F$5,IF(Z10=6,liste!$F$6,IF(Z10=7,liste!$F$7,IF(Z10=8,liste!$F$8,IF(Z10=9,liste!$F$9,IF(Z10=10,liste!$F$10,IF(Z10=11,liste!$F$11,IF(Z10=12,liste!$F$12,IF(Z10=13,liste!$F$13,IF(Z10=14,liste!$F$14,IF(Z10=15,liste!$F$15,IF(Z10=16,liste!$F$16,IF(Z10=17,liste!$F$17,IF(Z10=18,liste!$F$18,IF(Z10=19,liste!$F$19,IF(Z10=20,liste!$F$20,"")))))))))))))))))))) | AA10: =IF(AB10=1,liste!$B$1,IF(AB10=2,liste!$B$2,IF(AB10=3,liste!$B$3,IF(AB10=4,liste!$B$4,IF(AB10=5,liste!$B$5,IF(AB10=6,liste!$B$6,IF(AB10=7,liste!$B$7,IF(AB10=8,liste!$B$8,IF(AB10=9,liste!$B$9,IF(AB10=10,liste!$B$10,IF(AB10=11,liste!$B$11,IF(AB10=12,liste!$B$12,IF(AB10=13,liste!$B$13,IF(AB10=14,liste!$B$14,IF(AB10=15,liste!$B$15,IF(AB10=16,liste!$B$16,IF(AB10=17,liste!$B$17,IF(AB10=18,liste!$B$18,IF(AB10=19,liste!$B$19,IF(AB10=20,liste!$B$20,IF(AB10=21,liste!$B$21,IF(AB10=22,liste!$B$22,IF(AB10=23,liste!$B$23,IF(AB10=24,liste!$B$24,IF(AB10=25,liste!$B$25,IF(AB10=26,liste!$B$26,IF(AB10=27,liste!$B$27,IF(AB10=28,liste!$B$28,IF(AB10=29,liste!$B$29,IF(AB10>=30,'2'!AA10,"")))))))))))))))))))))))))))))) | AC10: =IF(AD10=1,liste!$F$1,IF(AD10=2,liste!$F$2,IF(AD10=3,liste!$F$3,IF(AD10=4,liste!$F$4,IF(AD10=5,liste!$F$5,IF(AD10=6,liste!$F$6,IF(AD10=7,liste!$F$7,IF(AD10=8,liste!$F$8,IF(AD10=9,liste!$F$9,IF(AD10=10,liste!$F$10,IF(AD10=11,liste!$F$11,IF(AD10=12,liste!$F$12,IF(AD10=13,liste!$F$13,IF(AD10=14,liste!$F$14,IF(AD10=15,liste!$F$15,IF(AD10=16,liste!$F$16,IF(AD10=17,liste!$F$17,IF(AD10=18,liste!$F$18,IF(AD10=19,liste!$F$19,IF(AD10=20,liste!$F$20,"")))))))))))))))))))) | AE10: =IF(AF10=1,liste!$B$1,IF(AF10=2,liste!$B$2,IF(AF10=3,liste!$B$3,IF(AF10=4,liste!$B$4,IF(AF10=5,liste!$B$5,IF(AF10=6,liste!$B$6,IF(AF10=7,liste!$B$7,IF(AF10=8,liste!$B$8,IF(AF10=9,liste!$B$9,IF(AF10=10,liste!$B$10,IF(AF10=11,liste!$B$11,IF(AF10=12,liste!$B$12,IF(AF10=13,liste!$B$13,IF(AF10=14,liste!$B$14,IF(AF10=15,liste!$B$15,IF(AF10=16,liste!$B$16,IF(AF10=17,liste!$B$17,IF(AF10=18,liste!$B$18,IF(AF10=19,liste!$B$19,IF(AF10=20,liste!$B$20,IF(AF10=21,liste!$B$21,IF(AF10=22,liste!$B$22,IF(AF10=23,liste!$B$23,IF(AF10=24,liste!$B$24,IF(AF10=25,liste!$B$25,IF(AF10=26,liste!$B$26,IF(AF10=27,liste!$B$27,IF(AF10=28,liste!$B$28,IF(AF10=29,liste!$B$29,IF(AF10>=30,'2'!AE10,"")))))))))))))))))))))))))))))) | AG10: =IF(AH10=1,liste!$F$1,IF(AH10=2,liste!$F$2,IF(AH10=3,liste!$F$3,IF(AH10=4,liste!$F$4,IF(AH10=5,liste!$F$5,IF(AH10=6,liste!$F$6,IF(AH10=7,liste!$F$7,IF(AH10=8,liste!$F$8,IF(AH10=9,liste!$F$9,IF(AH10=10,liste!$F$10,IF(AH10=11,liste!$F$11,IF(AH10=12,liste!$F$12,IF(AH10=13,liste!$F$13,IF(AH10=14,liste!$F$14,IF(AH10=15,liste!$F$15,IF(AH10=16,liste!$F$16,IF(AH10=17,liste!$F$17,IF(AH10=18,liste!$F$18,IF(AH10=19,liste!$F$19,IF(AH10=20,liste!$F$20,""))))))))))))))))))))
C11: =IF(D11=1,liste!$D$1,IF(D11=2,liste!$D$2,IF(D11=3,liste!$D$3,IF(D11=4,liste!$D$4,IF(D11=5,liste!$D$5,IF(D11=6,liste!$D$6,IF(D11=7,liste!$D$7,IF(D11=8,liste!$D$8,IF(D11=9,liste!$D$9,IF(D11=10,liste!$D$10,IF(D11=11,liste!$D$11,IF(D11=12,liste!$D$12,IF(D11=13,liste!$D$13,IF(D11=14,liste!$D$14,IF(D11=15,liste!$D$15,IF(D11=16,liste!$D$16,IF(D11=17,liste!$D$17,IF(D11=18,liste!$D$18,IF(D11=19,liste!$D$19,IF(D11=20,liste!$D$20,IF(D11=21,liste!$D$21,IF(D11=22,liste!$D$22,IF(D11=23,liste!$D$23,IF(D11=24,liste!$D$24,IF(D11=25,liste!$D$25,IF(D11=26,liste!$D$26,IF(D11=27,liste!$D$27,IF(D11=28,liste!$D$28,IF(D11=29,liste!$D$29,IF(D11>=30,'2'!C11,"")))))))))))))))))))))))))))))) | G11: =IF(H11=1,liste!$D$1,IF(H11=2,liste!$D$2,IF(H11=3,liste!$D$3,IF(H11=4,liste!$D$4,IF(H11=5,liste!$D$5,IF(H11=6,liste!$D$6,IF(H11=7,liste!$D$7,IF(H11=8,liste!$D$8,IF(H11=9,liste!$D$9,IF(H11=10,liste!$D$10,IF(H11=11,liste!$D$11,IF(H11=12,liste!$D$12,IF(H11=13,liste!$D$13,IF(H11=14,liste!$D$14,IF(H11=15,liste!$D$15,IF(H11=16,liste!$D$16,IF(H11=17,liste!$D$17,IF(H11=18,liste!$D$18,IF(H11=19,liste!$D$19,IF(H11=20,liste!$D$20,IF(H11=21,liste!$D$21,IF(H11=22,liste!$D$22,IF(H11=23,liste!$D$23,IF(H11=24,liste!$D$24,IF(H11=25,liste!$D$25,IF(H11=26,liste!$D$26,IF(H11=27,liste!$D$27,IF(H11=28,liste!$D$28,IF(H11=29,liste!$D$29,IF(H11>=30,'2'!G11,"")))))))))))))))))))))))))))))) | K11: =IF(L11=1,liste!$D$1,IF(L11=2,liste!$D$2,IF(L11=3,liste!$D$3,IF(L11=4,liste!$D$4,IF(L11=5,liste!$D$5,IF(L11=6,liste!$D$6,IF(L11=7,liste!$D$7,IF(L11=8,liste!$D$8,IF(L11=9,liste!$D$9,IF(L11=10,liste!$D$10,IF(L11=11,liste!$D$11,IF(L11=12,liste!$D$12,IF(L11=13,liste!$D$13,IF(L11=14,liste!$D$14,IF(L11=15,liste!$D$15,IF(L11=16,liste!$D$16,IF(L11=17,liste!$D$17,IF(L11=18,liste!$D$18,IF(L11=19,liste!$D$19,IF(L11=20,liste!$D$20,IF(L11=21,liste!$D$21,IF(L11=22,liste!$D$22,IF(L11=23,liste!$D$23,IF(L11=24,liste!$D$24,IF(L11=25,liste!$D$25,IF(L11=26,liste!$D$26,IF(L11=27,liste!$D$27,IF(L11=28,liste!$D$28,IF(L11=29,liste!$D$29,IF(L11>=30,'2'!K11,"")))))))))))))))))))))))))))))) | O11: =IF(P11=1,liste!$D$1,IF(P11=2,liste!$D$2,IF(P11=3,liste!$D$3,IF(P11=4,liste!$D$4,IF(P11=5,liste!$D$5,IF(P11=6,liste!$D$6,IF(P11=7,liste!$D$7,IF(P11=8,liste!$D$8,IF(P11=9,liste!$D$9,IF(P11=10,liste!$D$10,IF(P11=11,liste!$D$11,IF(P11=12,liste!$D$12,IF(P11=13,liste!$D$13,IF(P11=14,liste!$D$14,IF(P11=15,liste!$D$15,IF(P11=16,liste!$D$16,IF(P11=17,liste!$D$17,IF(P11=18,liste!$D$18,IF(P11=19,liste!$D$19,IF(P11=20,liste!$D$20,IF(P11=21,liste!$D$21,IF(P11=22,liste!$D$22,IF(P11=23,liste!$D$23,IF(P11=24,liste!$D$24,IF(P11=25,liste!$D$25,IF(P11=26,liste!$D$26,IF(P11=27,liste!$D$27,IF(P11=28,liste!$D$28,IF(P11=29,liste!$D$29,IF(P11>=30,'2'!O11,"")))))))))))))))))))))))))))))) | S11: =IF(T11=1,liste!$D$1,IF(T11=2,liste!$D$2,IF(T11=3,liste!$D$3,IF(T11=4,liste!$D$4,IF(T11=5,liste!$D$5,IF(T11=6,liste!$D$6,IF(T11=7,liste!$D$7,IF(T11=8,liste!$D$8,IF(T11=9,liste!$D$9,IF(T11=10,liste!$D$10,IF(T11=11,liste!$D$11,IF(T11=12,liste!$D$12,IF(T11=13,liste!$D$13,IF(T11=14,liste!$D$14,IF(T11=15,liste!$D$15,IF(T11=16,liste!$D$16,IF(T11=17,liste!$D$17,IF(T11=18,liste!$D$18,IF(T11=19,liste!$D$19,IF(T11=20,liste!$D$20,IF(T11=21,liste!$D$21,IF(T11=22,liste!$D$22,IF(T11=23,liste!$D$23,IF(T11=24,liste!$D$24,IF(T11=25,liste!$D$25,IF(T11=26,liste!$D$26,IF(T11=27,liste!$D$27,IF(T11=28,liste!$D$28,IF(T11=29,liste!$D$29,IF(T11>=30,'2'!S11,"")))))))))))))))))))))))))))))) | W11: =IF(X11=1,liste!$D$1,IF(X11=2,liste!$D$2,IF(X11=3,liste!$D$3,IF(X11=4,liste!$D$4,IF(X11=5,liste!$D$5,IF(X11=6,liste!$D$6,IF(X11=7,liste!$D$7,IF(X11=8,liste!$D$8,IF(X11=9,liste!$D$9,IF(X11=10,liste!$D$10,IF(X11=11,liste!$D$11,IF(X11=12,liste!$D$12,IF(X11=13,liste!$D$13,IF(X11=14,liste!$D$14,IF(X11=15,liste!$D$15,IF(X11=16,liste!$D$16,IF(X11=17,liste!$D$17,IF(X11=18,liste!$D$18,IF(X11=19,liste!$D$19,IF(X11=20,liste!$D$20,IF(X11=21,liste!$D$21,IF(X11=22,liste!$D$22,IF(X11=23,liste!$D$23,IF(X11=24,liste!$D$24,IF(X11=25,liste!$D$25,IF(X11=26,liste!$D$26,IF(X11=27,liste!$D$27,IF(X11=28,liste!$D$28,IF(X11=29,liste!$D$29,IF(X11>=30,'2'!W11,"")))))))))))))))))))))))))))))) | AA11: =IF(AB11=1,liste!$D$1,IF(AB11=2,liste!$D$2,IF(AB11=3,liste!$D$3,IF(AB11=4,liste!$D$4,IF(AB11=5,liste!$D$5,IF(AB11=6,liste!$D$6,IF(AB11=7,liste!$D$7,IF(AB11=8,liste!$D$8,IF(AB11=9,liste!$D$9,IF(AB11=10,liste!$D$10,IF(AB11=11,liste!$D$11,IF(AB11=12,liste!$D$12,IF(AB11=13,liste!$D$13,IF(AB11=14,liste!$D$14,IF(AB11=15,liste!$D$15,IF(AB11=16,liste!$D$16,IF(AB11=17,liste!$D$17,IF(AB11=18,liste!$D$18,IF(AB11=19,liste!$D$19,IF(AB11=20,liste!$D$20,IF(AB11=21,liste!$D$21,IF(AB11=22,liste!$D$22,IF(AB11=23,liste!$D$23,IF(AB11=24,liste!$D$24,IF(AB11=25,liste!$D$25,IF(AB11=26,liste!$D$26,IF(AB11=27,liste!$D$27,IF(AB11=28,liste!$D$28,IF(AB11=29,liste!$D$29,IF(AB11>=30,'2'!AA11,"")))))))))))))))))))))))))))))) | AE11: =IF(AF11=1,liste!$D$1,IF(AF11=2,liste!$D$2,IF(AF11=3,liste!$D$3,IF(AF11=4,liste!$D$4,IF(AF11=5,liste!$D$5,IF(AF11=6,liste!$D$6,IF(AF11=7,liste!$D$7,IF(AF11=8,liste!$D$8,IF(AF11=9,liste!$D$9,IF(AF11=10,liste!$D$10,IF(AF11=11,liste!$D$11,IF(AF11=12,liste!$D$12,IF(AF11=13,liste!$D$13,IF(AF11=14,liste!$D$14,IF(AF11=15,liste!$D$15,IF(AF11=16,liste!$D$16,IF(AF11=17,liste!$D$17,IF(AF11=18,liste!$D$18,IF(AF11=19,liste!$D$19,IF(AF11=20,liste!$D$20,IF(AF11=21,liste!$D$21,IF(AF11=22,liste!$D$22,IF(AF11=23,liste!$D$23,IF(AF11=24,liste!$D$24,IF(AF11=25,liste!$D$25,IF(AF11=26,liste!$D$26,IF(AF11=27,liste!$D$27,IF(AF11=28,liste!$D$28,IF(AF11=29,liste!$D$29,IF(AF11>=30,'2'!AE11,""))))))))))))))))))))))))))))))
B12: =liste!I4 -> 15:30-16:20 | C12: =IF(D12=1,liste!$B$1,IF(D12=2,liste!$B$2,IF(D12=3,liste!$B$3,IF(D12=4,liste!$B$4,IF(D12=5,liste!$B$5,IF(D12=6,liste!$B$6,IF(D12=7,liste!$B$7,IF(D12=8,liste!$B$8,IF(D12=9,liste!$B$9,IF(D12=10,liste!$B$10,IF(D12=11,liste!$B$11,IF(D12=12,liste!$B$12,IF(D12=13,liste!$B$13,IF(D12=14,liste!$B$14,IF(D12=15,liste!$B$15,IF(D12=16,liste!$B$16,IF(D12=17,liste!$B$17,IF(D12=18,liste!$B$18,IF(D12=19,liste!$B$19,IF(D12=20,liste!$B$20,IF(D12=21,liste!$B$21,IF(D12=22,liste!$B$22,IF(D12=23,liste!$B$23,IF(D12=24,liste!$B$24,IF(D12=25,liste!$B$25,IF(D12=26,liste!$B$26,IF(D12=27,liste!$B$27,IF(D12=28,liste!$B$28,IF(D12=29,liste!$B$29,IF(D12>=30,'2'!C12,"")))))))))))))))))))))))))))))) | E12: =IF(F12=1,liste!$F$1,IF(F12=2,liste!$F$2,IF(F12=3,liste!$F$3,IF(F12=4,liste!$F$4,IF(F12=5,liste!$F$5,IF(F12=6,liste!$F$6,IF(F12=7,liste!$F$7,IF(F12=8,liste!$F$8,IF(F12=9,liste!$F$9,IF(F12=10,liste!$F$10,IF(F12=11,liste!$F$11,IF(F12=12,liste!$F$12,IF(F12=13,liste!$F$13,IF(F12=14,liste!$F$14,IF(F12=15,liste!$F$15,IF(F12=16,liste!$F$16,IF(F12=17,liste!$F$17,IF(F12=18,liste!$F$18,IF(F12=19,liste!$F$19,IF(F12=20,liste!$F$20,"")))))))))))))))))))) | G12: =IF(H12=1,liste!$B$1,IF(H12=2,liste!$B$2,IF(H12=3,liste!$B$3,IF(H12=4,liste!$B$4,IF(H12=5,liste!$B$5,IF(H12=6,liste!$B$6,IF(H12=7,liste!$B$7,IF(H12=8,liste!$B$8,IF(H12=9,liste!$B$9,IF(H12=10,liste!$B$10,IF(H12=11,liste!$B$11,IF(H12=12,liste!$B$12,IF(H12=13,liste!$B$13,IF(H12=14,liste!$B$14,IF(H12=15,liste!$B$15,IF(H12=16,liste!$B$16,IF(H12=17,liste!$B$17,IF(H12=18,liste!$B$18,IF(H12=19,liste!$B$19,IF(H12=20,liste!$B$20,IF(H12=21,liste!$B$21,IF(H12=22,liste!$B$22,IF(H12=23,liste!$B$23,IF(H12=24,liste!$B$24,IF(H12=25,liste!$B$25,IF(H12=26,liste!$B$26,IF(H12=27,liste!$B$27,IF(H12=28,liste!$B$28,IF(H12=29,liste!$B$29,IF(H12>=30,'2'!G12,"")))))))))))))))))))))))))))))) | I12: =IF(J12=1,liste!$F$1,IF(J12=2,liste!$F$2,IF(J12=3,liste!$F$3,IF(J12=4,liste!$F$4,IF(J12=5,liste!$F$5,IF(J12=6,liste!$F$6,IF(J12=7,liste!$F$7,IF(J12=8,liste!$F$8,IF(J12=9,liste!$F$9,IF(J12=10,liste!$F$10,IF(J12=11,liste!$F$11,IF(J12=12,liste!$F$12,IF(J12=13,liste!$F$13,IF(J12=14,liste!$F$14,IF(J12=15,liste!$F$15,IF(J12=16,liste!$F$16,IF(J12=17,liste!$F$17,IF(J12=18,liste!$F$18,IF(J12=19,liste!$F$19,IF(J12=20,liste!$F$20,"")))))))))))))))))))) | K12: =IF(L12=1,liste!$B$1,IF(L12=2,liste!$B$2,IF(L12=3,liste!$B$3,IF(L12=4,liste!$B$4,IF(L12=5,liste!$B$5,IF(L12=6,liste!$B$6,IF(L12=7,liste!$B$7,IF(L12=8,liste!$B$8,IF(L12=9,liste!$B$9,IF(L12=10,liste!$B$10,IF(L12=11,liste!$B$11,IF(L12=12,liste!$B$12,IF(L12=13,liste!$B$13,IF(L12=14,liste!$B$14,IF(L12=15,liste!$B$15,IF(L12=16,liste!$B$16,IF(L12=17,liste!$B$17,IF(L12=18,liste!$B$18,IF(L12=19,liste!$B$19,IF(L12=20,liste!$B$20,IF(L12=21,liste!$B$21,IF(L12=22,liste!$B$22,IF(L12=23,liste!$B$23,IF(L12=24,liste!$B$24,IF(L12=25,liste!$B$25,IF(L12=26,liste!$B$26,IF(L12=27,liste!$B$27,IF(L12=28,liste!$B$28,IF(L12=29,liste!$B$29,IF(L12>=30,'2'!K12,"")))))))))))))))))))))))))))))) | M12: =IF(N12=1,liste!$F$1,IF(N12=2,liste!$F$2,IF(N12=3,liste!$F$3,IF(N12=4,liste!$F$4,IF(N12=5,liste!$F$5,IF(N12=6,liste!$F$6,IF(N12=7,liste!$F$7,IF(N12=8,liste!$F$8,IF(N12=9,liste!$F$9,IF(N12=10,liste!$F$10,IF(N12=11,liste!$F$11,IF(N12=12,liste!$F$12,IF(N12=13,liste!$F$13,IF(N12=14,liste!$F$14,IF(N12=15,liste!$F$15,IF(N12=16,liste!$F$16,IF(N12=17,liste!$F$17,IF(N12=18,liste!$F$18,IF(N12=19,liste!$F$19,IF(N12=20,liste!$F$20,"")))))))))))))))))))) | O12: =IF(P12=1,liste!$B$1,IF(P12=2,liste!$B$2,IF(P12=3,liste!$B$3,IF(P12=4,liste!$B$4,IF(P12=5,liste!$B$5,IF(P12=6,liste!$B$6,IF(P12=7,liste!$B$7,IF(P12=8,liste!$B$8,IF(P12=9,liste!$B$9,IF(P12=10,liste!$B$10,IF(P12=11,liste!$B$11,IF(P12=12,liste!$B$12,IF(P12=13,liste!$B$13,IF(P12=14,liste!$B$14,IF(P12=15,liste!$B$15,IF(P12=16,liste!$B$16,IF(P12=17,liste!$B$17,IF(P12=18,liste!$B$18,IF(P12=19,liste!$B$19,IF(P12=20,liste!$B$20,IF(P12=21,liste!$B$21,IF(P12=22,liste!$B$22,IF(P12=23,liste!$B$23,IF(P12=24,liste!$B$24,IF(P12=25,liste!$B$25,IF(P12=26,liste!$B$26,IF(P12=27,liste!$B$27,IF(P12=28,liste!$B$28,IF(P12=29,liste!$B$29,IF(P12>=30,'2'!O12,"")))))))))))))))))))))))))))))) | Q12: =IF(R12=1,liste!$F$1,IF(R12=2,liste!$F$2,IF(R12=3,liste!$F$3,IF(R12=4,liste!$F$4,IF(R12=5,liste!$F$5,IF(R12=6,liste!$F$6,IF(R12=7,liste!$F$7,IF(R12=8,liste!$F$8,IF(R12=9,liste!$F$9,IF(R12=10,liste!$F$10,IF(R12=11,liste!$F$11,IF(R12=12,liste!$F$12,IF(R12=13,liste!$F$13,IF(R12=14,liste!$F$14,IF(R12=15,liste!$F$15,IF(R12=16,liste!$F$16,IF(R12=17,liste!$F$17,IF(R12=18,liste!$F$18,IF(R12=19,liste!$F$19,IF(R12=20,liste!$F$20,"")))))))))))))))))))) | S12: =IF(T12=1,liste!$B$1,IF(T12=2,liste!$B$2,IF(T12=3,liste!$B$3,IF(T12=4,liste!$B$4,IF(T12=5,liste!$B$5,IF(T12=6,liste!$B$6,IF(T12=7,liste!$B$7,IF(T12=8,liste!$B$8,IF(T12=9,liste!$B$9,IF(T12=10,liste!$B$10,IF(T12=11,liste!$B$11,IF(T12=12,liste!$B$12,IF(T12=13,liste!$B$13,IF(T12=14,liste!$B$14,IF(T12=15,liste!$B$15,IF(T12=16,liste!$B$16,IF(T12=17,liste!$B$17,IF(T12=18,liste!$B$18,IF(T12=19,liste!$B$19,IF(T12=20,liste!$B$20,IF(T12=21,liste!$B$21,IF(T12=22,liste!$B$22,IF(T12=23,liste!$B$23,IF(T12=24,liste!$B$24,IF(T12=25,liste!$B$25,IF(T12=26,liste!$B$26,IF(T12=27,liste!$B$27,IF(T12=28,liste!$B$28,IF(T12=29,liste!$B$29,IF(T12>=30,'2'!S12,"")))))))))))))))))))))))))))))) | U12: =IF(V12=1,liste!$F$1,IF(V12=2,liste!$F$2,IF(V12=3,liste!$F$3,IF(V12=4,liste!$F$4,IF(V12=5,liste!$F$5,IF(V12=6,liste!$F$6,IF(V12=7,liste!$F$7,IF(V12=8,liste!$F$8,IF(V12=9,liste!$F$9,IF(V12=10,liste!$F$10,IF(V12=11,liste!$F$11,IF(V12=12,liste!$F$12,IF(V12=13,liste!$F$13,IF(V12=14,liste!$F$14,IF(V12=15,liste!$F$15,IF(V12=16,liste!$F$16,IF(V12=17,liste!$F$17,IF(V12=18,liste!$F$18,IF(V12=19,liste!$F$19,IF(V12=20,liste!$F$20,"")))))))))))))))))))) | W12: =IF(X12=1,liste!$B$1,IF(X12=2,liste!$B$2,IF(X12=3,liste!$B$3,IF(X12=4,liste!$B$4,IF(X12=5,liste!$B$5,IF(X12=6,liste!$B$6,IF(X12=7,liste!$B$7,IF(X12=8,liste!$B$8,IF(X12=9,liste!$B$9,IF(X12=10,liste!$B$10,IF(X12=11,liste!$B$11,IF(X12=12,liste!$B$12,IF(X12=13,liste!$B$13,IF(X12=14,liste!$B$14,IF(X12=15,liste!$B$15,IF(X12=16,liste!$B$16,IF(X12=17,liste!$B$17,IF(X12=18,liste!$B$18,IF(X12=19,liste!$B$19,IF(X12=20,liste!$B$20,IF(X12=21,liste!$B$21,IF(X12=22,liste!$B$22,IF(X12=23,liste!$B$23,IF(X12=24,liste!$B$24,IF(X12=25,liste!$B$25,IF(X12=26,liste!$B$26,IF(X12=27,liste!$B$27,IF(X12=28,liste!$B$28,IF(X12=29,liste!$B$29,IF(X12>=30,'2'!W12,"")))))))))))))))))))))))))))))) | Y12: =IF(Z12=1,liste!$F$1,IF(Z12=2,liste!$F$2,IF(Z12=3,liste!$F$3,IF(Z12=4,liste!$F$4,IF(Z12=5,liste!$F$5,IF(Z12=6,liste!$F$6,IF(Z12=7,liste!$F$7,IF(Z12=8,liste!$F$8,IF(Z12=9,liste!$F$9,IF(Z12=10,liste!$F$10,IF(Z12=11,liste!$F$11,IF(Z12=12,liste!$F$12,IF(Z12=13,liste!$F$13,IF(Z12=14,liste!$F$14,IF(Z12=15,liste!$F$15,IF(Z12=16,liste!$F$16,IF(Z12=17,liste!$F$17,IF(Z12=18,liste!$F$18,IF(Z12=19,liste!$F$19,IF(Z12=20,liste!$F$20,"")))))))))))))))))))) | AA12: =IF(AB12=1,liste!$B$1,IF(AB12=2,liste!$B$2,IF(AB12=3,liste!$B$3,IF(AB12=4,liste!$B$4,IF(AB12=5,liste!$B$5,IF(AB12=6,liste!$B$6,IF(AB12=7,liste!$B$7,IF(AB12=8,liste!$B$8,IF(AB12=9,liste!$B$9,IF(AB12=10,liste!$B$10,IF(AB12=11,liste!$B$11,IF(AB12=12,liste!$B$12,IF(AB12=13,liste!$B$13,IF(AB12=14,liste!$B$14,IF(AB12=15,liste!$B$15,IF(AB12=16,liste!$B$16,IF(AB12=17,liste!$B$17,IF(AB12=18,liste!$B$18,IF(AB12=19,liste!$B$19,IF(AB12=20,liste!$B$20,IF(AB12=21,liste!$B$21,IF(AB12=22,liste!$B$22,IF(AB12=23,liste!$B$23,IF(AB12=24,liste!$B$24,IF(AB12=25,liste!$B$25,IF(AB12=26,liste!$B$26,IF(AB12=27,liste!$B$27,IF(AB12=28,liste!$B$28,IF(AB12=29,liste!$B$29,IF(AB12>=30,'2'!AA12,"")))))))))))))))))))))))))))))) | AC12: =IF(AD12=1,liste!$F$1,IF(AD12=2,liste!$F$2,IF(AD12=3,liste!$F$3,IF(AD12=4,liste!$F$4,IF(AD12=5,liste!$F$5,IF(AD12=6,liste!$F$6,IF(AD12=7,liste!$F$7,IF(AD12=8,liste!$F$8,IF(AD12=9,liste!$F$9,IF(AD12=10,liste!$F$10,IF(AD12=11,liste!$F$11,IF(AD12=12,liste!$F$12,IF(AD12=13,liste!$F$13,IF(AD12=14,liste!$F$14,IF(AD12=15,liste!$F$15,IF(AD12=16,liste!$F$16,IF(AD12=17,liste!$F$17,IF(AD12=18,liste!$F$18,IF(AD12=19,liste!$F$19,IF(AD12=20,liste!$F$20,"")))))))))))))))))))) | AE12: =IF(AF12=1,liste!$B$1,IF(AF12=2,liste!$B$2,IF(AF12=3,liste!$B$3,IF(AF12=4,liste!$B$4,IF(AF12=5,liste!$B$5,IF(AF12=6,liste!$B$6,IF(AF12=7,liste!$B$7,IF(AF12=8,liste!$B$8,IF(AF12=9,liste!$B$9,IF(AF12=10,liste!$B$10,IF(AF12=11,liste!$B$11,IF(AF12=12,liste!$B$12,IF(AF12=13,liste!$B$13,IF(AF12=14,liste!$B$14,IF(AF12=15,liste!$B$15,IF(AF12=16,liste!$B$16,IF(AF12=17,liste!$B$17,IF(AF12=18,liste!$B$18,IF(AF12=19,liste!$B$19,IF(AF12=20,liste!$B$20,IF(AF12=21,liste!$B$21,IF(AF12=22,liste!$B$22,IF(AF12=23,liste!$B$23,IF(AF12=24,liste!$B$24,IF(AF12=25,liste!$B$25,IF(AF12=26,liste!$B$26,IF(AF12=27,liste!$B$27,IF(AF12=28,liste!$B$28,IF(AF12=29,liste!$B$29,IF(AF12>=30,'2'!AE12,"")))))))))))))))))))))))))))))) | AG12: =IF(AH12=1,liste!$F$1,IF(AH12=2,liste!$F$2,IF(AH12=3,liste!$F$3,IF(AH12=4,liste!$F$4,IF(AH12=5,liste!$F$5,IF(AH12=6,liste!$F$6,IF(AH12=7,liste!$F$7,IF(AH12=8,liste!$F$8,IF(AH12=9,liste!$F$9,IF(AH12=10,liste!$F$10,IF(AH12=11,liste!$F$11,IF(AH12=12,liste!$F$12,IF(AH12=13,liste!$F$13,IF(AH12=14,liste!$F$14,IF(AH12=15,liste!$F$15,IF(AH12=16,liste!$F$16,IF(AH12=17,liste!$F$17,IF(AH12=18,liste!$F$18,IF(AH12=19,liste!$F$19,IF(AH12=20,liste!$F$20,""))))))))))))))))))))
C13: =IF(D13=1,liste!$D$1,IF(D13=2,liste!$D$2,IF(D13=3,liste!$D$3,IF(D13=4,liste!$D$4,IF(D13=5,liste!$D$5,IF(D13=6,liste!$D$6,IF(D13=7,liste!$D$7,IF(D13=8,liste!$D$8,IF(D13=9,liste!$D$9,IF(D13=10,liste!$D$10,IF(D13=11,liste!$D$11,IF(D13=12,liste!$D$12,IF(D13=13,liste!$D$13,IF(D13=14,liste!$D$14,IF(D13=15,liste!$D$15,IF(D13=16,liste!$D$16,IF(D13=17,liste!$D$17,IF(D13=18,liste!$D$18,IF(D13=19,liste!$D$19,IF(D13=20,liste!$D$20,IF(D13=21,liste!$D$21,IF(D13=22,liste!$D$22,IF(D13=23,liste!$D$23,IF(D13=24,liste!$D$24,IF(D13=25,liste!$D$25,IF(D13=26,liste!$D$26,IF(D13=27,liste!$D$27,IF(D13=28,liste!$D$28,IF(D13=29,liste!$D$29,IF(D13>=30,'2'!C13,"")))))))))))))))))))))))))))))) | G13: =IF(H13=1,liste!$D$1,IF(H13=2,liste!$D$2,IF(H13=3,liste!$D$3,IF(H13=4,liste!$D$4,IF(H13=5,liste!$D$5,IF(H13=6,liste!$D$6,IF(H13=7,liste!$D$7,IF(H13=8,liste!$D$8,IF(H13=9,liste!$D$9,IF(H13=10,liste!$D$10,IF(H13=11,liste!$D$11,IF(H13=12,liste!$D$12,IF(H13=13,liste!$D$13,IF(H13=14,liste!$D$14,IF(H13=15,liste!$D$15,IF(H13=16,liste!$D$16,IF(H13=17,liste!$D$17,IF(H13=18,liste!$D$18,IF(H13=19,liste!$D$19,IF(H13=20,liste!$D$20,IF(H13=21,liste!$D$21,IF(H13=22,liste!$D$22,IF(H13=23,liste!$D$23,IF(H13=24,liste!$D$24,IF(H13=25,liste!$D$25,IF(H13=26,liste!$D$26,IF(H13=27,liste!$D$27,IF(H13=28,liste!$D$28,IF(H13=29,liste!$D$29,IF(H13>=30,'2'!G13,"")))))))))))))))))))))))))))))) | K13: =IF(L13=1,liste!$D$1,IF(L13=2,liste!$D$2,IF(L13=3,liste!$D$3,IF(L13=4,liste!$D$4,IF(L13=5,liste!$D$5,IF(L13=6,liste!$D$6,IF(L13=7,liste!$D$7,IF(L13=8,liste!$D$8,IF(L13=9,liste!$D$9,IF(L13=10,liste!$D$10,IF(L13=11,liste!$D$11,IF(L13=12,liste!$D$12,IF(L13=13,liste!$D$13,IF(L13=14,liste!$D$14,IF(L13=15,liste!$D$15,IF(L13=16,liste!$D$16,IF(L13=17,liste!$D$17,IF(L13=18,liste!$D$18,IF(L13=19,liste!$D$19,IF(L13=20,liste!$D$20,IF(L13=21,liste!$D$21,IF(L13=22,liste!$D$22,IF(L13=23,liste!$D$23,IF(L13=24,liste!$D$24,IF(L13=25,liste!$D$25,IF(L13=26,liste!$D$26,IF(L13=27,liste!$D$27,IF(L13=28,liste!$D$28,IF(L13=29,liste!$D$29,IF(L13>=30,'2'!K13,"")))))))))))))))))))))))))))))) | O13: =IF(P13=1,liste!$D$1,IF(P13=2,liste!$D$2,IF(P13=3,liste!$D$3,IF(P13=4,liste!$D$4,IF(P13=5,liste!$D$5,IF(P13=6,liste!$D$6,IF(P13=7,liste!$D$7,IF(P13=8,liste!$D$8,IF(P13=9,liste!$D$9,IF(P13=10,liste!$D$10,IF(P13=11,liste!$D$11,IF(P13=12,liste!$D$12,IF(P13=13,liste!$D$13,IF(P13=14,liste!$D$14,IF(P13=15,liste!$D$15,IF(P13=16,liste!$D$16,IF(P13=17,liste!$D$17,IF(P13=18,liste!$D$18,IF(P13=19,liste!$D$19,IF(P13=20,liste!$D$20,IF(P13=21,liste!$D$21,IF(P13=22,liste!$D$22,IF(P13=23,liste!$D$23,IF(P13=24,liste!$D$24,IF(P13=25,liste!$D$25,IF(P13=26,liste!$D$26,IF(P13=27,liste!$D$27,IF(P13=28,liste!$D$28,IF(P13=29,liste!$D$29,IF(P13>=30,'2'!O13,"")))))))))))))))))))))))))))))) | S13: =IF(T13=1,liste!$D$1,IF(T13=2,liste!$D$2,IF(T13=3,liste!$D$3,IF(T13=4,liste!$D$4,IF(T13=5,liste!$D$5,IF(T13=6,liste!$D$6,IF(T13=7,liste!$D$7,IF(T13=8,liste!$D$8,IF(T13=9,liste!$D$9,IF(T13=10,liste!$D$10,IF(T13=11,liste!$D$11,IF(T13=12,liste!$D$12,IF(T13=13,liste!$D$13,IF(T13=14,liste!$D$14,IF(T13=15,liste!$D$15,IF(T13=16,liste!$D$16,IF(T13=17,liste!$D$17,IF(T13=18,liste!$D$18,IF(T13=19,liste!$D$19,IF(T13=20,liste!$D$20,IF(T13=21,liste!$D$21,IF(T13=22,liste!$D$22,IF(T13=23,liste!$D$23,IF(T13=24,liste!$D$24,IF(T13=25,liste!$D$25,IF(T13=26,liste!$D$26,IF(T13=27,liste!$D$27,IF(T13=28,liste!$D$28,IF(T13=29,liste!$D$29,IF(T13>=30,'2'!S13,"")))))))))))))))))))))))))))))) | W13: =IF(X13=1,liste!$D$1,IF(X13=2,liste!$D$2,IF(X13=3,liste!$D$3,IF(X13=4,liste!$D$4,IF(X13=5,liste!$D$5,IF(X13=6,liste!$D$6,IF(X13=7,liste!$D$7,IF(X13=8,liste!$D$8,IF(X13=9,liste!$D$9,IF(X13=10,liste!$D$10,IF(X13=11,liste!$D$11,IF(X13=12,liste!$D$12,IF(X13=13,liste!$D$13,IF(X13=14,liste!$D$14,IF(X13=15,liste!$D$15,IF(X13=16,liste!$D$16,IF(X13=17,liste!$D$17,IF(X13=18,liste!$D$18,IF(X13=19,liste!$D$19,IF(X13=20,liste!$D$20,IF(X13=21,liste!$D$21,IF(X13=22,liste!$D$22,IF(X13=23,liste!$D$23,IF(X13=24,liste!$D$24,IF(X13=25,liste!$D$25,IF(X13=26,liste!$D$26,IF(X13=27,liste!$D$27,IF(X13=28,liste!$D$28,IF(X13=29,liste!$D$29,IF(X13>=30,'2'!W13,"")))))))))))))))))))))))))))))) | AA13: =IF(AB13=1,liste!$D$1,IF(AB13=2,liste!$D$2,IF(AB13=3,liste!$D$3,IF(AB13=4,liste!$D$4,IF(AB13=5,liste!$D$5,IF(AB13=6,liste!$D$6,IF(AB13=7,liste!$D$7,IF(AB13=8,liste!$D$8,IF(AB13=9,liste!$D$9,IF(AB13=10,liste!$D$10,IF(AB13=11,liste!$D$11,IF(AB13=12,liste!$D$12,IF(AB13=13,liste!$D$13,IF(AB13=14,liste!$D$14,IF(AB13=15,liste!$D$15,IF(AB13=16,liste!$D$16,IF(AB13=17,liste!$D$17,IF(AB13=18,liste!$D$18,IF(AB13=19,liste!$D$19,IF(AB13=20,liste!$D$20,IF(AB13=21,liste!$D$21,IF(AB13=22,liste!$D$22,IF(AB13=23,liste!$D$23,IF(AB13=24,liste!$D$24,IF(AB13=25,liste!$D$25,IF(AB13=26,liste!$D$26,IF(AB13=27,liste!$D$27,IF(AB13=28,liste!$D$28,IF(AB13=29,liste!$D$29,IF(AB13>=30,'2'!AA13,"")))))))))))))))))))))))))))))) | AE13: =IF(AF13=1,liste!$D$1,IF(AF13=2,liste!$D$2,IF(AF13=3,liste!$D$3,IF(AF13=4,liste!$D$4,IF(AF13=5,liste!$D$5,IF(AF13=6,liste!$D$6,IF(AF13=7,liste!$D$7,IF(AF13=8,liste!$D$8,IF(AF13=9,liste!$D$9,IF(AF13=10,liste!$D$10,IF(AF13=11,liste!$D$11,IF(AF13=12,liste!$D$12,IF(AF13=13,liste!$D$13,IF(AF13=14,liste!$D$14,IF(AF13=15,liste!$D$15,IF(AF13=16,liste!$D$16,IF(AF13=17,liste!$D$17,IF(AF13=18,liste!$D$18,IF(AF13=19,liste!$D$19,IF(AF13=20,liste!$D$20,IF(AF13=21,liste!$D$21,IF(AF13=22,liste!$D$22,IF(AF13=23,liste!$D$23,IF(AF13=24,liste!$D$24,IF(AF13=25,liste!$D$25,IF(AF13=26,liste!$D$26,IF(AF13=27,liste!$D$27,IF(AF13=28,liste!$D$28,IF(AF13=29,liste!$D$29,IF(AF13>=30,'2'!AE13,""))))))))))))))))))))))))))))))
B14: =liste!I5 -> 16:30-17:20 | C14: =IF(D14=1,liste!$B$1,IF(D14=2,liste!$B$2,IF(D14=3,liste!$B$3,IF(D14=4,liste!$B$4,IF(D14=5,liste!$B$5,IF(D14=6,liste!$B$6,IF(D14=7,liste!$B$7,IF(D14=8,liste!$B$8,IF(D14=9,liste!$B$9,IF(D14=10,liste!$B$10,IF(D14=11,liste!$B$11,IF(D14=12,liste!$B$12,IF(D14=13,liste!$B$13,IF(D14=14,liste!$B$14,IF(D14=15,liste!$B$15,IF(D14=16,liste!$B$16,IF(D14=17,liste!$B$17,IF(D14=18,liste!$B$18,IF(D14=19,liste!$B$19,IF(D14=20,liste!$B$20,IF(D14=21,liste!$B$21,IF(D14=22,liste!$B$22,IF(D14=23,liste!$B$23,IF(D14=24,liste!$B$24,IF(D14=25,liste!$B$25,IF(D14=26,liste!$B$26,IF(D14=27,liste!$B$27,IF(D14=28,liste!$B$28,IF(D14=29,liste!$B$29,IF(D14>=30,'2'!C14,"")))))))))))))))))))))))))))))) | E14: =IF(F14=1,liste!$F$1,IF(F14=2,liste!$F$2,IF(F14=3,liste!$F$3,IF(F14=4,liste!$F$4,IF(F14=5,liste!$F$5,IF(F14=6,liste!$F$6,IF(F14=7,liste!$F$7,IF(F14=8,liste!$F$8,IF(F14=9,liste!$F$9,IF(F14=10,liste!$F$10,IF(F14=11,liste!$F$11,IF(F14=12,liste!$F$12,IF(F14=13,liste!$F$13,IF(F14=14,liste!$F$14,IF(F14=15,liste!$F$15,IF(F14=16,liste!$F$16,IF(F14=17,liste!$F$17,IF(F14=18,liste!$F$18,IF(F14=19,liste!$F$19,IF(F14=20,liste!$F$20,"")))))))))))))))))))) | G14: =IF(H14=1,liste!$B$1,IF(H14=2,liste!$B$2,IF(H14=3,liste!$B$3,IF(H14=4,liste!$B$4,IF(H14=5,liste!$B$5,IF(H14=6,liste!$B$6,IF(H14=7,liste!$B$7,IF(H14=8,liste!$B$8,IF(H14=9,liste!$B$9,IF(H14=10,liste!$B$10,IF(H14=11,liste!$B$11,IF(H14=12,liste!$B$12,IF(H14=13,liste!$B$13,IF(H14=14,liste!$B$14,IF(H14=15,liste!$B$15,IF(H14=16,liste!$B$16,IF(H14=17,liste!$B$17,IF(H14=18,liste!$B$18,IF(H14=19,liste!$B$19,IF(H14=20,liste!$B$20,IF(H14=21,liste!$B$21,IF(H14=22,liste!$B$22,IF(H14=23,liste!$B$23,IF(H14=24,liste!$B$24,IF(H14=25,liste!$B$25,IF(H14=26,liste!$B$26,IF(H14=27,liste!$B$27,IF(H14=28,liste!$B$28,IF(H14=29,liste!$B$29,IF(H14>=30,'2'!G14,"")))))))))))))))))))))))))))))) | I14: =IF(J14=1,liste!$F$1,IF(J14=2,liste!$F$2,IF(J14=3,liste!$F$3,IF(J14=4,liste!$F$4,IF(J14=5,liste!$F$5,IF(J14=6,liste!$F$6,IF(J14=7,liste!$F$7,IF(J14=8,liste!$F$8,IF(J14=9,liste!$F$9,IF(J14=10,liste!$F$10,IF(J14=11,liste!$F$11,IF(J14=12,liste!$F$12,IF(J14=13,liste!$F$13,IF(J14=14,liste!$F$14,IF(J14=15,liste!$F$15,IF(J14=16,liste!$F$16,IF(J14=17,liste!$F$17,IF(J14=18,liste!$F$18,IF(J14=19,liste!$F$19,IF(J14=20,liste!$F$20,"")))))))))))))))))))) | K14: =IF(L14=1,liste!$B$1,IF(L14=2,liste!$B$2,IF(L14=3,liste!$B$3,IF(L14=4,liste!$B$4,IF(L14=5,liste!$B$5,IF(L14=6,liste!$B$6,IF(L14=7,liste!$B$7,IF(L14=8,liste!$B$8,IF(L14=9,liste!$B$9,IF(L14=10,liste!$B$10,IF(L14=11,liste!$B$11,IF(L14=12,liste!$B$12,IF(L14=13,liste!$B$13,IF(L14=14,liste!$B$14,IF(L14=15,liste!$B$15,IF(L14=16,liste!$B$16,IF(L14=17,liste!$B$17,IF(L14=18,liste!$B$18,IF(L14=19,liste!$B$19,IF(L14=20,liste!$B$20,IF(L14=21,liste!$B$21,IF(L14=22,liste!$B$22,IF(L14=23,liste!$B$23,IF(L14=24,liste!$B$24,IF(L14=25,liste!$B$25,IF(L14=26,liste!$B$26,IF(L14=27,liste!$B$27,IF(L14=28,liste!$B$28,IF(L14=29,liste!$B$29,IF(L14>=30,'2'!K14,"")))))))))))))))))))))))))))))) | M14: =IF(N14=1,liste!$F$1,IF(N14=2,liste!$F$2,IF(N14=3,liste!$F$3,IF(N14=4,liste!$F$4,IF(N14=5,liste!$F$5,IF(N14=6,liste!$F$6,IF(N14=7,liste!$F$7,IF(N14=8,liste!$F$8,IF(N14=9,liste!$F$9,IF(N14=10,liste!$F$10,IF(N14=11,liste!$F$11,IF(N14=12,liste!$F$12,IF(N14=13,liste!$F$13,IF(N14=14,liste!$F$14,IF(N14=15,liste!$F$15,IF(N14=16,liste!$F$16,IF(N14=17,liste!$F$17,IF(N14=18,liste!$F$18,IF(N14=19,liste!$F$19,IF(N14=20,liste!$F$20,"")))))))))))))))))))) | O14: =IF(P14=1,liste!$B$1,IF(P14=2,liste!$B$2,IF(P14=3,liste!$B$3,IF(P14=4,liste!$B$4,IF(P14=5,liste!$B$5,IF(P14=6,liste!$B$6,IF(P14=7,liste!$B$7,IF(P14=8,liste!$B$8,IF(P14=9,liste!$B$9,IF(P14=10,liste!$B$10,IF(P14=11,liste!$B$11,IF(P14=12,liste!$B$12,IF(P14=13,liste!$B$13,IF(P14=14,liste!$B$14,IF(P14=15,liste!$B$15,IF(P14=16,liste!$B$16,IF(P14=17,liste!$B$17,IF(P14=18,liste!$B$18,IF(P14=19,liste!$B$19,IF(P14=20,liste!$B$20,IF(P14=21,liste!$B$21,IF(P14=22,liste!$B$22,IF(P14=23,liste!$B$23,IF(P14=24,liste!$B$24,IF(P14=25,liste!$B$25,IF(P14=26,liste!$B$26,IF(P14=27,liste!$B$27,IF(P14=28,liste!$B$28,IF(P14=29,liste!$B$29,IF(P14>=30,'2'!O14,"")))))))))))))))))))))))))))))) | Q14: =IF(R14=1,liste!$F$1,IF(R14=2,liste!$F$2,IF(R14=3,liste!$F$3,IF(R14=4,liste!$F$4,IF(R14=5,liste!$F$5,IF(R14=6,liste!$F$6,IF(R14=7,liste!$F$7,IF(R14=8,liste!$F$8,IF(R14=9,liste!$F$9,IF(R14=10,liste!$F$10,IF(R14=11,liste!$F$11,IF(R14=12,liste!$F$12,IF(R14=13,liste!$F$13,IF(R14=14,liste!$F$14,IF(R14=15,liste!$F$15,IF(R14=16,liste!$F$16,IF(R14=17,liste!$F$17,IF(R14=18,liste!$F$18,IF(R14=19,liste!$F$19,IF(R14=20,liste!$F$20,"")))))))))))))))))))) | S14: =IF(T14=1,liste!$B$1,IF(T14=2,liste!$B$2,IF(T14=3,liste!$B$3,IF(T14=4,liste!$B$4,IF(T14=5,liste!$B$5,IF(T14=6,liste!$B$6,IF(T14=7,liste!$B$7,IF(T14=8,liste!$B$8,IF(T14=9,liste!$B$9,IF(T14=10,liste!$B$10,IF(T14=11,liste!$B$11,IF(T14=12,liste!$B$12,IF(T14=13,liste!$B$13,IF(T14=14,liste!$B$14,IF(T14=15,liste!$B$15,IF(T14=16,liste!$B$16,IF(T14=17,liste!$B$17,IF(T14=18,liste!$B$18,IF(T14=19,liste!$B$19,IF(T14=20,liste!$B$20,IF(T14=21,liste!$B$21,IF(T14=22,liste!$B$22,IF(T14=23,liste!$B$23,IF(T14=24,liste!$B$24,IF(T14=25,liste!$B$25,IF(T14=26,liste!$B$26,IF(T14=27,liste!$B$27,IF(T14=28,liste!$B$28,IF(T14=29,liste!$B$29,IF(T14>=30,'2'!S14,"")))))))))))))))))))))))))))))) | U14: =IF(V14=1,liste!$F$1,IF(V14=2,liste!$F$2,IF(V14=3,liste!$F$3,IF(V14=4,liste!$F$4,IF(V14=5,liste!$F$5,IF(V14=6,liste!$F$6,IF(V14=7,liste!$F$7,IF(V14=8,liste!$F$8,IF(V14=9,liste!$F$9,IF(V14=10,liste!$F$10,IF(V14=11,liste!$F$11,IF(V14=12,liste!$F$12,IF(V14=13,liste!$F$13,IF(V14=14,liste!$F$14,IF(V14=15,liste!$F$15,IF(V14=16,liste!$F$16,IF(V14=17,liste!$F$17,IF(V14=18,liste!$F$18,IF(V14=19,liste!$F$19,IF(V14=20,liste!$F$20,"")))))))))))))))))))) | W14: =IF(X14=1,liste!$B$1,IF(X14=2,liste!$B$2,IF(X14=3,liste!$B$3,IF(X14=4,liste!$B$4,IF(X14=5,liste!$B$5,IF(X14=6,liste!$B$6,IF(X14=7,liste!$B$7,IF(X14=8,liste!$B$8,IF(X14=9,liste!$B$9,IF(X14=10,liste!$B$10,IF(X14=11,liste!$B$11,IF(X14=12,liste!$B$12,IF(X14=13,liste!$B$13,IF(X14=14,liste!$B$14,IF(X14=15,liste!$B$15,IF(X14=16,liste!$B$16,IF(X14=17,liste!$B$17,IF(X14=18,liste!$B$18,IF(X14=19,liste!$B$19,IF(X14=20,liste!$B$20,IF(X14=21,liste!$B$21,IF(X14=22,liste!$B$22,IF(X14=23,liste!$B$23,IF(X14=24,liste!$B$24,IF(X14=25,liste!$B$25,IF(X14=26,liste!$B$26,IF(X14=27,liste!$B$27,IF(X14=28,liste!$B$28,IF(X14=29,liste!$B$29,IF(X14>=30,'2'!W14,"")))))))))))))))))))))))))))))) | Y14: =IF(Z14=1,liste!$F$1,IF(Z14=2,liste!$F$2,IF(Z14=3,liste!$F$3,IF(Z14=4,liste!$F$4,IF(Z14=5,liste!$F$5,IF(Z14=6,liste!$F$6,IF(Z14=7,liste!$F$7,IF(Z14=8,liste!$F$8,IF(Z14=9,liste!$F$9,IF(Z14=10,liste!$F$10,IF(Z14=11,liste!$F$11,IF(Z14=12,liste!$F$12,IF(Z14=13,liste!$F$13,IF(Z14=14,liste!$F$14,IF(Z14=15,liste!$F$15,IF(Z14=16,liste!$F$16,IF(Z14=17,liste!$F$17,IF(Z14=18,liste!$F$18,IF(Z14=19,liste!$F$19,IF(Z14=20,liste!$F$20,"")))))))))))))))))))) | AA14: =IF(AB14=1,liste!$B$1,IF(AB14=2,liste!$B$2,IF(AB14=3,liste!$B$3,IF(AB14=4,liste!$B$4,IF(AB14=5,liste!$B$5,IF(AB14=6,liste!$B$6,IF(AB14=7,liste!$B$7,IF(AB14=8,liste!$B$8,IF(AB14=9,liste!$B$9,IF(AB14=10,liste!$B$10,IF(AB14=11,liste!$B$11,IF(AB14=12,liste!$B$12,IF(AB14=13,liste!$B$13,IF(AB14=14,liste!$B$14,IF(AB14=15,liste!$B$15,IF(AB14=16,liste!$B$16,IF(AB14=17,liste!$B$17,IF(AB14=18,liste!$B$18,IF(AB14=19,liste!$B$19,IF(AB14=20,liste!$B$20,IF(AB14=21,liste!$B$21,IF(AB14=22,liste!$B$22,IF(AB14=23,liste!$B$23,IF(AB14=24,liste!$B$24,IF(AB14=25,liste!$B$25,IF(AB14=26,liste!$B$26,IF(AB14=27,liste!$B$27,IF(AB14=28,liste!$B$28,IF(AB14=29,liste!$B$29,IF(AB14>=30,'2'!AA14,"")))))))))))))))))))))))))))))) | AC14: =IF(AD14=1,liste!$F$1,IF(AD14=2,liste!$F$2,IF(AD14=3,liste!$F$3,IF(AD14=4,liste!$F$4,IF(AD14=5,liste!$F$5,IF(AD14=6,liste!$F$6,IF(AD14=7,liste!$F$7,IF(AD14=8,liste!$F$8,IF(AD14=9,liste!$F$9,IF(AD14=10,liste!$F$10,IF(AD14=11,liste!$F$11,IF(AD14=12,liste!$F$12,IF(AD14=13,liste!$F$13,IF(AD14=14,liste!$F$14,IF(AD14=15,liste!$F$15,IF(AD14=16,liste!$F$16,IF(AD14=17,liste!$F$17,IF(AD14=18,liste!$F$18,IF(AD14=19,liste!$F$19,IF(AD14=20,liste!$F$20,"")))))))))))))))))))) | AE14: =IF(AF14=1,liste!$B$1,IF(AF14=2,liste!$B$2,IF(AF14=3,liste!$B$3,IF(AF14=4,liste!$B$4,IF(AF14=5,liste!$B$5,IF(AF14=6,liste!$B$6,IF(AF14=7,liste!$B$7,IF(AF14=8,liste!$B$8,IF(AF14=9,liste!$B$9,IF(AF14=10,liste!$B$10,IF(AF14=11,liste!$B$11,IF(AF14=12,liste!$B$12,IF(AF14=13,liste!$B$13,IF(AF14=14,liste!$B$14,IF(AF14=15,liste!$B$15,IF(AF14=16,liste!$B$16,IF(AF14=17,liste!$B$17,IF(AF14=18,liste!$B$18,IF(AF14=19,liste!$B$19,IF(AF14=20,liste!$B$20,IF(AF14=21,liste!$B$21,IF(AF14=22,liste!$B$22,IF(AF14=23,liste!$B$23,IF(AF14=24,liste!$B$24,IF(AF14=25,liste!$B$25,IF(AF14=26,liste!$B$26,IF(AF14=27,liste!$B$27,IF(AF14=28,liste!$B$28,IF(AF14=29,liste!$B$29,IF(AF14>=30,'2'!AE14,"")))))))))))))))))))))))))))))) | AG14: =IF(AH14=1,liste!$F$1,IF(AH14=2,liste!$F$2,IF(AH14=3,liste!$F$3,IF(AH14=4,liste!$F$4,IF(AH14=5,liste!$F$5,IF(AH14=6,liste!$F$6,IF(AH14=7,liste!$F$7,IF(AH14=8,liste!$F$8,IF(AH14=9,liste!$F$9,IF(AH14=10,liste!$F$10,IF(AH14=11,liste!$F$11,IF(AH14=12,liste!$F$12,IF(AH14=13,liste!$F$13,IF(AH14=14,liste!$F$14,IF(AH14=15,liste!$F$15,IF(AH14=16,liste!$F$16,IF(AH14=17,liste!$F$17,IF(AH14=18,liste!$F$18,IF(AH14=19,liste!$F$19,IF(AH14=20,liste!$F$20,""))))))))))))))))))))
C15: =IF(D15=1,liste!$D$1,IF(D15=2,liste!$D$2,IF(D15=3,liste!$D$3,IF(D15=4,liste!$D$4,IF(D15=5,liste!$D$5,IF(D15=6,liste!$D$6,IF(D15=7,liste!$D$7,IF(D15=8,liste!$D$8,IF(D15=9,liste!$D$9,IF(D15=10,liste!$D$10,IF(D15=11,liste!$D$11,IF(D15=12,liste!$D$12,IF(D15=13,liste!$D$13,IF(D15=14,liste!$D$14,IF(D15=15,liste!$D$15,IF(D15=16,liste!$D$16,IF(D15=17,liste!$D$17,IF(D15=18,liste!$D$18,IF(D15=19,liste!$D$19,IF(D15=20,liste!$D$20,IF(D15=21,liste!$D$21,IF(D15=22,liste!$D$22,IF(D15=23,liste!$D$23,IF(D15=24,liste!$D$24,IF(D15=25,liste!$D$25,IF(D15=26,liste!$D$26,IF(D15=27,liste!$D$27,IF(D15=28,liste!$D$28,IF(D15=29,liste!$D$29,IF(D15>=30,'2'!C15,"")))))))))))))))))))))))))))))) | G15: =IF(H15=1,liste!$D$1,IF(H15=2,liste!$D$2,IF(H15=3,liste!$D$3,IF(H15=4,liste!$D$4,IF(H15=5,liste!$D$5,IF(H15=6,liste!$D$6,IF(H15=7,liste!$D$7,IF(H15=8,liste!$D$8,IF(H15=9,liste!$D$9,IF(H15=10,liste!$D$10,IF(H15=11,liste!$D$11,IF(H15=12,liste!$D$12,IF(H15=13,liste!$D$13,IF(H15=14,liste!$D$14,IF(H15=15,liste!$D$15,IF(H15=16,liste!$D$16,IF(H15=17,liste!$D$17,IF(H15=18,liste!$D$18,IF(H15=19,liste!$D$19,IF(H15=20,liste!$D$20,IF(H15=21,liste!$D$21,IF(H15=22,liste!$D$22,IF(H15=23,liste!$D$23,IF(H15=24,liste!$D$24,IF(H15=25,liste!$D$25,IF(H15=26,liste!$D$26,IF(H15=27,liste!$D$27,IF(H15=28,liste!$D$28,IF(H15=29,liste!$D$29,IF(H15>=30,'2'!G15,"")))))))))))))))))))))))))))))) | K15: =IF(L15=1,liste!$D$1,IF(L15=2,liste!$D$2,IF(L15=3,liste!$D$3,IF(L15=4,liste!$D$4,IF(L15=5,liste!$D$5,IF(L15=6,liste!$D$6,IF(L15=7,liste!$D$7,IF(L15=8,liste!$D$8,IF(L15=9,liste!$D$9,IF(L15=10,liste!$D$10,IF(L15=11,liste!$D$11,IF(L15=12,liste!$D$12,IF(L15=13,liste!$D$13,IF(L15=14,liste!$D$14,IF(L15=15,liste!$D$15,IF(L15=16,liste!$D$16,IF(L15=17,liste!$D$17,IF(L15=18,liste!$D$18,IF(L15=19,liste!$D$19,IF(L15=20,liste!$D$20,IF(L15=21,liste!$D$21,IF(L15=22,liste!$D$22,IF(L15=23,liste!$D$23,IF(L15=24,liste!$D$24,IF(L15=25,liste!$D$25,IF(L15=26,liste!$D$26,IF(L15=27,liste!$D$27,IF(L15=28,liste!$D$28,IF(L15=29,liste!$D$29,IF(L15>=30,'2'!K15,"")))))))))))))))))))))))))))))) | O15: =IF(P15=1,liste!$D$1,IF(P15=2,liste!$D$2,IF(P15=3,liste!$D$3,IF(P15=4,liste!$D$4,IF(P15=5,liste!$D$5,IF(P15=6,liste!$D$6,IF(P15=7,liste!$D$7,IF(P15=8,liste!$D$8,IF(P15=9,liste!$D$9,IF(P15=10,liste!$D$10,IF(P15=11,liste!$D$11,IF(P15=12,liste!$D$12,IF(P15=13,liste!$D$13,IF(P15=14,liste!$D$14,IF(P15=15,liste!$D$15,IF(P15=16,liste!$D$16,IF(P15=17,liste!$D$17,IF(P15=18,liste!$D$18,IF(P15=19,liste!$D$19,IF(P15=20,liste!$D$20,IF(P15=21,liste!$D$21,IF(P15=22,liste!$D$22,IF(P15=23,liste!$D$23,IF(P15=24,liste!$D$24,IF(P15=25,liste!$D$25,IF(P15=26,liste!$D$26,IF(P15=27,liste!$D$27,IF(P15=28,liste!$D$28,IF(P15=29,liste!$D$29,IF(P15>=30,'2'!O15,"")))))))))))))))))))))))))))))) | S15: =IF(T15=1,liste!$D$1,IF(T15=2,liste!$D$2,IF(T15=3,liste!$D$3,IF(T15=4,liste!$D$4,IF(T15=5,liste!$D$5,IF(T15=6,liste!$D$6,IF(T15=7,liste!$D$7,IF(T15=8,liste!$D$8,IF(T15=9,liste!$D$9,IF(T15=10,liste!$D$10,IF(T15=11,liste!$D$11,IF(T15=12,liste!$D$12,IF(T15=13,liste!$D$13,IF(T15=14,liste!$D$14,IF(T15=15,liste!$D$15,IF(T15=16,liste!$D$16,IF(T15=17,liste!$D$17,IF(T15=18,liste!$D$18,IF(T15=19,liste!$D$19,IF(T15=20,liste!$D$20,IF(T15=21,liste!$D$21,IF(T15=22,liste!$D$22,IF(T15=23,liste!$D$23,IF(T15=24,liste!$D$24,IF(T15=25,liste!$D$25,IF(T15=26,liste!$D$26,IF(T15=27,liste!$D$27,IF(T15=28,liste!$D$28,IF(T15=29,liste!$D$29,IF(T15>=30,'2'!S15,"")))))))))))))))))))))))))))))) | W15: =IF(X15=1,liste!$D$1,IF(X15=2,liste!$D$2,IF(X15=3,liste!$D$3,IF(X15=4,liste!$D$4,IF(X15=5,liste!$D$5,IF(X15=6,liste!$D$6,IF(X15=7,liste!$D$7,IF(X15=8,liste!$D$8,IF(X15=9,liste!$D$9,IF(X15=10,liste!$D$10,IF(X15=11,liste!$D$11,IF(X15=12,liste!$D$12,IF(X15=13,liste!$D$13,IF(X15=14,liste!$D$14,IF(X15=15,liste!$D$15,IF(X15=16,liste!$D$16,IF(X15=17,liste!$D$17,IF(X15=18,liste!$D$18,IF(X15=19,liste!$D$19,IF(X15=20,liste!$D$20,IF(X15=21,liste!$D$21,IF(X15=22,liste!$D$22,IF(X15=23,liste!$D$23,IF(X15=24,liste!$D$24,IF(X15=25,liste!$D$25,IF(X15=26,liste!$D$26,IF(X15=27,liste!$D$27,IF(X15=28,liste!$D$28,IF(X15=29,liste!$D$29,IF(X15>=30,'2'!W15,"")))))))))))))))))))))))))))))) | AA15: =IF(AB15=1,liste!$D$1,IF(AB15=2,liste!$D$2,IF(AB15=3,liste!$D$3,IF(AB15=4,liste!$D$4,IF(AB15=5,liste!$D$5,IF(AB15=6,liste!$D$6,IF(AB15=7,liste!$D$7,IF(AB15=8,liste!$D$8,IF(AB15=9,liste!$D$9,IF(AB15=10,liste!$D$10,IF(AB15=11,liste!$D$11,IF(AB15=12,liste!$D$12,IF(AB15=13,liste!$D$13,IF(AB15=14,liste!$D$14,IF(AB15=15,liste!$D$15,IF(AB15=16,liste!$D$16,IF(AB15=17,liste!$D$17,IF(AB15=18,liste!$D$18,IF(AB15=19,liste!$D$19,IF(AB15=20,liste!$D$20,IF(AB15=21,liste!$D$21,IF(AB15=22,liste!$D$22,IF(AB15=23,liste!$D$23,IF(AB15=24,liste!$D$24,IF(AB15=25,liste!$D$25,IF(AB15=26,liste!$D$26,IF(AB15=27,liste!$D$27,IF(AB15=28,liste!$D$28,IF(AB15=29,liste!$D$29,IF(AB15>=30,'2'!AA15,"")))))))))))))))))))))))))))))) | AE15: =IF(AF15=1,liste!$D$1,IF(AF15=2,liste!$D$2,IF(AF15=3,liste!$D$3,IF(AF15=4,liste!$D$4,IF(AF15=5,liste!$D$5,IF(AF15=6,liste!$D$6,IF(AF15=7,liste!$D$7,IF(AF15=8,liste!$D$8,IF(AF15=9,liste!$D$9,IF(AF15=10,liste!$D$10,IF(AF15=11,liste!$D$11,IF(AF15=12,liste!$D$12,IF(AF15=13,liste!$D$13,IF(AF15=14,liste!$D$14,IF(AF15=15,liste!$D$15,IF(AF15=16,liste!$D$16,IF(AF15=17,liste!$D$17,IF(AF15=18,liste!$D$18,IF(AF15=19,liste!$D$19,IF(AF15=20,liste!$D$20,IF(AF15=21,liste!$D$21,IF(AF15=22,liste!$D$22,IF(AF15=23,liste!$D$23,IF(AF15=24,liste!$D$24,IF(AF15=25,liste!$D$25,IF(AF15=26,liste!$D$26,IF(AF15=27,liste!$D$27,IF(AF15=28,liste!$D$28,IF(AF15=29,liste!$D$29,IF(AF15>=30,'2'!AE15,""))))))))))))))))))))))))))))))
B16: =liste!I6 -> 17:30-18:20 | C16: =IF(D16=1,liste!$B$1,IF(D16=2,liste!$B$2,IF(D16=3,liste!$B$3,IF(D16=4,liste!$B$4,IF(D16=5,liste!$B$5,IF(D16=6,liste!$B$6,IF(D16=7,liste!$B$7,IF(D16=8,liste!$B$8,IF(D16=9,liste!$B$9,IF(D16=10,liste!$B$10,IF(D16=11,liste!$B$11,IF(D16=12,liste!$B$12,IF(D16=13,liste!$B$13,IF(D16=14,liste!$B$14,IF(D16=15,liste!$B$15,IF(D16=16,liste!$B$16,IF(D16=17,liste!$B$17,IF(D16=18,liste!$B$18,IF(D16=19,liste!$B$19,IF(D16=20,liste!$B$20,IF(D16=21,liste!$B$21,IF(D16=22,liste!$B$22,IF(D16=23,liste!$B$23,IF(D16=24,liste!$B$24,IF(D16=25,liste!$B$25,IF(D16=26,liste!$B$26,IF(D16=27,liste!$B$27,IF(D16=28,liste!$B$28,IF(D16=29,liste!$B$29,IF(D16>=30,'2'!C16,"")))))))))))))))))))))))))))))) | E16: =IF(F16=1,liste!$F$1,IF(F16=2,liste!$F$2,IF(F16=3,liste!$F$3,IF(F16=4,liste!$F$4,IF(F16=5,liste!$F$5,IF(F16=6,liste!$F$6,IF(F16=7,liste!$F$7,IF(F16=8,liste!$F$8,IF(F16=9,liste!$F$9,IF(F16=10,liste!$F$10,IF(F16=11,liste!$F$11,IF(F16=12,liste!$F$12,IF(F16=13,liste!$F$13,IF(F16=14,liste!$F$14,IF(F16=15,liste!$F$15,IF(F16=16,liste!$F$16,IF(F16=17,liste!$F$17,IF(F16=18,liste!$F$18,IF(F16=19,liste!$F$19,IF(F16=20,liste!$F$20,"")))))))))))))))))))) | G16: =IF(H16=1,liste!$B$1,IF(H16=2,liste!$B$2,IF(H16=3,liste!$B$3,IF(H16=4,liste!$B$4,IF(H16=5,liste!$B$5,IF(H16=6,liste!$B$6,IF(H16=7,liste!$B$7,IF(H16=8,liste!$B$8,IF(H16=9,liste!$B$9,IF(H16=10,liste!$B$10,IF(H16=11,liste!$B$11,IF(H16=12,liste!$B$12,IF(H16=13,liste!$B$13,IF(H16=14,liste!$B$14,IF(H16=15,liste!$B$15,IF(H16=16,liste!$B$16,IF(H16=17,liste!$B$17,IF(H16=18,liste!$B$18,IF(H16=19,liste!$B$19,IF(H16=20,liste!$B$20,IF(H16=21,liste!$B$21,IF(H16=22,liste!$B$22,IF(H16=23,liste!$B$23,IF(H16=24,liste!$B$24,IF(H16=25,liste!$B$25,IF(H16=26,liste!$B$26,IF(H16=27,liste!$B$27,IF(H16=28,liste!$B$28,IF(H16=29,liste!$B$29,IF(H16>=30,'2'!G16,"")))))))))))))))))))))))))))))) | I16: =IF(J16=1,liste!$F$1,IF(J16=2,liste!$F$2,IF(J16=3,liste!$F$3,IF(J16=4,liste!$F$4,IF(J16=5,liste!$F$5,IF(J16=6,liste!$F$6,IF(J16=7,liste!$F$7,IF(J16=8,liste!$F$8,IF(J16=9,liste!$F$9,IF(J16=10,liste!$F$10,IF(J16=11,liste!$F$11,IF(J16=12,liste!$F$12,IF(J16=13,liste!$F$13,IF(J16=14,liste!$F$14,IF(J16=15,liste!$F$15,IF(J16=16,liste!$F$16,IF(J16=17,liste!$F$17,IF(J16=18,liste!$F$18,IF(J16=19,liste!$F$19,IF(J16=20,liste!$F$20,"")))))))))))))))))))) | K16: =IF(L16=1,liste!$B$1,IF(L16=2,liste!$B$2,IF(L16=3,liste!$B$3,IF(L16=4,liste!$B$4,IF(L16=5,liste!$B$5,IF(L16=6,liste!$B$6,IF(L16=7,liste!$B$7,IF(L16=8,liste!$B$8,IF(L16=9,liste!$B$9,IF(L16=10,liste!$B$10,IF(L16=11,liste!$B$11,IF(L16=12,liste!$B$12,IF(L16=13,liste!$B$13,IF(L16=14,liste!$B$14,IF(L16=15,liste!$B$15,IF(L16=16,liste!$B$16,IF(L16=17,liste!$B$17,IF(L16=18,liste!$B$18,IF(L16=19,liste!$B$19,IF(L16=20,liste!$B$20,IF(L16=21,liste!$B$21,IF(L16=22,liste!$B$22,IF(L16=23,liste!$B$23,IF(L16=24,liste!$B$24,IF(L16=25,liste!$B$25,IF(L16=26,liste!$B$26,IF(L16=27,liste!$B$27,IF(L16=28,liste!$B$28,IF(L16=29,liste!$B$29,IF(L16>=30,'2'!K16,"")))))))))))))))))))))))))))))) | M16: =IF(N16=1,liste!$F$1,IF(N16=2,liste!$F$2,IF(N16=3,liste!$F$3,IF(N16=4,liste!$F$4,IF(N16=5,liste!$F$5,IF(N16=6,liste!$F$6,IF(N16=7,liste!$F$7,IF(N16=8,liste!$F$8,IF(N16=9,liste!$F$9,IF(N16=10,liste!$F$10,IF(N16=11,liste!$F$11,IF(N16=12,liste!$F$12,IF(N16=13,liste!$F$13,IF(N16=14,liste!$F$14,IF(N16=15,liste!$F$15,IF(N16=16,liste!$F$16,IF(N16=17,liste!$F$17,IF(N16=18,liste!$F$18,IF(N16=19,liste!$F$19,IF(N16=20,liste!$F$20,"")))))))))))))))))))) | O16: =IF(P16=1,liste!$B$1,IF(P16=2,liste!$B$2,IF(P16=3,liste!$B$3,IF(P16=4,liste!$B$4,IF(P16=5,liste!$B$5,IF(P16=6,liste!$B$6,IF(P16=7,liste!$B$7,IF(P16=8,liste!$B$8,IF(P16=9,liste!$B$9,IF(P16=10,liste!$B$10,IF(P16=11,liste!$B$11,IF(P16=12,liste!$B$12,IF(P16=13,liste!$B$13,IF(P16=14,liste!$B$14,IF(P16=15,liste!$B$15,IF(P16=16,liste!$B$16,IF(P16=17,liste!$B$17,IF(P16=18,liste!$B$18,IF(P16=19,liste!$B$19,IF(P16=20,liste!$B$20,IF(P16=21,liste!$B$21,IF(P16=22,liste!$B$22,IF(P16=23,liste!$B$23,IF(P16=24,liste!$B$24,IF(P16=25,liste!$B$25,IF(P16=26,liste!$B$26,IF(P16=27,liste!$B$27,IF(P16=28,liste!$B$28,IF(P16=29,liste!$B$29,IF(P16>=30,'2'!O16,"")))))))))))))))))))))))))))))) | Q16: =IF(R16=1,liste!$F$1,IF(R16=2,liste!$F$2,IF(R16=3,liste!$F$3,IF(R16=4,liste!$F$4,IF(R16=5,liste!$F$5,IF(R16=6,liste!$F$6,IF(R16=7,liste!$F$7,IF(R16=8,liste!$F$8,IF(R16=9,liste!$F$9,IF(R16=10,liste!$F$10,IF(R16=11,liste!$F$11,IF(R16=12,liste!$F$12,IF(R16=13,liste!$F$13,IF(R16=14,liste!$F$14,IF(R16=15,liste!$F$15,IF(R16=16,liste!$F$16,IF(R16=17,liste!$F$17,IF(R16=18,liste!$F$18,IF(R16=19,liste!$F$19,IF(R16=20,liste!$F$20,"")))))))))))))))))))) | S16: =IF(T16=1,liste!$B$1,IF(T16=2,liste!$B$2,IF(T16=3,liste!$B$3,IF(T16=4,liste!$B$4,IF(T16=5,liste!$B$5,IF(T16=6,liste!$B$6,IF(T16=7,liste!$B$7,IF(T16=8,liste!$B$8,IF(T16=9,liste!$B$9,IF(T16=10,liste!$B$10,IF(T16=11,liste!$B$11,IF(T16=12,liste!$B$12,IF(T16=13,liste!$B$13,IF(T16=14,liste!$B$14,IF(T16=15,liste!$B$15,IF(T16=16,liste!$B$16,IF(T16=17,liste!$B$17,IF(T16=18,liste!$B$18,IF(T16=19,liste!$B$19,IF(T16=20,liste!$B$20,IF(T16=21,liste!$B$21,IF(T16=22,liste!$B$22,IF(T16=23,liste!$B$23,IF(T16=24,liste!$B$24,IF(T16=25,liste!$B$25,IF(T16=26,liste!$B$26,IF(T16=27,liste!$B$27,IF(T16=28,liste!$B$28,IF(T16=29,liste!$B$29,IF(T16>=30,'2'!S16,"")))))))))))))))))))))))))))))) -> Doç.Dr.M.Bulut | T16: 3 | U16: =IF(V16=1,liste!$F$1,IF(V16=2,liste!$F$2,IF(V16=3,liste!$F$3,IF(V16=4,liste!$F$4,IF(V16=5,liste!$F$5,IF(V16=6,liste!$F$6,IF(V16=7,liste!$F$7,IF(V16=8,liste!$F$8,IF(V16=9,liste!$F$9,IF(V16=10,liste!$F$10,IF(V16=11,liste!$F$11,IF(V16=12,liste!$F$12,IF(V16=13,liste!$F$13,IF(V16=14,liste!$F$14,IF(V16=15,liste!$F$15,IF(V16=16,liste!$F$16,IF(V16=17,liste!$F$17,IF(V16=18,liste!$F$18,IF(V16=19,liste!$F$19,IF(V16=20,liste!$F$20,"")))))))))))))))))))) | W16: =IF(X16=1,liste!$B$1,IF(X16=2,liste!$B$2,IF(X16=3,liste!$B$3,IF(X16=4,liste!$B$4,IF(X16=5,liste!$B$5,IF(X16=6,liste!$B$6,IF(X16=7,liste!$B$7,IF(X16=8,liste!$B$8,IF(X16=9,liste!$B$9,IF(X16=10,liste!$B$10,IF(X16=11,liste!$B$11,IF(X16=12,liste!$B$12,IF(X16=13,liste!$B$13,IF(X16=14,liste!$B$14,IF(X16=15,liste!$B$15,IF(X16=16,liste!$B$16,IF(X16=17,liste!$B$17,IF(X16=18,liste!$B$18,IF(X16=19,liste!$B$19,IF(X16=20,liste!$B$20,IF(X16=21,liste!$B$21,IF(X16=22,liste!$B$22,IF(X16=23,liste!$B$23,IF(X16=24,liste!$B$24,IF(X16=25,liste!$B$25,IF(X16=26,liste!$B$26,IF(X16=27,liste!$B$27,IF(X16=28,liste!$B$28,IF(X16=29,liste!$B$29,IF(X16>=30,'2'!W16,"")))))))))))))))))))))))))))))) -> Doç.Dr.Şeref Tan | X16: 19 | Y16: =IF(Z16=1,liste!$F$1,IF(Z16=2,liste!$F$2,IF(Z16=3,liste!$F$3,IF(Z16=4,liste!$F$4,IF(Z16=5,liste!$F$5,IF(Z16=6,liste!$F$6,IF(Z16=7,liste!$F$7,IF(Z16=8,liste!$F$8,IF(Z16=9,liste!$F$9,IF(Z16=10,liste!$F$10,IF(Z16=11,liste!$F$11,IF(Z16=12,liste!$F$12,IF(Z16=13,liste!$F$13,IF(Z16=14,liste!$F$14,IF(Z16=15,liste!$F$15,IF(Z16=16,liste!$F$16,IF(Z16=17,liste!$F$17,IF(Z16=18,liste!$F$18,IF(Z16=19,liste!$F$19,IF(Z16=20,liste!$F$20,"")))))))))))))))))))) -> FZ04 | Z16: 5 | AA16: =IF(AB16=1,liste!$B$1,IF(AB16=2,liste!$B$2,IF(AB16=3,liste!$B$3,IF(AB16=4,liste!$B$4,IF(AB16=5,liste!$B$5,IF(AB16=6,liste!$B$6,IF(AB16=7,liste!$B$7,IF(AB16=8,liste!$B$8,IF(AB16=9,liste!$B$9,IF(AB16=10,liste!$B$10,IF(AB16=11,liste!$B$11,IF(AB16=12,liste!$B$12,IF(AB16=13,liste!$B$13,IF(AB16=14,liste!$B$14,IF(AB16=15,liste!$B$15,IF(AB16=16,liste!$B$16,IF(AB16=17,liste!$B$17,IF(AB16=18,liste!$B$18,IF(AB16=19,liste!$B$19,IF(AB16=20,liste!$B$20,IF(AB16=21,liste!$B$21,IF(AB16=22,liste!$B$22,IF(AB16=23,liste!$B$23,IF(AB16=24,liste!$B$24,IF(AB16=25,liste!$B$25,IF(AB16=26,liste!$B$26,IF(AB16=27,liste!$B$27,IF(AB16=28,liste!$B$28,IF(AB16=29,liste!$B$29,IF(AB16>=30,'2'!AA16,"")))))))))))))))))))))))))))))) -> Doç. Dr. N. Aksoy | AB16: 18 | AC16: =IF(AD16=1,liste!$F$1,IF(AD16=2,liste!$F$2,IF(AD16=3,liste!$F$3,IF(AD16=4,liste!$F$4,IF(AD16=5,liste!$F$5,IF(AD16=6,liste!$F$6,IF(AD16=7,liste!$F$7,IF(AD16=8,liste!$F$8,IF(AD16=9,liste!$F$9,IF(AD16=10,liste!$F$10,IF(AD16=11,liste!$F$11,IF(AD16=12,liste!$F$12,IF(AD16=13,liste!$F$13,IF(AD16=14,liste!$F$14,IF(AD16=15,liste!$F$15,IF(AD16=16,liste!$F$16,IF(AD16=17,liste!$F$17,IF(AD16=18,liste!$F$18,IF(AD16=19,liste!$F$19,IF(AD16=20,liste!$F$20,"")))))))))))))))))))) -> CZ13 | AD16: 6 | AE16: =IF(AF16=1,liste!$B$1,IF(AF16=2,liste!$B$2,IF(AF16=3,liste!$B$3,IF(AF16=4,liste!$B$4,IF(AF16=5,liste!$B$5,IF(AF16=6,liste!$B$6,IF(AF16=7,liste!$B$7,IF(AF16=8,liste!$B$8,IF(AF16=9,liste!$B$9,IF(AF16=10,liste!$B$10,IF(AF16=11,liste!$B$11,IF(AF16=12,liste!$B$12,IF(AF16=13,liste!$B$13,IF(AF16=14,liste!$B$14,IF(AF16=15,liste!$B$15,IF(AF16=16,liste!$B$16,IF(AF16=17,liste!$B$17,IF(AF16=18,liste!$B$18,IF(AF16=19,liste!$B$19,IF(AF16=20,liste!$B$20,IF(AF16=21,liste!$B$21,IF(AF16=22,liste!$B$22,IF(AF16=23,liste!$B$23,IF(AF16=24,liste!$B$24,IF(AF16=25,liste!$B$25,IF(AF16=26,liste!$B$26,IF(AF16=27,liste!$B$27,IF(AF16=28,liste!$B$28,IF(AF16=29,liste!$B$29,IF(AF16>=30,'2'!AE16,"")))))))))))))))))))))))))))))) -> Prof.Dr.C.Çınar | AF16: 1 | AG16: =IF(AH16=1,liste!$F$1,IF(AH16=2,liste!$F$2,IF(AH16=3,liste!$F$3,IF(AH16=4,liste!$F$4,IF(AH16=5,liste!$F$5,IF(AH16=6,liste!$F$6,IF(AH16=7,liste!$F$7,IF(AH16=8,liste!$F$8,IF(AH16=9,liste!$F$9,IF(AH16=10,liste!$F$10,IF(AH16=11,liste!$F$11,IF(AH16=12,liste!$F$12,IF(AH16=13,liste!$F$13,IF(AH16=14,liste!$F$14,IF(AH16=15,liste!$F$15,IF(AH16=16,liste!$F$16,IF(AH16=17,liste!$F$17,IF(AH16=18,liste!$F$18,IF(AH16=19,liste!$F$19,IF(AH16=20,liste!$F$20,""))))))))))))))))))))
C17: =IF(D17=1,liste!$D$1,IF(D17=2,liste!$D$2,IF(D17=3,liste!$D$3,IF(D17=4,liste!$D$4,IF(D17=5,liste!$D$5,IF(D17=6,liste!$D$6,IF(D17=7,liste!$D$7,IF(D17=8,liste!$D$8,IF(D17=9,liste!$D$9,IF(D17=10,liste!$D$10,IF(D17=11,liste!$D$11,IF(D17=12,liste!$D$12,IF(D17=13,liste!$D$13,IF(D17=14,liste!$D$14,IF(D17=15,liste!$D$15,IF(D17=16,liste!$D$16,IF(D17=17,liste!$D$17,IF(D17=18,liste!$D$18,IF(D17=19,liste!$D$19,IF(D17=20,liste!$D$20,IF(D17=21,liste!$D$21,IF(D17=22,liste!$D$22,IF(D17=23,liste!$D$23,IF(D17=24,liste!$D$24,IF(D17=25,liste!$D$25,IF(D17=26,liste!$D$26,IF(D17=27,liste!$D$27,IF(D17=28,liste!$D$28,IF(D17=29,liste!$D$29,IF(D17>=30,'2'!C17,"")))))))))))))))))))))))))))))) | G17: =IF(H17=1,liste!$D$1,IF(H17=2,liste!$D$2,IF(H17=3,liste!$D$3,IF(H17=4,liste!$D$4,IF(H17=5,liste!$D$5,IF(H17=6,liste!$D$6,IF(H17=7,liste!$D$7,IF(H17=8,liste!$D$8,IF(H17=9,liste!$D$9,IF(H17=10,liste!$D$10,IF(H17=11,liste!$D$11,IF(H17=12,liste!$D$12,IF(H17=13,liste!$D$13,IF(H17=14,liste!$D$14,IF(H17=15,liste!$D$15,IF(H17=16,liste!$D$16,IF(H17=17,liste!$D$17,IF(H17=18,liste!$D$18,IF(H17=19,liste!$D$19,IF(H17=20,liste!$D$20,IF(H17=21,liste!$D$21,IF(H17=22,liste!$D$22,IF(H17=23,liste!$D$23,IF(H17=24,liste!$D$24,IF(H17=25,liste!$D$25,IF(H17=26,liste!$D$26,IF(H17=27,liste!$D$27,IF(H17=28,liste!$D$28,IF(H17=29,liste!$D$29,IF(H17>=30,'2'!G17,"")))))))))))))))))))))))))))))) | K17: =IF(L17=1,liste!$D$1,IF(L17=2,liste!$D$2,IF(L17=3,liste!$D$3,IF(L17=4,liste!$D$4,IF(L17=5,liste!$D$5,IF(L17=6,liste!$D$6,IF(L17=7,liste!$D$7,IF(L17=8,liste!$D$8,IF(L17=9,liste!$D$9,IF(L17=10,liste!$D$10,IF(L17=11,liste!$D$11,IF(L17=12,liste!$D$12,IF(L17=13,liste!$D$13,IF(L17=14,liste!$D$14,IF(L17=15,liste!$D$15,IF(L17=16,liste!$D$16,IF(L17=17,liste!$D$17,IF(L17=18,liste!$D$18,IF(L17=19,liste!$D$19,IF(L17=20,liste!$D$20,IF(L17=21,liste!$D$21,IF(L17=22,liste!$D$22,IF(L17=23,liste!$D$23,IF(L17=24,liste!$D$24,IF(L17=25,liste!$D$25,IF(L17=26,liste!$D$26,IF(L17=27,liste!$D$27,IF(L17=28,liste!$D$28,IF(L17=29,liste!$D$29,IF(L17>=30,'2'!K17,"")))))))))))))))))))))))))))))) | O17: =IF(P17=1,liste!$D$1,IF(P17=2,liste!$D$2,IF(P17=3,liste!$D$3,IF(P17=4,liste!$D$4,IF(P17=5,liste!$D$5,IF(P17=6,liste!$D$6,IF(P17=7,liste!$D$7,IF(P17=8,liste!$D$8,IF(P17=9,liste!$D$9,IF(P17=10,liste!$D$10,IF(P17=11,liste!$D$11,IF(P17=12,liste!$D$12,IF(P17=13,liste!$D$13,IF(P17=14,liste!$D$14,IF(P17=15,liste!$D$15,IF(P17=16,liste!$D$16,IF(P17=17,liste!$D$17,IF(P17=18,liste!$D$18,IF(P17=19,liste!$D$19,IF(P17=20,liste!$D$20,IF(P17=21,liste!$D$21,IF(P17=22,liste!$D$22,IF(P17=23,liste!$D$23,IF(P17=24,liste!$D$24,IF(P17=25,liste!$D$25,IF(P17=26,liste!$D$26,IF(P17=27,liste!$D$27,IF(P17=28,liste!$D$28,IF(P17=29,liste!$D$29,IF(P17>=30,'2'!O17,"")))))))))))))))))))))))))))))) | S17: =IF(T17=1,liste!$D$1,IF(T17=2,liste!$D$2,IF(T17=3,liste!$D$3,IF(T17=4,liste!$D$4,IF(T17=5,liste!$D$5,IF(T17=6,liste!$D$6,IF(T17=7,liste!$D$7,IF(T17=8,liste!$D$8,IF(T17=9,liste!$D$9,IF(T17=10,liste!$D$10,IF(T17=11,liste!$D$11,IF(T17=12,liste!$D$12,IF(T17=13,liste!$D$13,IF(T17=14,liste!$D$14,IF(T17=15,liste!$D$15,IF(T17=16,liste!$D$16,IF(T17=17,liste!$D$17,IF(T17=18,liste!$D$18,IF(T17=19,liste!$D$19,IF(T17=20,liste!$D$20,IF(T17=21,liste!$D$21,IF(T17=22,liste!$D$22,IF(T17=23,liste!$D$23,IF(T17=24,liste!$D$24,IF(T17=25,liste!$D$25,IF(T17=26,liste!$D$26,IF(T17=27,liste!$D$27,IF(T17=28,liste!$D$28,IF(T17=29,liste!$D$29,IF(T17>=30,'2'!S17,"")))))))))))))))))))))))))))))) -> Topl. Hzmt. Uyg. | T17: 28 | W17: =IF(X17=1,liste!$D$1,IF(X17=2,liste!$D$2,IF(X17=3,liste!$D$3,IF(X17=4,liste!$D$4,IF(X17=5,liste!$D$5,IF(X17=6,liste!$D$6,IF(X17=7,liste!$D$7,IF(X17=8,liste!$D$8,IF(X17=9,liste!$D$9,IF(X17=10,liste!$D$10,IF(X17=11,liste!$D$11,IF(X17=12,liste!$D$12,IF(X17=13,liste!$D$13,IF(X17=14,liste!$D$14,IF(X17=15,liste!$D$15,IF(X17=16,liste!$D$16,IF(X17=17,liste!$D$17,IF(X17=18,liste!$D$18,IF(X17=19,liste!$D$19,IF(X17=20,liste!$D$20,IF(X17=21,liste!$D$21,IF(X17=22,liste!$D$22,IF(X17=23,liste!$D$23,IF(X17=24,liste!$D$24,IF(X17=25,liste!$D$25,IF(X17=26,liste!$D$26,IF(X17=27,liste!$D$27,IF(X17=28,liste!$D$28,IF(X17=29,liste!$D$29,IF(X17>=30,'2'!W17,"")))))))))))))))))))))))))))))) -> Ölç. & Değer. | X17: 18 | AA17: =IF(AB17=1,liste!$D$1,IF(AB17=2,liste!$D$2,IF(AB17=3,liste!$D$3,IF(AB17=4,liste!$D$4,IF(AB17=5,liste!$D$5,IF(AB17=6,liste!$D$6,IF(AB17=7,liste!$D$7,IF(AB17=8,liste!$D$8,IF(AB17=9,liste!$D$9,IF(AB17=10,liste!$D$10,IF(AB17=11,liste!$D$11,IF(AB17=12,liste!$D$12,IF(AB17=13,liste!$D$13,IF(AB17=14,liste!$D$14,IF(AB17=15,liste!$D$15,IF(AB17=16,liste!$D$16,IF(AB17=17,liste!$D$17,IF(AB17=18,liste!$D$18,IF(AB17=19,liste!$D$19,IF(AB17=20,liste!$D$20,IF(AB17=21,liste!$D$21,IF(AB17=22,liste!$D$22,IF(AB17=23,liste!$D$23,IF(AB17=24,liste!$D$24,IF(AB17=25,liste!$D$25,IF(AB17=26,liste!$D$26,IF(AB17=27,liste!$D$27,IF(AB17=28,liste!$D$28,IF(AB17=29,liste!$D$29,IF(AB17>=30,'2'!AA17,"")))))))))))))))))))))))))))))) -> Türk Eğt. Sis & Okul | AB17: 20 | AE17: =IF(AF17=1,liste!$D$1,IF(AF17=2,liste!$D$2,IF(AF17=3,liste!$D$3,IF(AF17=4,liste!$D$4,IF(AF17=5,liste!$D$5,IF(AF17=6,liste!$D$6,IF(AF17=7,liste!$D$7,IF(AF17=8,liste!$D$8,IF(AF17=9,liste!$D$9,IF(AF17=10,liste!$D$10,IF(AF17=11,liste!$D$11,IF(AF17=12,liste!$D$12,IF(AF17=13,liste!$D$13,IF(AF17=14,liste!$D$14,IF(AF17=15,liste!$D$15,IF(AF17=16,liste!$D$16,IF(AF17=17,liste!$D$17,IF(AF17=18,liste!$D$18,IF(AF17=19,liste!$D$19,IF(AF17=20,liste!$D$20,IF(AF17=21,liste!$D$21,IF(AF17=22,liste!$D$22,IF(AF17=23,liste!$D$23,IF(AF17=24,liste!$D$24,IF(AF17=25,liste!$D$25,IF(AF17=26,liste!$D$26,IF(AF17=27,liste!$D$27,IF(AF17=28,liste!$D$28,IF(AF17=29,liste!$D$29,IF(AF17>=30,'2'!AE17,"")))))))))))))))))))))))))))))) -> Öğr. Uygulaması | AF17: 29
B18: =liste!I7 -> 18:30-19:20 | C18: =IF(D18=1,liste!$B$1,IF(D18=2,liste!$B$2,IF(D18=3,liste!$B$3,IF(D18=4,liste!$B$4,IF(D18=5,liste!$B$5,IF(D18=6,liste!$B$6,IF(D18=7,liste!$B$7,IF(D18=8,liste!$B$8,IF(D18=9,liste!$B$9,IF(D18=10,liste!$B$10,IF(D18=11,liste!$B$11,IF(D18=12,liste!$B$12,IF(D18=13,liste!$B$13,IF(D18=14,liste!$B$14,IF(D18=15,liste!$B$15,IF(D18=16,liste!$B$16,IF(D18=17,liste!$B$17,IF(D18=18,liste!$B$18,IF(D18=19,liste!$B$19,IF(D18=20,liste!$B$20,IF(D18=21,liste!$B$21,IF(D18=22,liste!$B$22,IF(D18=23,liste!$B$23,IF(D18=24,liste!$B$24,IF(D18=25,liste!$B$25,IF(D18=26,liste!$B$26,IF(D18=27,liste!$B$27,IF(D18=28,liste!$B$28,IF(D18=29,liste!$B$29,IF(D18>=30,'2'!C18,"")))))))))))))))))))))))))))))) | E18: =IF(F18=1,liste!$F$1,IF(F18=2,liste!$F$2,IF(F18=3,liste!$F$3,IF(F18=4,liste!$F$4,IF(F18=5,liste!$F$5,IF(F18=6,liste!$F$6,IF(F18=7,liste!$F$7,IF(F18=8,liste!$F$8,IF(F18=9,liste!$F$9,IF(F18=10,liste!$F$10,IF(F18=11,liste!$F$11,IF(F18=12,liste!$F$12,IF(F18=13,liste!$F$13,IF(F18=14,liste!$F$14,IF(F18=15,liste!$F$15,IF(F18=16,liste!$F$16,IF(F18=17,liste!$F$17,IF(F18=18,liste!$F$18,IF(F18=19,liste!$F$19,IF(F18=20,liste!$F$20,"")))))))))))))))))))) | G18: =IF(H18=1,liste!$B$1,IF(H18=2,liste!$B$2,IF(H18=3,liste!$B$3,IF(H18=4,liste!$B$4,IF(H18=5,liste!$B$5,IF(H18=6,liste!$B$6,IF(H18=7,liste!$B$7,IF(H18=8,liste!$B$8,IF(H18=9,liste!$B$9,IF(H18=10,liste!$B$10,IF(H18=11,liste!$B$11,IF(H18=12,liste!$B$12,IF(H18=13,liste!$B$13,IF(H18=14,liste!$B$14,IF(H18=15,liste!$B$15,IF(H18=16,liste!$B$16,IF(H18=17,liste!$B$17,IF(H18=18,liste!$B$18,IF(H18=19,liste!$B$19,IF(H18=20,liste!$B$20,IF(H18=21,liste!$B$21,IF(H18=22,liste!$B$22,IF(H18=23,liste!$B$23,IF(H18=24,liste!$B$24,IF(H18=25,liste!$B$25,IF(H18=26,liste!$B$26,IF(H18=27,liste!$B$27,IF(H18=28,liste!$B$28,IF(H18=29,liste!$B$29,IF(H18>=30,'2'!G18,"")))))))))))))))))))))))))))))) | I18: =IF(J18=1,liste!$F$1,IF(J18=2,liste!$F$2,IF(J18=3,liste!$F$3,IF(J18=4,liste!$F$4,IF(J18=5,liste!$F$5,IF(J18=6,liste!$F$6,IF(J18=7,liste!$F$7,IF(J18=8,liste!$F$8,IF(J18=9,liste!$F$9,IF(J18=10,liste!$F$10,IF(J18=11,liste!$F$11,IF(J18=12,liste!$F$12,IF(J18=13,liste!$F$13,IF(J18=14,liste!$F$14,IF(J18=15,liste!$F$15,IF(J18=16,liste!$F$16,IF(J18=17,liste!$F$17,IF(J18=18,liste!$F$18,IF(J18=19,liste!$F$19,IF(J18=20,liste!$F$20,"")))))))))))))))))))) | K18: =IF(L18=1,liste!$B$1,IF(L18=2,liste!$B$2,IF(L18=3,liste!$B$3,IF(L18=4,liste!$B$4,IF(L18=5,liste!$B$5,IF(L18=6,liste!$B$6,IF(L18=7,liste!$B$7,IF(L18=8,liste!$B$8,IF(L18=9,liste!$B$9,IF(L18=10,liste!$B$10,IF(L18=11,liste!$B$11,IF(L18=12,liste!$B$12,IF(L18=13,liste!$B$13,IF(L18=14,liste!$B$14,IF(L18=15,liste!$B$15,IF(L18=16,liste!$B$16,IF(L18=17,liste!$B$17,IF(L18=18,liste!$B$18,IF(L18=19,liste!$B$19,IF(L18=20,liste!$B$20,IF(L18=21,liste!$B$21,IF(L18=22,liste!$B$22,IF(L18=23,liste!$B$23,IF(L18=24,liste!$B$24,IF(L18=25,liste!$B$25,IF(L18=26,liste!$B$26,IF(L18=27,liste!$B$27,IF(L18=28,liste!$B$28,IF(L18=29,liste!$B$29,IF(L18>=30,'2'!K18,"")))))))))))))))))))))))))))))) | M18: =IF(N18=1,liste!$F$1,IF(N18=2,liste!$F$2,IF(N18=3,liste!$F$3,IF(N18=4,liste!$F$4,IF(N18=5,liste!$F$5,IF(N18=6,liste!$F$6,IF(N18=7,liste!$F$7,IF(N18=8,liste!$F$8,IF(N18=9,liste!$F$9,IF(N18=10,liste!$F$10,IF(N18=11,liste!$F$11,IF(N18=12,liste!$F$12,IF(N18=13,liste!$F$13,IF(N18=14,liste!$F$14,IF(N18=15,liste!$F$15,IF(N18=16,liste!$F$16,IF(N18=17,liste!$F$17,IF(N18=18,liste!$F$18,IF(N18=19,liste!$F$19,IF(N18=20,liste!$F$20,"")))))))))))))))))))) | O18: =IF(P18=1,liste!$B$1,IF(P18=2,liste!$B$2,IF(P18=3,liste!$B$3,IF(P18=4,liste!$B$4,IF(P18=5,liste!$B$5,IF(P18=6,liste!$B$6,IF(P18=7,liste!$B$7,IF(P18=8,liste!$B$8,IF(P18=9,liste!$B$9,IF(P18=10,liste!$B$10,IF(P18=11,liste!$B$11,IF(P18=12,liste!$B$12,IF(P18=13,liste!$B$13,IF(P18=14,liste!$B$14,IF(P18=15,liste!$B$15,IF(P18=16,liste!$B$16,IF(P18=17,liste!$B$17,IF(P18=18,liste!$B$18,IF(P18=19,liste!$B$19,IF(P18=20,liste!$B$20,IF(P18=21,liste!$B$21,IF(P18=22,liste!$B$22,IF(P18=23,liste!$B$23,IF(P18=24,liste!$B$24,IF(P18=25,liste!$B$25,IF(P18=26,liste!$B$26,IF(P18=27,liste!$B$27,IF(P18=28,liste!$B$28,IF(P18=29,liste!$B$29,IF(P18>=30,'2'!O18,"")))))))))))))))))))))))))))))) | Q18: =IF(R18=1,liste!$F$1,IF(R18=2,liste!$F$2,IF(R18=3,liste!$F$3,IF(R18=4,liste!$F$4,IF(R18=5,liste!$F$5,IF(R18=6,liste!$F$6,IF(R18=7,liste!$F$7,IF(R18=8,liste!$F$8,IF(R18=9,liste!$F$9,IF(R18=10,liste!$F$10,IF(R18=11,liste!$F$11,IF(R18=12,liste!$F$12,IF(R18=13,liste!$F$13,IF(R18=14,liste!$F$14,IF(R18=15,liste!$F$15,IF(R18=16,liste!$F$16,IF(R18=17,liste!$F$17,IF(R18=18,liste!$F$18,IF(R18=19,liste!$F$19,IF(R18=20,liste!$F$20,"")))))))))))))))))))) | S18: =IF(T18=1,liste!$B$1,IF(T18=2,liste!$B$2,IF(T18=3,liste!$B$3,IF(T18=4,liste!$B$4,IF(T18=5,liste!$B$5,IF(T18=6,liste!$B$6,IF(T18=7,liste!$B$7,IF(T18=8,liste!$B$8,IF(T18=9,liste!$B$9,IF(T18=10,liste!$B$10,IF(T18=11,liste!$B$11,IF(T18=12,liste!$B$12,IF(T18=13,liste!$B$13,IF(T18=14,liste!$B$14,IF(T18=15,liste!$B$15,IF(T18=16,liste!$B$16,IF(T18=17,liste!$B$17,IF(T18=18,liste!$B$18,IF(T18=19,liste!$B$19,IF(T18=20,liste!$B$20,IF(T18=21,liste!$B$21,IF(T18=22,liste!$B$22,IF(T18=23,liste!$B$23,IF(T18=24,liste!$B$24,IF(T18=25,liste!$B$25,IF(T18=26,liste!$B$26,IF(T18=27,liste!$B$27,IF(T18=28,liste!$B$28,IF(T18=29,liste!$B$29,IF(T18>=30,'2'!S18,"")))))))))))))))))))))))))))))) -> Y. Doç. M. Aktümen | T18: 21 | U18: =IF(V18=1,liste!$F$1,IF(V18=2,liste!$F$2,IF(V18=3,liste!$F$3,IF(V18=4,liste!$F$4,IF(V18=5,liste!$F$5,IF(V18=6,liste!$F$6,IF(V18=7,liste!$F$7,IF(V18=8,liste!$F$8,IF(V18=9,liste!$F$9,IF(V18=10,liste!$F$10,IF(V18=11,liste!$F$11,IF(V18=12,liste!$F$12,IF(V18=13,liste!$F$13,IF(V18=14,liste!$F$14,IF(V18=15,liste!$F$15,IF(V18=16,liste!$F$16,IF(V18=17,liste!$F$17,IF(V18=18,liste!$F$18,IF(V18=19,liste!$F$19,IF(V18=20,liste!$F$20,"")))))))))))))))))))) -> FZ03 | V18: 4 | W18: =IF(X18=1,liste!$B$1,IF(X18=2,liste!$B$2,IF(X18=3,liste!$B$3,IF(X18=4,liste!$B$4,IF(X18=5,liste!$B$5,IF(X18=6,liste!$B$6,IF(X18=7,liste!$B$7,IF(X18=8,liste!$B$8,IF(X18=9,liste!$B$9,IF(X18=10,liste!$B$10,IF(X18=11,liste!$B$11,IF(X18=12,liste!$B$12,IF(X18=13,liste!$B$13,IF(X18=14,liste!$B$14,IF(X18=15,liste!$B$15,IF(X18=16,liste!$B$16,IF(X18=17,liste!$B$17,IF(X18=18,liste!$B$18,IF(X18=19,liste!$B$19,IF(X18=20,liste!$B$20,IF(X18=21,liste!$B$21,IF(X18=22,liste!$B$22,IF(X18=23,liste!$B$23,IF(X18=24,liste!$B$24,IF(X18=25,liste!$B$25,IF(X18=26,liste!$B$26,IF(X18=27,liste!$B$27,IF(X18=28,liste!$B$28,IF(X18=29,liste!$B$29,IF(X18>=30,'2'!W18,"")))))))))))))))))))))))))))))) -> Doç.Dr.Şeref Tan | X18: 19 | Y18: =IF(Z18=1,liste!$F$1,IF(Z18=2,liste!$F$2,IF(Z18=3,liste!$F$3,IF(Z18=4,liste!$F$4,IF(Z18=5,liste!$F$5,IF(Z18=6,liste!$F$6,IF(Z18=7,liste!$F$7,IF(Z18=8,liste!$F$8,IF(Z18=9,liste!$F$9,IF(Z18=10,liste!$F$10,IF(Z18=11,liste!$F$11,IF(Z18=12,liste!$F$12,IF(Z18=13,liste!$F$13,IF(Z18=14,liste!$F$14,IF(Z18=15,liste!$F$15,IF(Z18=16,liste!$F$16,IF(Z18=17,liste!$F$17,IF(Z18=18,liste!$F$18,IF(Z18=19,liste!$F$19,IF(Z18=20,liste!$F$20,"")))))))))))))))))))) -> FZ04 | Z18: 5 | AA18: =IF(AB18=1,liste!$B$1,IF(AB18=2,liste!$B$2,IF(AB18=3,liste!$B$3,IF(AB18=4,liste!$B$4,IF(AB18=5,liste!$B$5,IF(AB18=6,liste!$B$6,IF(AB18=7,liste!$B$7,IF(AB18=8,liste!$B$8,IF(AB18=9,liste!$B$9,IF(AB18=10,liste!$B$10,IF(AB18=11,liste!$B$11,IF(AB18=12,liste!$B$12,IF(AB18=13,liste!$B$13,IF(AB18=14,liste!$B$14,IF(AB18=15,liste!$B$15,IF(AB18=16,liste!$B$16,IF(AB18=17,liste!$B$17,IF(AB18=18,liste!$B$18,IF(AB18=19,liste!$B$19,IF(AB18=20,liste!$B$20,IF(AB18=21,liste!$B$21,IF(AB18=22,liste!$B$22,IF(AB18=23,liste!$B$23,IF(AB18=24,liste!$B$24,IF(AB18=25,liste!$B$25,IF(AB18=26,liste!$B$26,IF(AB18=27,liste!$B$27,IF(AB18=28,liste!$B$28,IF(AB18=29,liste!$B$29,IF(AB18>=30,'2'!AA18,"")))))))))))))))))))))))))))))) -> Doç. Dr. N. Aksoy | AB18: 18 | AC18: =IF(AD18=1,liste!$F$1,IF(AD18=2,liste!$F$2,IF(AD18=3,liste!$F$3,IF(AD18=4,liste!$F$4,IF(AD18=5,liste!$F$5,IF(AD18=6,liste!$F$6,IF(AD18=7,liste!$F$7,IF(AD18=8,liste!$F$8,IF(AD18=9,liste!$F$9,IF(AD18=10,liste!$F$10,IF(AD18=11,liste!$F$11,IF(AD18=12,liste!$F$12,IF(AD18=13,liste!$F$13,IF(AD18=14,liste!$F$14,IF(AD18=15,liste!$F$15,IF(AD18=16,liste!$F$16,IF(AD18=17,liste!$F$17,IF(AD18=18,liste!$F$18,IF(AD18=19,liste!$F$19,IF(AD18=20,liste!$F$20,"")))))))))))))))))))) -> CZ13 | AD18: 6 | AE18: =IF(AF18=1,liste!$B$1,IF(AF18=2,liste!$B$2,IF(AF18=3,liste!$B$3,IF(AF18=4,liste!$B$4,IF(AF18=5,liste!$B$5,IF(AF18=6,liste!$B$6,IF(AF18=7,liste!$B$7,IF(AF18=8,liste!$B$8,IF(AF18=9,liste!$B$9,IF(AF18=10,liste!$B$10,IF(AF18=11,liste!$B$11,IF(AF18=12,liste!$B$12,IF(AF18=13,liste!$B$13,IF(AF18=14,liste!$B$14,IF(AF18=15,liste!$B$15,IF(AF18=16,liste!$B$16,IF(AF18=17,liste!$B$17,IF(AF18=18,liste!$B$18,IF(AF18=19,liste!$B$19,IF(AF18=20,liste!$B$20,IF(AF18=21,liste!$B$21,IF(AF18=22,liste!$B$22,IF(AF18=23,liste!$B$23,IF(AF18=24,liste!$B$24,IF(AF18=25,liste!$B$25,IF(AF18=26,liste!$B$26,IF(AF18=27,liste!$B$27,IF(AF18=28,liste!$B$28,IF(AF18=29,liste!$B$29,IF(AF18>=30,'2'!AE18,"")))))))))))))))))))))))))))))) -> Prof.Dr.C.Çınar | AF18: 1 | AG18: =IF(AH18=1,liste!$F$1,IF(AH18=2,liste!$F$2,IF(AH18=3,liste!$F$3,IF(AH18=4,liste!$F$4,IF(AH18=5,liste!$F$5,IF(AH18=6,liste!$F$6,IF(AH18=7,liste!$F$7,IF(AH18=8,liste!$F$8,IF(AH18=9,liste!$F$9,IF(AH18=10,liste!$F$10,IF(AH18=11,liste!$F$11,IF(AH18=12,liste!$F$12,IF(AH18=13,liste!$F$13,IF(AH18=14,liste!$F$14,IF(AH18=15,liste!$F$15,IF(AH18=16,liste!$F$16,IF(AH18=17,liste!$F$17,IF(AH18=18,liste!$F$18,IF(AH18=19,liste!$F$19,IF(AH18=20,liste!$F$20,""))))))))))))))))))))
C19: =IF(D19=1,liste!$D$1,IF(D19=2,liste!$D$2,IF(D19=3,liste!$D$3,IF(D19=4,liste!$D$4,IF(D19=5,liste!$D$5,IF(D19=6,liste!$D$6,IF(D19=7,liste!$D$7,IF(D19=8,liste!$D$8,IF(D19=9,liste!$D$9,IF(D19=10,liste!$D$10,IF(D19=11,liste!$D$11,IF(D19=12,liste!$D$12,IF(D19=13,liste!$D$13,IF(D19=14,liste!$D$14,IF(D19=15,liste!$D$15,IF(D19=16,liste!$D$16,IF(D19=17,liste!$D$17,IF(D19=18,liste!$D$18,IF(D19=19,liste!$D$19,IF(D19=20,liste!$D$20,IF(D19=21,liste!$D$21,IF(D19=22,liste!$D$22,IF(D19=23,liste!$D$23,IF(D19=24,liste!$D$24,IF(D19=25,liste!$D$25,IF(D19=26,liste!$D$26,IF(D19=27,liste!$D$27,IF(D19=28,liste!$D$28,IF(D19=29,liste!$D$29,IF(D19>=30,'2'!C19,"")))))))))))))))))))))))))))))) | G19: =IF(H19=1,liste!$D$1,IF(H19=2,liste!$D$2,IF(H19=3,liste!$D$3,IF(H19=4,liste!$D$4,IF(H19=5,liste!$D$5,IF(H19=6,liste!$D$6,IF(H19=7,liste!$D$7,IF(H19=8,liste!$D$8,IF(H19=9,liste!$D$9,IF(H19=10,liste!$D$10,IF(H19=11,liste!$D$11,IF(H19=12,liste!$D$12,IF(H19=13,liste!$D$13,IF(H19=14,liste!$D$14,IF(H19=15,liste!$D$15,IF(H19=16,liste!$D$16,IF(H19=17,liste!$D$17,IF(H19=18,liste!$D$18,IF(H19=19,liste!$D$19,IF(H19=20,liste!$D$20,IF(H19=21,liste!$D$21,IF(H19=22,liste!$D$22,IF(H19=23,liste!$D$23,IF(H19=24,liste!$D$24,IF(H19=25,liste!$D$25,IF(H19=26,liste!$D$26,IF(H19=27,liste!$D$27,IF(H19=28,liste!$D$28,IF(H19=29,liste!$D$29,IF(H19>=30,'2'!G19,"")))))))))))))))))))))))))))))) | K19: =IF(L19=1,liste!$D$1,IF(L19=2,liste!$D$2,IF(L19=3,liste!$D$3,IF(L19=4,liste!$D$4,IF(L19=5,liste!$D$5,IF(L19=6,liste!$D$6,IF(L19=7,liste!$D$7,IF(L19=8,liste!$D$8,IF(L19=9,liste!$D$9,IF(L19=10,liste!$D$10,IF(L19=11,liste!$D$11,IF(L19=12,liste!$D$12,IF(L19=13,liste!$D$13,IF(L19=14,liste!$D$14,IF(L19=15,liste!$D$15,IF(L19=16,liste!$D$16,IF(L19=17,liste!$D$17,IF(L19=18,liste!$D$18,IF(L19=19,liste!$D$19,IF(L19=20,liste!$D$20,IF(L19=21,liste!$D$21,IF(L19=22,liste!$D$22,IF(L19=23,liste!$D$23,IF(L19=24,liste!$D$24,IF(L19=25,liste!$D$25,IF(L19=26,liste!$D$26,IF(L19=27,liste!$D$27,IF(L19=28,liste!$D$28,IF(L19=29,liste!$D$29,IF(L19>=30,'2'!K19,"")))))))))))))))))))))))))))))) | O19: =IF(P19=1,liste!$D$1,IF(P19=2,liste!$D$2,IF(P19=3,liste!$D$3,IF(P19=4,liste!$D$4,IF(P19=5,liste!$D$5,IF(P19=6,liste!$D$6,IF(P19=7,liste!$D$7,IF(P19=8,liste!$D$8,IF(P19=9,liste!$D$9,IF(P19=10,liste!$D$10,IF(P19=11,liste!$D$11,IF(P19=12,liste!$D$12,IF(P19=13,liste!$D$13,IF(P19=14,liste!$D$14,IF(P19=15,liste!$D$15,IF(P19=16,liste!$D$16,IF(P19=17,liste!$D$17,IF(P19=18,liste!$D$18,IF(P19=19,liste!$D$19,IF(P19=20,liste!$D$20,IF(P19=21,liste!$D$21,IF(P19=22,liste!$D$22,IF(P19=23,liste!$D$23,IF(P19=24,liste!$D$24,IF(P19=25,liste!$D$25,IF(P19=26,liste!$D$26,IF(P19=27,liste!$D$27,IF(P19=28,liste!$D$28,IF(P19=29,liste!$D$29,IF(P19>=30,'2'!O19,"")))))))))))))))))))))))))))))) | S19: =IF(T19=1,liste!$D$1,IF(T19=2,liste!$D$2,IF(T19=3,liste!$D$3,IF(T19=4,liste!$D$4,IF(T19=5,liste!$D$5,IF(T19=6,liste!$D$6,IF(T19=7,liste!$D$7,IF(T19=8,liste!$D$8,IF(T19=9,liste!$D$9,IF(T19=10,liste!$D$10,IF(T19=11,liste!$D$11,IF(T19=12,liste!$D$12,IF(T19=13,liste!$D$13,IF(T19=14,liste!$D$14,IF(T19=15,liste!$D$15,IF(T19=16,liste!$D$16,IF(T19=17,liste!$D$17,IF(T19=18,liste!$D$18,IF(T19=19,liste!$D$19,IF(T19=20,liste!$D$20,IF(T19=21,liste!$D$21,IF(T19=22,liste!$D$22,IF(T19=23,liste!$D$23,IF(T19=24,liste!$D$24,IF(T19=25,liste!$D$25,IF(T19=26,liste!$D$26,IF(T19=27,liste!$D$27,IF(T19=28,liste!$D$28,IF(T19=29,liste!$D$29,IF(T19>=30,'2'!S19,"")))))))))))))))))))))))))))))) -> Ist & Ols II | T19: 3 | W19: =IF(X19=1,liste!$D$1,IF(X19=2,liste!$D$2,IF(X19=3,liste!$D$3,IF(X19=4,liste!$D$4,IF(X19=5,liste!$D$5,IF(X19=6,liste!$D$6,IF(X19=7,liste!$D$7,IF(X19=8,liste!$D$8,IF(X19=9,liste!$D$9,IF(X19=10,liste!$D$10,IF(X19=11,liste!$D$11,IF(X19=12,liste!$D$12,IF(X19=13,liste!$D$13,IF(X19=14,liste!$D$14,IF(X19=15,liste!$D$15,IF(X19=16,liste!$D$16,IF(X19=17,liste!$D$17,IF(X19=18,liste!$D$18,IF(X19=19,liste!$D$19,IF(X19=20,liste!$D$20,IF(X19=21,liste!$D$21,IF(X19=22,liste!$D$22,IF(X19=23,liste!$D$23,IF(X19=24,liste!$D$24,IF(X19=25,liste!$D$25,IF(X19=26,liste!$D$26,IF(X19=27,liste!$D$27,IF(X19=28,liste!$D$28,IF(X19=29,liste!$D$29,IF(X19>=30,'2'!W19,"")))))))))))))))))))))))))))))) -> Ölç. & Değer. | X19: 18 | AA19: =IF(AB19=1,liste!$D$1,IF(AB19=2,liste!$D$2,IF(AB19=3,liste!$D$3,IF(AB19=4,liste!$D$4,IF(AB19=5,liste!$D$5,IF(AB19=6,liste!$D$6,IF(AB19=7,liste!$D$7,IF(AB19=8,liste!$D$8,IF(AB19=9,liste!$D$9,IF(AB19=10,liste!$D$10,IF(AB19=11,liste!$D$11,IF(AB19=12,liste!$D$12,IF(AB19=13,liste!$D$13,IF(AB19=14,liste!$D$14,IF(AB19=15,liste!$D$15,IF(AB19=16,liste!$D$16,IF(AB19=17,liste!$D$17,IF(AB19=18,liste!$D$18,IF(AB19=19,liste!$D$19,IF(AB19=20,liste!$D$20,IF(AB19=21,liste!$D$21,IF(AB19=22,liste!$D$22,IF(AB19=23,liste!$D$23,IF(AB19=24,liste!$D$24,IF(AB19=25,liste!$D$25,IF(AB19=26,liste!$D$26,IF(AB19=27,liste!$D$27,IF(AB19=28,liste!$D$28,IF(AB19=29,liste!$D$29,IF(AB19>=30,'2'!AA19,"")))))))))))))))))))))))))))))) -> Türk Eğt. Sis & Okul | AB19: 20 | AE19: =IF(AF19=1,liste!$D$1,IF(AF19=2,liste!$D$2,IF(AF19=3,liste!$D$3,IF(AF19=4,liste!$D$4,IF(AF19=5,liste!$D$5,IF(AF19=6,liste!$D$6,IF(AF19=7,liste!$D$7,IF(AF19=8,liste!$D$8,IF(AF19=9,liste!$D$9,IF(AF19=10,liste!$D$10,IF(AF19=11,liste!$D$11,IF(AF19=12,liste!$D$12,IF(AF19=13,liste!$D$13,IF(AF19=14,liste!$D$14,IF(AF19=15,liste!$D$15,IF(AF19=16,liste!$D$16,IF(AF19=17,liste!$D$17,IF(AF19=18,liste!$D$18,IF(AF19=19,liste!$D$19,IF(AF19=20,liste!$D$20,IF(AF19=21,liste!$D$21,IF(AF19=22,liste!$D$22,IF(AF19=23,liste!$D$23,IF(AF19=24,liste!$D$24,IF(AF19=25,liste!$D$25,IF(AF19=26,liste!$D$26,IF(AF19=27,liste!$D$27,IF(AF19=28,liste!$D$28,IF(AF19=29,liste!$D$29,IF(AF19>=30,'2'!AE19,"")))))))))))))))))))))))))))))) -> Öğr. Uygulaması | AF19: 29
B20: =liste!I8 -> 19:30-20:20 | C20: =IF(D20=1,liste!$B$1,IF(D20=2,liste!$B$2,IF(D20=3,liste!$B$3,IF(D20=4,liste!$B$4,IF(D20=5,liste!$B$5,IF(D20=6,liste!$B$6,IF(D20=7,liste!$B$7,IF(D20=8,liste!$B$8,IF(D20=9,liste!$B$9,IF(D20=10,liste!$B$10,IF(D20=11,liste!$B$11,IF(D20=12,liste!$B$12,IF(D20=13,liste!$B$13,IF(D20=14,liste!$B$14,IF(D20=15,liste!$B$15,IF(D20=16,liste!$B$16,IF(D20=17,liste!$B$17,IF(D20=18,liste!$B$18,IF(D20=19,liste!$B$19,IF(D20=20,liste!$B$20,IF(D20=21,liste!$B$21,IF(D20=22,liste!$B$22,IF(D20=23,liste!$B$23,IF(D20=24,liste!$B$24,IF(D20=25,liste!$B$25,IF(D20=26,liste!$B$26,IF(D20=27,liste!$B$27,IF(D20=28,liste!$B$28,IF(D20=29,liste!$B$29,IF(D20>=30,'2'!C20,"")))))))))))))))))))))))))))))) | E20: =IF(F20=1,liste!$F$1,IF(F20=2,liste!$F$2,IF(F20=3,liste!$F$3,IF(F20=4,liste!$F$4,IF(F20=5,liste!$F$5,IF(F20=6,liste!$F$6,IF(F20=7,liste!$F$7,IF(F20=8,liste!$F$8,IF(F20=9,liste!$F$9,IF(F20=10,liste!$F$10,IF(F20=11,liste!$F$11,IF(F20=12,liste!$F$12,IF(F20=13,liste!$F$13,IF(F20=14,liste!$F$14,IF(F20=15,liste!$F$15,IF(F20=16,liste!$F$16,IF(F20=17,liste!$F$17,IF(F20=18,liste!$F$18,IF(F20=19,liste!$F$19,IF(F20=20,liste!$F$20,"")))))))))))))))))))) | G20: =IF(H20=1,liste!$B$1,IF(H20=2,liste!$B$2,IF(H20=3,liste!$B$3,IF(H20=4,liste!$B$4,IF(H20=5,liste!$B$5,IF(H20=6,liste!$B$6,IF(H20=7,liste!$B$7,IF(H20=8,liste!$B$8,IF(H20=9,liste!$B$9,IF(H20=10,liste!$B$10,IF(H20=11,liste!$B$11,IF(H20=12,liste!$B$12,IF(H20=13,liste!$B$13,IF(H20=14,liste!$B$14,IF(H20=15,liste!$B$15,IF(H20=16,liste!$B$16,IF(H20=17,liste!$B$17,IF(H20=18,liste!$B$18,IF(H20=19,liste!$B$19,IF(H20=20,liste!$B$20,IF(H20=21,liste!$B$21,IF(H20=22,liste!$B$22,IF(H20=23,liste!$B$23,IF(H20=24,liste!$B$24,IF(H20=25,liste!$B$25,IF(H20=26,liste!$B$26,IF(H20=27,liste!$B$27,IF(H20=28,liste!$B$28,IF(H20=29,liste!$B$29,IF(H20>=30,'2'!G20,"")))))))))))))))))))))))))))))) | I20: =IF(J20=1,liste!$F$1,IF(J20=2,liste!$F$2,IF(J20=3,liste!$F$3,IF(J20=4,liste!$F$4,IF(J20=5,liste!$F$5,IF(J20=6,liste!$F$6,IF(J20=7,liste!$F$7,IF(J20=8,liste!$F$8,IF(J20=9,liste!$F$9,IF(J20=10,liste!$F$10,IF(J20=11,liste!$F$11,IF(J20=12,liste!$F$12,IF(J20=13,liste!$F$13,IF(J20=14,liste!$F$14,IF(J20=15,liste!$F$15,IF(J20=16,liste!$F$16,IF(J20=17,liste!$F$17,IF(J20=18,liste!$F$18,IF(J20=19,liste!$F$19,IF(J20=20,liste!$F$20,"")))))))))))))))))))) | K20: =IF(L20=1,liste!$B$1,IF(L20=2,liste!$B$2,IF(L20=3,liste!$B$3,IF(L20=4,liste!$B$4,IF(L20=5,liste!$B$5,IF(L20=6,liste!$B$6,IF(L20=7,liste!$B$7,IF(L20=8,liste!$B$8,IF(L20=9,liste!$B$9,IF(L20=10,liste!$B$10,IF(L20=11,liste!$B$11,IF(L20=12,liste!$B$12,IF(L20=13,liste!$B$13,IF(L20=14,liste!$B$14,IF(L20=15,liste!$B$15,IF(L20=16,liste!$B$16,IF(L20=17,liste!$B$17,IF(L20=18,liste!$B$18,IF(L20=19,liste!$B$19,IF(L20=20,liste!$B$20,IF(L20=21,liste!$B$21,IF(L20=22,liste!$B$22,IF(L20=23,liste!$B$23,IF(L20=24,liste!$B$24,IF(L20=25,liste!$B$25,IF(L20=26,liste!$B$26,IF(L20=27,liste!$B$27,IF(L20=28,liste!$B$28,IF(L20=29,liste!$B$29,IF(L20>=30,'2'!K20,"")))))))))))))))))))))))))))))) | M20: =IF(N20=1,liste!$F$1,IF(N20=2,liste!$F$2,IF(N20=3,liste!$F$3,IF(N20=4,liste!$F$4,IF(N20=5,liste!$F$5,IF(N20=6,liste!$F$6,IF(N20=7,liste!$F$7,IF(N20=8,liste!$F$8,IF(N20=9,liste!$F$9,IF(N20=10,liste!$F$10,IF(N20=11,liste!$F$11,IF(N20=12,liste!$F$12,IF(N20=13,liste!$F$13,IF(N20=14,liste!$F$14,IF(N20=15,liste!$F$15,IF(N20=16,liste!$F$16,IF(N20=17,liste!$F$17,IF(N20=18,liste!$F$18,IF(N20=19,liste!$F$19,IF(N20=20,liste!$F$20,"")))))))))))))))))))) | O20: =IF(P20=1,liste!$B$1,IF(P20=2,liste!$B$2,IF(P20=3,liste!$B$3,IF(P20=4,liste!$B$4,IF(P20=5,liste!$B$5,IF(P20=6,liste!$B$6,IF(P20=7,liste!$B$7,IF(P20=8,liste!$B$8,IF(P20=9,liste!$B$9,IF(P20=10,liste!$B$10,IF(P20=11,liste!$B$11,IF(P20=12,liste!$B$12,IF(P20=13,liste!$B$13,IF(P20=14,liste!$B$14,IF(P20=15,liste!$B$15,IF(P20=16,liste!$B$16,IF(P20=17,liste!$B$17,IF(P20=18,liste!$B$18,IF(P20=19,liste!$B$19,IF(P20=20,liste!$B$20,IF(P20=21,liste!$B$21,IF(P20=22,liste!$B$22,IF(P20=23,liste!$B$23,IF(P20=24,liste!$B$24,IF(P20=25,liste!$B$25,IF(P20=26,liste!$B$26,IF(P20=27,liste!$B$27,IF(P20=28,liste!$B$28,IF(P20=29,liste!$B$29,IF(P20>=30,'2'!O20,"")))))))))))))))))))))))))))))) | Q20: =IF(R20=1,liste!$F$1,IF(R20=2,liste!$F$2,IF(R20=3,liste!$F$3,IF(R20=4,liste!$F$4,IF(R20=5,liste!$F$5,IF(R20=6,liste!$F$6,IF(R20=7,liste!$F$7,IF(R20=8,liste!$F$8,IF(R20=9,liste!$F$9,IF(R20=10,liste!$F$10,IF(R20=11,liste!$F$11,IF(R20=12,liste!$F$12,IF(R20=13,liste!$F$13,IF(R20=14,liste!$F$14,IF(R20=15,liste!$F$15,IF(R20=16,liste!$F$16,IF(R20=17,liste!$F$17,IF(R20=18,liste!$F$18,IF(R20=19,liste!$F$19,IF(R20=20,liste!$F$20,"")))))))))))))))))))) | S20: =IF(T20=1,liste!$B$1,IF(T20=2,liste!$B$2,IF(T20=3,liste!$B$3,IF(T20=4,liste!$B$4,IF(T20=5,liste!$B$5,IF(T20=6,liste!$B$6,IF(T20=7,liste!$B$7,IF(T20=8,liste!$B$8,IF(T20=9,liste!$B$9,IF(T20=10,liste!$B$10,IF(T20=11,liste!$B$11,IF(T20=12,liste!$B$12,IF(T20=13,liste!$B$13,IF(T20=14,liste!$B$14,IF(T20=15,liste!$B$15,IF(T20=16,liste!$B$16,IF(T20=17,liste!$B$17,IF(T20=18,liste!$B$18,IF(T20=19,liste!$B$19,IF(T20=20,liste!$B$20,IF(T20=21,liste!$B$21,IF(T20=22,liste!$B$22,IF(T20=23,liste!$B$23,IF(T20=24,liste!$B$24,IF(T20=25,liste!$B$25,IF(T20=26,liste!$B$26,IF(T20=27,liste!$B$27,IF(T20=28,liste!$B$28,IF(T20=29,liste!$B$29,IF(T20>=30,'2'!S20,"")))))))))))))))))))))))))))))) -> Y. Doç. M. Aktümen | T20: 21 | U20: =IF(V20=1,liste!$F$1,IF(V20=2,liste!$F$2,IF(V20=3,liste!$F$3,IF(V20=4,liste!$F$4,IF(V20=5,liste!$F$5,IF(V20=6,liste!$F$6,IF(V20=7,liste!$F$7,IF(V20=8,liste!$F$8,IF(V20=9,liste!$F$9,IF(V20=10,liste!$F$10,IF(V20=11,liste!$F$11,IF(V20=12,liste!$F$12,IF(V20=13,liste!$F$13,IF(V20=14,liste!$F$14,IF(V20=15,liste!$F$15,IF(V20=16,liste!$F$16,IF(V20=17,liste!$F$17,IF(V20=18,liste!$F$18,IF(V20=19,liste!$F$19,IF(V20=20,liste!$F$20,"")))))))))))))))))))) -> FZ03 | V20: 4 | W20: =IF(X20=1,liste!$B$1,IF(X20=2,liste!$B$2,IF(X20=3,liste!$B$3,IF(X20=4,liste!$B$4,IF(X20=5,liste!$B$5,IF(X20=6,liste!$B$6,IF(X20=7,liste!$B$7,IF(X20=8,liste!$B$8,IF(X20=9,liste!$B$9,IF(X20=10,liste!$B$10,IF(X20=11,liste!$B$11,IF(X20=12,liste!$B$12,IF(X20=13,liste!$B$13,IF(X20=14,liste!$B$14,IF(X20=15,liste!$B$15,IF(X20=16,liste!$B$16,IF(X20=17,liste!$B$17,IF(X20=18,liste!$B$18,IF(X20=19,liste!$B$19,IF(X20=20,liste!$B$20,IF(X20=21,liste!$B$21,IF(X20=22,liste!$B$22,IF(X20=23,liste!$B$23,IF(X20=24,liste!$B$24,IF(X20=25,liste!$B$25,IF(X20=26,liste!$B$26,IF(X20=27,liste!$B$27,IF(X20=28,liste!$B$28,IF(X20=29,liste!$B$29,IF(X20>=30,'2'!W20,"")))))))))))))))))))))))))))))) -> Doç.Dr.Şeref Tan | X20: 19 | Y20: =IF(Z20=1,liste!$F$1,IF(Z20=2,liste!$F$2,IF(Z20=3,liste!$F$3,IF(Z20=4,liste!$F$4,IF(Z20=5,liste!$F$5,IF(Z20=6,liste!$F$6,IF(Z20=7,liste!$F$7,IF(Z20=8,liste!$F$8,IF(Z20=9,liste!$F$9,IF(Z20=10,liste!$F$10,IF(Z20=11,liste!$F$11,IF(Z20=12,liste!$F$12,IF(Z20=13,liste!$F$13,IF(Z20=14,liste!$F$14,IF(Z20=15,liste!$F$15,IF(Z20=16,liste!$F$16,IF(Z20=17,liste!$F$17,IF(Z20=18,liste!$F$18,IF(Z20=19,liste!$F$19,IF(Z20=20,liste!$F$20,"")))))))))))))))))))) -> FZ04 | Z20: 5 | AA20: =IF(AB20=1,liste!$B$1,IF(AB20=2,liste!$B$2,IF(AB20=3,liste!$B$3,IF(AB20=4,liste!$B$4,IF(AB20=5,liste!$B$5,IF(AB20=6,liste!$B$6,IF(AB20=7,liste!$B$7,IF(AB20=8,liste!$B$8,IF(AB20=9,liste!$B$9,IF(AB20=10,liste!$B$10,IF(AB20=11,liste!$B$11,IF(AB20=12,liste!$B$12,IF(AB20=13,liste!$B$13,IF(AB20=14,liste!$B$14,IF(AB20=15,liste!$B$15,IF(AB20=16,liste!$B$16,IF(AB20=17,liste!$B$17,IF(AB20=18,liste!$B$18,IF(AB20=19,liste!$B$19,IF(AB20=20,liste!$B$20,IF(AB20=21,liste!$B$21,IF(AB20=22,liste!$B$22,IF(AB20=23,liste!$B$23,IF(AB20=24,liste!$B$24,IF(AB20=25,liste!$B$25,IF(AB20=26,liste!$B$26,IF(AB20=27,liste!$B$27,IF(AB20=28,liste!$B$28,IF(AB20=29,liste!$B$29,IF(AB20>=30,'2'!AA20,"")))))))))))))))))))))))))))))) -> Doç.Dr.M.Bulut | AB20: 3 | AC20: =IF(AD20=1,liste!$F$1,IF(AD20=2,liste!$F$2,IF(AD20=3,liste!$F$3,IF(AD20=4,liste!$F$4,IF(AD20=5,liste!$F$5,IF(AD20=6,liste!$F$6,IF(AD20=7,liste!$F$7,IF(AD20=8,liste!$F$8,IF(AD20=9,liste!$F$9,IF(AD20=10,liste!$F$10,IF(AD20=11,liste!$F$11,IF(AD20=12,liste!$F$12,IF(AD20=13,liste!$F$13,IF(AD20=14,liste!$F$14,IF(AD20=15,liste!$F$15,IF(AD20=16,liste!$F$16,IF(AD20=17,liste!$F$17,IF(AD20=18,liste!$F$18,IF(AD20=19,liste!$F$19,IF(AD20=20,liste!$F$20,"")))))))))))))))))))) | AE20: =IF(AF20=1,liste!$B$1,IF(AF20=2,liste!$B$2,IF(AF20=3,liste!$B$3,IF(AF20=4,liste!$B$4,IF(AF20=5,liste!$B$5,IF(AF20=6,liste!$B$6,IF(AF20=7,liste!$B$7,IF(AF20=8,liste!$B$8,IF(AF20=9,liste!$B$9,IF(AF20=10,liste!$B$10,IF(AF20=11,liste!$B$11,IF(AF20=12,liste!$B$12,IF(AF20=13,liste!$B$13,IF(AF20=14,liste!$B$14,IF(AF20=15,liste!$B$15,IF(AF20=16,liste!$B$16,IF(AF20=17,liste!$B$17,IF(AF20=18,liste!$B$18,IF(AF20=19,liste!$B$19,IF(AF20=20,liste!$B$20,IF(AF20=21,liste!$B$21,IF(AF20=22,liste!$B$22,IF(AF20=23,liste!$B$23,IF(AF20=24,liste!$B$24,IF(AF20=25,liste!$B$25,IF(AF20=26,liste!$B$26,IF(AF20=27,liste!$B$27,IF(AF20=28,liste!$B$28,IF(AF20=29,liste!$B$29,IF(AF20>=30,'2'!AE20,"")))))))))))))))))))))))))))))) -> Doç. Dr. N. Aksoy | AF20: 18 | AG20: =IF(AH20=1,liste!$F$1,IF(AH20=2,liste!$F$2,IF(AH20=3,liste!$F$3,IF(AH20=4,liste!$F$4,IF(AH20=5,liste!$F$5,IF(AH20=6,liste!$F$6,IF(AH20=7,liste!$F$7,IF(AH20=8,liste!$F$8,IF(AH20=9,liste!$F$9,IF(AH20=10,liste!$F$10,IF(AH20=11,liste!$F$11,IF(AH20=12,liste!$F$12,IF(AH20=13,liste!$F$13,IF(AH20=14,liste!$F$14,IF(AH20=15,liste!$F$15,IF(AH20=16,liste!$F$16,IF(AH20=17,liste!$F$17,IF(AH20=18,liste!$F$18,IF(AH20=19,liste!$F$19,IF(AH20=20,liste!$F$20,"")))))))))))))))))))) -> CZ13 | AH20: 6
C21: =IF(D21=1,liste!$D$1,IF(D21=2,liste!$D$2,IF(D21=3,liste!$D$3,IF(D21=4,liste!$D$4,IF(D21=5,liste!$D$5,IF(D21=6,liste!$D$6,IF(D21=7,liste!$D$7,IF(D21=8,liste!$D$8,IF(D21=9,liste!$D$9,IF(D21=10,liste!$D$10,IF(D21=11,liste!$D$11,IF(D21=12,liste!$D$12,IF(D21=13,liste!$D$13,IF(D21=14,liste!$D$14,IF(D21=15,liste!$D$15,IF(D21=16,liste!$D$16,IF(D21=17,liste!$D$17,IF(D21=18,liste!$D$18,IF(D21=19,liste!$D$19,IF(D21=20,liste!$D$20,IF(D21=21,liste!$D$21,IF(D21=22,liste!$D$22,IF(D21=23,liste!$D$23,IF(D21=24,liste!$D$24,IF(D21=25,liste!$D$25,IF(D21=26,liste!$D$26,IF(D21=27,liste!$D$27,IF(D21=28,liste!$D$28,IF(D21=29,liste!$D$29,IF(D21>=30,'2'!C21,"")))))))))))))))))))))))))))))) | G21: =IF(H21=1,liste!$D$1,IF(H21=2,liste!$D$2,IF(H21=3,liste!$D$3,IF(H21=4,liste!$D$4,IF(H21=5,liste!$D$5,IF(H21=6,liste!$D$6,IF(H21=7,liste!$D$7,IF(H21=8,liste!$D$8,IF(H21=9,liste!$D$9,IF(H21=10,liste!$D$10,IF(H21=11,liste!$D$11,IF(H21=12,liste!$D$12,IF(H21=13,liste!$D$13,IF(H21=14,liste!$D$14,IF(H21=15,liste!$D$15,IF(H21=16,liste!$D$16,IF(H21=17,liste!$D$17,IF(H21=18,liste!$D$18,IF(H21=19,liste!$D$19,IF(H21=20,liste!$D$20,IF(H21=21,liste!$D$21,IF(H21=22,liste!$D$22,IF(H21=23,liste!$D$23,IF(H21=24,liste!$D$24,IF(H21=25,liste!$D$25,IF(H21=26,liste!$D$26,IF(H21=27,liste!$D$27,IF(H21=28,liste!$D$28,IF(H21=29,liste!$D$29,IF(H21>=30,'2'!G21,"")))))))))))))))))))))))))))))) | K21: =IF(L21=1,liste!$D$1,IF(L21=2,liste!$D$2,IF(L21=3,liste!$D$3,IF(L21=4,liste!$D$4,IF(L21=5,liste!$D$5,IF(L21=6,liste!$D$6,IF(L21=7,liste!$D$7,IF(L21=8,liste!$D$8,IF(L21=9,liste!$D$9,IF(L21=10,liste!$D$10,IF(L21=11,liste!$D$11,IF(L21=12,liste!$D$12,IF(L21=13,liste!$D$13,IF(L21=14,liste!$D$14,IF(L21=15,liste!$D$15,IF(L21=16,liste!$D$16,IF(L21=17,liste!$D$17,IF(L21=18,liste!$D$18,IF(L21=19,liste!$D$19,IF(L21=20,liste!$D$20,IF(L21=21,liste!$D$21,IF(L21=22,liste!$D$22,IF(L21=23,liste!$D$23,IF(L21=24,liste!$D$24,IF(L21=25,liste!$D$25,IF(L21=26,liste!$D$26,IF(L21=27,liste!$D$27,IF(L21=28,liste!$D$28,IF(L21=29,liste!$D$29,IF(L21>=30,'2'!K21,"")))))))))))))))))))))))))))))) | O21: =IF(P21=1,liste!$D$1,IF(P21=2,liste!$D$2,IF(P21=3,liste!$D$3,IF(P21=4,liste!$D$4,IF(P21=5,liste!$D$5,IF(P21=6,liste!$D$6,IF(P21=7,liste!$D$7,IF(P21=8,liste!$D$8,IF(P21=9,liste!$D$9,IF(P21=10,liste!$D$10,IF(P21=11,liste!$D$11,IF(P21=12,liste!$D$12,IF(P21=13,liste!$D$13,IF(P21=14,liste!$D$14,IF(P21=15,liste!$D$15,IF(P21=16,liste!$D$16,IF(P21=17,liste!$D$17,IF(P21=18,liste!$D$18,IF(P21=19,liste!$D$19,IF(P21=20,liste!$D$20,IF(P21=21,liste!$D$21,IF(P21=22,liste!$D$22,IF(P21=23,liste!$D$23,IF(P21=24,liste!$D$24,IF(P21=25,liste!$D$25,IF(P21=26,liste!$D$26,IF(P21=27,liste!$D$27,IF(P21=28,liste!$D$28,IF(P21=29,liste!$D$29,IF(P21>=30,'2'!O21,"")))))))))))))))))))))))))))))) | S21: =IF(T21=1,liste!$D$1,IF(T21=2,liste!$D$2,IF(T21=3,liste!$D$3,IF(T21=4,liste!$D$4,IF(T21=5,liste!$D$5,IF(T21=6,liste!$D$6,IF(T21=7,liste!$D$7,IF(T21=8,liste!$D$8,IF(T21=9,liste!$D$9,IF(T21=10,liste!$D$10,IF(T21=11,liste!$D$11,IF(T21=12,liste!$D$12,IF(T21=13,liste!$D$13,IF(T21=14,liste!$D$14,IF(T21=15,liste!$D$15,IF(T21=16,liste!$D$16,IF(T21=17,liste!$D$17,IF(T21=18,liste!$D$18,IF(T21=19,liste!$D$19,IF(T21=20,liste!$D$20,IF(T21=21,liste!$D$21,IF(T21=22,liste!$D$22,IF(T21=23,liste!$D$23,IF(T21=24,liste!$D$24,IF(T21=25,liste!$D$25,IF(T21=26,liste!$D$26,IF(T21=27,liste!$D$27,IF(T21=28,liste!$D$28,IF(T21=29,liste!$D$29,IF(T21>=30,'2'!S21,"")))))))))))))))))))))))))))))) -> Ist & Ols II | T21: 3 | W21: =IF(X21=1,liste!$D$1,IF(X21=2,liste!$D$2,IF(X21=3,liste!$D$3,IF(X21=4,liste!$D$4,IF(X21=5,liste!$D$5,IF(X21=6,liste!$D$6,IF(X21=7,liste!$D$7,IF(X21=8,liste!$D$8,IF(X21=9,liste!$D$9,IF(X21=10,liste!$D$10,IF(X21=11,liste!$D$11,IF(X21=12,liste!$D$12,IF(X21=13,liste!$D$13,IF(X21=14,liste!$D$14,IF(X21=15,liste!$D$15,IF(X21=16,liste!$D$16,IF(X21=17,liste!$D$17,IF(X21=18,liste!$D$18,IF(X21=19,liste!$D$19,IF(X21=20,liste!$D$20,IF(X21=21,liste!$D$21,IF(X21=22,liste!$D$22,IF(X21=23,liste!$D$23,IF(X21=24,liste!$D$24,IF(X21=25,liste!$D$25,IF(X21=26,liste!$D$26,IF(X21=27,liste!$D$27,IF(X21=28,liste!$D$28,IF(X21=29,liste!$D$29,IF(X21>=30,'2'!W21,"")))))))))))))))))))))))))))))) -> Ölç. & Değer. | X21: 18 | AA21: =IF(AB21=1,liste!$D$1,IF(AB21=2,liste!$D$2,IF(AB21=3,liste!$D$3,IF(AB21=4,liste!$D$4,IF(AB21=5,liste!$D$5,IF(AB21=6,liste!$D$6,IF(AB21=7,liste!$D$7,IF(AB21=8,liste!$D$8,IF(AB21=9,liste!$D$9,IF(AB21=10,liste!$D$10,IF(AB21=11,liste!$D$11,IF(AB21=12,liste!$D$12,IF(AB21=13,liste!$D$13,IF(AB21=14,liste!$D$14,IF(AB21=15,liste!$D$15,IF(AB21=16,liste!$D$16,IF(AB21=17,liste!$D$17,IF(AB21=18,liste!$D$18,IF(AB21=19,liste!$D$19,IF(AB21=20,liste!$D$20,IF(AB21=21,liste!$D$21,IF(AB21=22,liste!$D$22,IF(AB21=23,liste!$D$23,IF(AB21=24,liste!$D$24,IF(AB21=25,liste!$D$25,IF(AB21=26,liste!$D$26,IF(AB21=27,liste!$D$27,IF(AB21=28,liste!$D$28,IF(AB21=29,liste!$D$29,IF(AB21>=30,'2'!AA21,"")))))))))))))))))))))))))))))) -> Öğr. Uygulaması | AB21: 29 | AE21: =IF(AF21=1,liste!$D$1,IF(AF21=2,liste!$D$2,IF(AF21=3,liste!$D$3,IF(AF21=4,liste!$D$4,IF(AF21=5,liste!$D$5,IF(AF21=6,liste!$D$6,IF(AF21=7,liste!$D$7,IF(AF21=8,liste!$D$8,IF(AF21=9,liste!$D$9,IF(AF21=10,liste!$D$10,IF(AF21=11,liste!$D$11,IF(AF21=12,liste!$D$12,IF(AF21=13,liste!$D$13,IF(AF21=14,liste!$D$14,IF(AF21=15,liste!$D$15,IF(AF21=16,liste!$D$16,IF(AF21=17,liste!$D$17,IF(AF21=18,liste!$D$18,IF(AF21=19,liste!$D$19,IF(AF21=20,liste!$D$20,IF(AF21=21,liste!$D$21,IF(AF21=22,liste!$D$22,IF(AF21=23,liste!$D$23,IF(AF21=24,liste!$D$24,IF(AF21=25,liste!$D$25,IF(AF21=26,liste!$D$26,IF(AF21=27,liste!$D$27,IF(AF21=28,liste!$D$28,IF(AF21=29,liste!$D$29,IF(AF21>=30,'2'!AE21,"")))))))))))))))))))))))))))))) -> Türk Eğt. Sis & Okul | AF21: 20
B22: =liste!I9 -> 20:30-21:20 | C22: =IF(D22=1,liste!$B$1,IF(D22=2,liste!$B$2,IF(D22=3,liste!$B$3,IF(D22=4,liste!$B$4,IF(D22=5,liste!$B$5,IF(D22=6,liste!$B$6,IF(D22=7,liste!$B$7,IF(D22=8,liste!$B$8,IF(D22=9,liste!$B$9,IF(D22=10,liste!$B$10,IF(D22=11,liste!$B$11,IF(D22=12,liste!$B$12,IF(D22=13,liste!$B$13,IF(D22=14,liste!$B$14,IF(D22=15,liste!$B$15,IF(D22=16,liste!$B$16,IF(D22=17,liste!$B$17,IF(D22=18,liste!$B$18,IF(D22=19,liste!$B$19,IF(D22=20,liste!$B$20,IF(D22=21,liste!$B$21,IF(D22=22,liste!$B$22,IF(D22=23,liste!$B$23,IF(D22=24,liste!$B$24,IF(D22=25,liste!$B$25,IF(D22=26,liste!$B$26,IF(D22=27,liste!$B$27,IF(D22=28,liste!$B$28,IF(D22=29,liste!$B$29,IF(D22>=30,'2'!C22,"")))))))))))))))))))))))))))))) | E22: =IF(F22=1,liste!$F$1,IF(F22=2,liste!$F$2,IF(F22=3,liste!$F$3,IF(F22=4,liste!$F$4,IF(F22=5,liste!$F$5,IF(F22=6,liste!$F$6,IF(F22=7,liste!$F$7,IF(F22=8,liste!$F$8,IF(F22=9,liste!$F$9,IF(F22=10,liste!$F$10,IF(F22=11,liste!$F$11,IF(F22=12,liste!$F$12,IF(F22=13,liste!$F$13,IF(F22=14,liste!$F$14,IF(F22=15,liste!$F$15,IF(F22=16,liste!$F$16,IF(F22=17,liste!$F$17,IF(F22=18,liste!$F$18,IF(F22=19,liste!$F$19,IF(F22=20,liste!$F$20,"")))))))))))))))))))) | G22: =IF(H22=1,liste!$B$1,IF(H22=2,liste!$B$2,IF(H22=3,liste!$B$3,IF(H22=4,liste!$B$4,IF(H22=5,liste!$B$5,IF(H22=6,liste!$B$6,IF(H22=7,liste!$B$7,IF(H22=8,liste!$B$8,IF(H22=9,liste!$B$9,IF(H22=10,liste!$B$10,IF(H22=11,liste!$B$11,IF(H22=12,liste!$B$12,IF(H22=13,liste!$B$13,IF(H22=14,liste!$B$14,IF(H22=15,liste!$B$15,IF(H22=16,liste!$B$16,IF(H22=17,liste!$B$17,IF(H22=18,liste!$B$18,IF(H22=19,liste!$B$19,IF(H22=20,liste!$B$20,IF(H22=21,liste!$B$21,IF(H22=22,liste!$B$22,IF(H22=23,liste!$B$23,IF(H22=24,liste!$B$24,IF(H22=25,liste!$B$25,IF(H22=26,liste!$B$26,IF(H22=27,liste!$B$27,IF(H22=28,liste!$B$28,IF(H22=29,liste!$B$29,IF(H22>=30,'2'!G22,"")))))))))))))))))))))))))))))) | I22: =IF(J22=1,liste!$F$1,IF(J22=2,liste!$F$2,IF(J22=3,liste!$F$3,IF(J22=4,liste!$F$4,IF(J22=5,liste!$F$5,IF(J22=6,liste!$F$6,IF(J22=7,liste!$F$7,IF(J22=8,liste!$F$8,IF(J22=9,liste!$F$9,IF(J22=10,liste!$F$10,IF(J22=11,liste!$F$11,IF(J22=12,liste!$F$12,IF(J22=13,liste!$F$13,IF(J22=14,liste!$F$14,IF(J22=15,liste!$F$15,IF(J22=16,liste!$F$16,IF(J22=17,liste!$F$17,IF(J22=18,liste!$F$18,IF(J22=19,liste!$F$19,IF(J22=20,liste!$F$20,"")))))))))))))))))))) | K22: =IF(L22=1,liste!$B$1,IF(L22=2,liste!$B$2,IF(L22=3,liste!$B$3,IF(L22=4,liste!$B$4,IF(L22=5,liste!$B$5,IF(L22=6,liste!$B$6,IF(L22=7,liste!$B$7,IF(L22=8,liste!$B$8,IF(L22=9,liste!$B$9,IF(L22=10,liste!$B$10,IF(L22=11,liste!$B$11,IF(L22=12,liste!$B$12,IF(L22=13,liste!$B$13,IF(L22=14,liste!$B$14,IF(L22=15,liste!$B$15,IF(L22=16,liste!$B$16,IF(L22=17,liste!$B$17,IF(L22=18,liste!$B$18,IF(L22=19,liste!$B$19,IF(L22=20,liste!$B$20,IF(L22=21,liste!$B$21,IF(L22=22,liste!$B$22,IF(L22=23,liste!$B$23,IF(L22=24,liste!$B$24,IF(L22=25,liste!$B$25,IF(L22=26,liste!$B$26,IF(L22=27,liste!$B$27,IF(L22=28,liste!$B$28,IF(L22=29,liste!$B$29,IF(L22>=30,'2'!K22,"")))))))))))))))))))))))))))))) | M22: =IF(N22=1,liste!$F$1,IF(N22=2,liste!$F$2,IF(N22=3,liste!$F$3,IF(N22=4,liste!$F$4,IF(N22=5,liste!$F$5,IF(N22=6,liste!$F$6,IF(N22=7,liste!$F$7,IF(N22=8,liste!$F$8,IF(N22=9,liste!$F$9,IF(N22=10,liste!$F$10,IF(N22=11,liste!$F$11,IF(N22=12,liste!$F$12,IF(N22=13,liste!$F$13,IF(N22=14,liste!$F$14,IF(N22=15,liste!$F$15,IF(N22=16,liste!$F$16,IF(N22=17,liste!$F$17,IF(N22=18,liste!$F$18,IF(N22=19,liste!$F$19,IF(N22=20,liste!$F$20,"")))))))))))))))))))) | O22: =IF(P22=1,liste!$B$1,IF(P22=2,liste!$B$2,IF(P22=3,liste!$B$3,IF(P22=4,liste!$B$4,IF(P22=5,liste!$B$5,IF(P22=6,liste!$B$6,IF(P22=7,liste!$B$7,IF(P22=8,liste!$B$8,IF(P22=9,liste!$B$9,IF(P22=10,liste!$B$10,IF(P22=11,liste!$B$11,IF(P22=12,liste!$B$12,IF(P22=13,liste!$B$13,IF(P22=14,liste!$B$14,IF(P22=15,liste!$B$15,IF(P22=16,liste!$B$16,IF(P22=17,liste!$B$17,IF(P22=18,liste!$B$18,IF(P22=19,liste!$B$19,IF(P22=20,liste!$B$20,IF(P22=21,liste!$B$21,IF(P22=22,liste!$B$22,IF(P22=23,liste!$B$23,IF(P22=24,liste!$B$24,IF(P22=25,liste!$B$25,IF(P22=26,liste!$B$26,IF(P22=27,liste!$B$27,IF(P22=28,liste!$B$28,IF(P22=29,liste!$B$29,IF(P22>=30,'2'!O22,"")))))))))))))))))))))))))))))) | Q22: =IF(R22=1,liste!$F$1,IF(R22=2,liste!$F$2,IF(R22=3,liste!$F$3,IF(R22=4,liste!$F$4,IF(R22=5,liste!$F$5,IF(R22=6,liste!$F$6,IF(R22=7,liste!$F$7,IF(R22=8,liste!$F$8,IF(R22=9,liste!$F$9,IF(R22=10,liste!$F$10,IF(R22=11,liste!$F$11,IF(R22=12,liste!$F$12,IF(R22=13,liste!$F$13,IF(R22=14,liste!$F$14,IF(R22=15,liste!$F$15,IF(R22=16,liste!$F$16,IF(R22=17,liste!$F$17,IF(R22=18,liste!$F$18,IF(R22=19,liste!$F$19,IF(R22=20,liste!$F$20,"")))))))))))))))))))) | S22: =IF(T22=1,liste!$B$1,IF(T22=2,liste!$B$2,IF(T22=3,liste!$B$3,IF(T22=4,liste!$B$4,IF(T22=5,liste!$B$5,IF(T22=6,liste!$B$6,IF(T22=7,liste!$B$7,IF(T22=8,liste!$B$8,IF(T22=9,liste!$B$9,IF(T22=10,liste!$B$10,IF(T22=11,liste!$B$11,IF(T22=12,liste!$B$12,IF(T22=13,liste!$B$13,IF(T22=14,liste!$B$14,IF(T22=15,liste!$B$15,IF(T22=16,liste!$B$16,IF(T22=17,liste!$B$17,IF(T22=18,liste!$B$18,IF(T22=19,liste!$B$19,IF(T22=20,liste!$B$20,IF(T22=21,liste!$B$21,IF(T22=22,liste!$B$22,IF(T22=23,liste!$B$23,IF(T22=24,liste!$B$24,IF(T22=25,liste!$B$25,IF(T22=26,liste!$B$26,IF(T22=27,liste!$B$27,IF(T22=28,liste!$B$28,IF(T22=29,liste!$B$29,IF(T22>=30,'2'!S22,"")))))))))))))))))))))))))))))) -> Doç.Dr.M.Bulut | T22: 3 | U22: =IF(V22=1,liste!$F$1,IF(V22=2,liste!$F$2,IF(V22=3,liste!$F$3,IF(V22=4,liste!$F$4,IF(V22=5,liste!$F$5,IF(V22=6,liste!$F$6,IF(V22=7,liste!$F$7,IF(V22=8,liste!$F$8,IF(V22=9,liste!$F$9,IF(V22=10,liste!$F$10,IF(V22=11,liste!$F$11,IF(V22=12,liste!$F$12,IF(V22=13,liste!$F$13,IF(V22=14,liste!$F$14,IF(V22=15,liste!$F$15,IF(V22=16,liste!$F$16,IF(V22=17,liste!$F$17,IF(V22=18,liste!$F$18,IF(V22=19,liste!$F$19,IF(V22=20,liste!$F$20,"")))))))))))))))))))) | W22: =IF(X22=1,liste!$B$1,IF(X22=2,liste!$B$2,IF(X22=3,liste!$B$3,IF(X22=4,liste!$B$4,IF(X22=5,liste!$B$5,IF(X22=6,liste!$B$6,IF(X22=7,liste!$B$7,IF(X22=8,liste!$B$8,IF(X22=9,liste!$B$9,IF(X22=10,liste!$B$10,IF(X22=11,liste!$B$11,IF(X22=12,liste!$B$12,IF(X22=13,liste!$B$13,IF(X22=14,liste!$B$14,IF(X22=15,liste!$B$15,IF(X22=16,liste!$B$16,IF(X22=17,liste!$B$17,IF(X22=18,liste!$B$18,IF(X22=19,liste!$B$19,IF(X22=20,liste!$B$20,IF(X22=21,liste!$B$21,IF(X22=22,liste!$B$22,IF(X22=23,liste!$B$23,IF(X22=24,liste!$B$24,IF(X22=25,liste!$B$25,IF(X22=26,liste!$B$26,IF(X22=27,liste!$B$27,IF(X22=28,liste!$B$28,IF(X22=29,liste!$B$29,IF(X22>=30,'2'!W22,"")))))))))))))))))))))))))))))) -> Y. Doç. M. Aktümen | X22: 21 | Y22: =IF(Z22=1,liste!$F$1,IF(Z22=2,liste!$F$2,IF(Z22=3,liste!$F$3,IF(Z22=4,liste!$F$4,IF(Z22=5,liste!$F$5,IF(Z22=6,liste!$F$6,IF(Z22=7,liste!$F$7,IF(Z22=8,liste!$F$8,IF(Z22=9,liste!$F$9,IF(Z22=10,liste!$F$10,IF(Z22=11,liste!$F$11,IF(Z22=12,liste!$F$12,IF(Z22=13,liste!$F$13,IF(Z22=14,liste!$F$14,IF(Z22=15,liste!$F$15,IF(Z22=16,liste!$F$16,IF(Z22=17,liste!$F$17,IF(Z22=18,liste!$F$18,IF(Z22=19,liste!$F$19,IF(Z22=20,liste!$F$20,"")))))))))))))))))))) -> FZ03 | Z22: 4 | AA22: =IF(AB22=1,liste!$B$1,IF(AB22=2,liste!$B$2,IF(AB22=3,liste!$B$3,IF(AB22=4,liste!$B$4,IF(AB22=5,liste!$B$5,IF(AB22=6,liste!$B$6,IF(AB22=7,liste!$B$7,IF(AB22=8,liste!$B$8,IF(AB22=9,liste!$B$9,IF(AB22=10,liste!$B$10,IF(AB22=11,liste!$B$11,IF(AB22=12,liste!$B$12,IF(AB22=13,liste!$B$13,IF(AB22=14,liste!$B$14,IF(AB22=15,liste!$B$15,IF(AB22=16,liste!$B$16,IF(AB22=17,liste!$B$17,IF(AB22=18,liste!$B$18,IF(AB22=19,liste!$B$19,IF(AB22=20,liste!$B$20,IF(AB22=21,liste!$B$21,IF(AB22=22,liste!$B$22,IF(AB22=23,liste!$B$23,IF(AB22=24,liste!$B$24,IF(AB22=25,liste!$B$25,IF(AB22=26,liste!$B$26,IF(AB22=27,liste!$B$27,IF(AB22=28,liste!$B$28,IF(AB22=29,liste!$B$29,IF(AB22>=30,'2'!AA22,"")))))))))))))))))))))))))))))) -> Doç.Dr.M.Bulut | AB22: 3 | AC22: =IF(AD22=1,liste!$F$1,IF(AD22=2,liste!$F$2,IF(AD22=3,liste!$F$3,IF(AD22=4,liste!$F$4,IF(AD22=5,liste!$F$5,IF(AD22=6,liste!$F$6,IF(AD22=7,liste!$F$7,IF(AD22=8,liste!$F$8,IF(AD22=9,liste!$F$9,IF(AD22=10,liste!$F$10,IF(AD22=11,liste!$F$11,IF(AD22=12,liste!$F$12,IF(AD22=13,liste!$F$13,IF(AD22=14,liste!$F$14,IF(AD22=15,liste!$F$15,IF(AD22=16,liste!$F$16,IF(AD22=17,liste!$F$17,IF(AD22=18,liste!$F$18,IF(AD22=19,liste!$F$19,IF(AD22=20,liste!$F$20,"")))))))))))))))))))) | AE22: =IF(AF22=1,liste!$B$1,IF(AF22=2,liste!$B$2,IF(AF22=3,liste!$B$3,IF(AF22=4,liste!$B$4,IF(AF22=5,liste!$B$5,IF(AF22=6,liste!$B$6,IF(AF22=7,liste!$B$7,IF(AF22=8,liste!$B$8,IF(AF22=9,liste!$B$9,IF(AF22=10,liste!$B$10,IF(AF22=11,liste!$B$11,IF(AF22=12,liste!$B$12,IF(AF22=13,liste!$B$13,IF(AF22=14,liste!$B$14,IF(AF22=15,liste!$B$15,IF(AF22=16,liste!$B$16,IF(AF22=17,liste!$B$17,IF(AF22=18,liste!$B$18,IF(AF22=19,liste!$B$19,IF(AF22=20,liste!$B$20,IF(AF22=21,liste!$B$21,IF(AF22=22,liste!$B$22,IF(AF22=23,liste!$B$23,IF(AF22=24,liste!$B$24,IF(AF22=25,liste!$B$25,IF(AF22=26,liste!$B$26,IF(AF22=27,liste!$B$27,IF(AF22=28,liste!$B$28,IF(AF22=29,liste!$B$29,IF(AF22>=30,'2'!AE22,"")))))))))))))))))))))))))))))) -> Doç. Dr. N. Aksoy | AF22: 18 | AG22: =IF(AH22=1,liste!$F$1,IF(AH22=2,liste!$F$2,IF(AH22=3,liste!$F$3,IF(AH22=4,liste!$F$4,IF(AH22=5,liste!$F$5,IF(AH22=6,liste!$F$6,IF(AH22=7,liste!$F$7,IF(AH22=8,liste!$F$8,IF(AH22=9,liste!$F$9,IF(AH22=10,liste!$F$10,IF(AH22=11,liste!$F$11,IF(AH22=12,liste!$F$12,IF(AH22=13,liste!$F$13,IF(AH22=14,liste!$F$14,IF(AH22=15,liste!$F$15,IF(AH22=16,liste!$F$16,IF(AH22=17,liste!$F$17,IF(AH22=18,liste!$F$18,IF(AH22=19,liste!$F$19,IF(AH22=20,liste!$F$20,"")))))))))))))))))))) -> CZ13 | AH22: 6
C23: =IF(D23=1,liste!$D$1,IF(D23=2,liste!$D$2,IF(D23=3,liste!$D$3,IF(D23=4,liste!$D$4,IF(D23=5,liste!$D$5,IF(D23=6,liste!$D$6,IF(D23=7,liste!$D$7,IF(D23=8,liste!$D$8,IF(D23=9,liste!$D$9,IF(D23=10,liste!$D$10,IF(D23=11,liste!$D$11,IF(D23=12,liste!$D$12,IF(D23=13,liste!$D$13,IF(D23=14,liste!$D$14,IF(D23=15,liste!$D$15,IF(D23=16,liste!$D$16,IF(D23=17,liste!$D$17,IF(D23=18,liste!$D$18,IF(D23=19,liste!$D$19,IF(D23=20,liste!$D$20,IF(D23=21,liste!$D$21,IF(D23=22,liste!$D$22,IF(D23=23,liste!$D$23,IF(D23=24,liste!$D$24,IF(D23=25,liste!$D$25,IF(D23=26,liste!$D$26,IF(D23=27,liste!$D$27,IF(D23=28,liste!$D$28,IF(D23=29,liste!$D$29,IF(D23>=30,'2'!C23,"")))))))))))))))))))))))))))))) | G23: =IF(H23=1,liste!$D$1,IF(H23=2,liste!$D$2,IF(H23=3,liste!$D$3,IF(H23=4,liste!$D$4,IF(H23=5,liste!$D$5,IF(H23=6,liste!$D$6,IF(H23=7,liste!$D$7,IF(H23=8,liste!$D$8,IF(H23=9,liste!$D$9,IF(H23=10,liste!$D$10,IF(H23=11,liste!$D$11,IF(H23=12,liste!$D$12,IF(H23=13,liste!$D$13,IF(H23=14,liste!$D$14,IF(H23=15,liste!$D$15,IF(H23=16,liste!$D$16,IF(H23=17,liste!$D$17,IF(H23=18,liste!$D$18,IF(H23=19,liste!$D$19,IF(H23=20,liste!$D$20,IF(H23=21,liste!$D$21,IF(H23=22,liste!$D$22,IF(H23=23,liste!$D$23,IF(H23=24,liste!$D$24,IF(H23=25,liste!$D$25,IF(H23=26,liste!$D$26,IF(H23=27,liste!$D$27,IF(H23=28,liste!$D$28,IF(H23=29,liste!$D$29,IF(H23>=30,'2'!G23,"")))))))))))))))))))))))))))))) | K23: =IF(L23=1,liste!$D$1,IF(L23=2,liste!$D$2,IF(L23=3,liste!$D$3,IF(L23=4,liste!$D$4,IF(L23=5,liste!$D$5,IF(L23=6,liste!$D$6,IF(L23=7,liste!$D$7,IF(L23=8,liste!$D$8,IF(L23=9,liste!$D$9,IF(L23=10,liste!$D$10,IF(L23=11,liste!$D$11,IF(L23=12,liste!$D$12,IF(L23=13,liste!$D$13,IF(L23=14,liste!$D$14,IF(L23=15,liste!$D$15,IF(L23=16,liste!$D$16,IF(L23=17,liste!$D$17,IF(L23=18,liste!$D$18,IF(L23=19,liste!$D$19,IF(L23=20,liste!$D$20,IF(L23=21,liste!$D$21,IF(L23=22,liste!$D$22,IF(L23=23,liste!$D$23,IF(L23=24,liste!$D$24,IF(L23=25,liste!$D$25,IF(L23=26,liste!$D$26,IF(L23=27,liste!$D$27,IF(L23=28,liste!$D$28,IF(L23=29,liste!$D$29,IF(L23>=30,'2'!K23,"")))))))))))))))))))))))))))))) | O23: =IF(P23=1,liste!$D$1,IF(P23=2,liste!$D$2,IF(P23=3,liste!$D$3,IF(P23=4,liste!$D$4,IF(P23=5,liste!$D$5,IF(P23=6,liste!$D$6,IF(P23=7,liste!$D$7,IF(P23=8,liste!$D$8,IF(P23=9,liste!$D$9,IF(P23=10,liste!$D$10,IF(P23=11,liste!$D$11,IF(P23=12,liste!$D$12,IF(P23=13,liste!$D$13,IF(P23=14,liste!$D$14,IF(P23=15,liste!$D$15,IF(P23=16,liste!$D$16,IF(P23=17,liste!$D$17,IF(P23=18,liste!$D$18,IF(P23=19,liste!$D$19,IF(P23=20,liste!$D$20,IF(P23=21,liste!$D$21,IF(P23=22,liste!$D$22,IF(P23=23,liste!$D$23,IF(P23=24,liste!$D$24,IF(P23=25,liste!$D$25,IF(P23=26,liste!$D$26,IF(P23=27,liste!$D$27,IF(P23=28,liste!$D$28,IF(P23=29,liste!$D$29,IF(P23>=30,'2'!O23,"")))))))))))))))))))))))))))))) | S23: =IF(T23=1,liste!$D$1,IF(T23=2,liste!$D$2,IF(T23=3,liste!$D$3,IF(T23=4,liste!$D$4,IF(T23=5,liste!$D$5,IF(T23=6,liste!$D$6,IF(T23=7,liste!$D$7,IF(T23=8,liste!$D$8,IF(T23=9,liste!$D$9,IF(T23=10,liste!$D$10,IF(T23=11,liste!$D$11,IF(T23=12,liste!$D$12,IF(T23=13,liste!$D$13,IF(T23=14,liste!$D$14,IF(T23=15,liste!$D$15,IF(T23=16,liste!$D$16,IF(T23=17,liste!$D$17,IF(T23=18,liste!$D$18,IF(T23=19,liste!$D$19,IF(T23=20,liste!$D$20,IF(T23=21,liste!$D$21,IF(T23=22,liste!$D$22,IF(T23=23,liste!$D$23,IF(T23=24,liste!$D$24,IF(T23=25,liste!$D$25,IF(T23=26,liste!$D$26,IF(T23=27,liste!$D$27,IF(T23=28,liste!$D$28,IF(T23=29,liste!$D$29,IF(T23>=30,'2'!S23,"")))))))))))))))))))))))))))))) -> Topl. Hzmt. Uyg. | T23: 28 | W23: =IF(X23=1,liste!$D$1,IF(X23=2,liste!$D$2,IF(X23=3,liste!$D$3,IF(X23=4,liste!$D$4,IF(X23=5,liste!$D$5,IF(X23=6,liste!$D$6,IF(X23=7,liste!$D$7,IF(X23=8,liste!$D$8,IF(X23=9,liste!$D$9,IF(X23=10,liste!$D$10,IF(X23=11,liste!$D$11,IF(X23=12,liste!$D$12,IF(X23=13,liste!$D$13,IF(X23=14,liste!$D$14,IF(X23=15,liste!$D$15,IF(X23=16,liste!$D$16,IF(X23=17,liste!$D$17,IF(X23=18,liste!$D$18,IF(X23=19,liste!$D$19,IF(X23=20,liste!$D$20,IF(X23=21,liste!$D$21,IF(X23=22,liste!$D$22,IF(X23=23,liste!$D$23,IF(X23=24,liste!$D$24,IF(X23=25,liste!$D$25,IF(X23=26,liste!$D$26,IF(X23=27,liste!$D$27,IF(X23=28,liste!$D$28,IF(X23=29,liste!$D$29,IF(X23>=30,'2'!W23,"")))))))))))))))))))))))))))))) -> Ist & Ols II | X23: 3 | AA23: =IF(AB23=1,liste!$D$1,IF(AB23=2,liste!$D$2,IF(AB23=3,liste!$D$3,IF(AB23=4,liste!$D$4,IF(AB23=5,liste!$D$5,IF(AB23=6,liste!$D$6,IF(AB23=7,liste!$D$7,IF(AB23=8,liste!$D$8,IF(AB23=9,liste!$D$9,IF(AB23=10,liste!$D$10,IF(AB23=11,liste!$D$11,IF(AB23=12,liste!$D$12,IF(AB23=13,liste!$D$13,IF(AB23=14,liste!$D$14,IF(AB23=15,liste!$D$15,IF(AB23=16,liste!$D$16,IF(AB23=17,liste!$D$17,IF(AB23=18,liste!$D$18,IF(AB23=19,liste!$D$19,IF(AB23=20,liste!$D$20,IF(AB23=21,liste!$D$21,IF(AB23=22,liste!$D$22,IF(AB23=23,liste!$D$23,IF(AB23=24,liste!$D$24,IF(AB23=25,liste!$D$25,IF(AB23=26,liste!$D$26,IF(AB23=27,liste!$D$27,IF(AB23=28,liste!$D$28,IF(AB23=29,liste!$D$29,IF(AB23>=30,'2'!AA23,"")))))))))))))))))))))))))))))) -> Öğr. Uygulaması | AB23: 29 | AE23: =IF(AF23=1,liste!$D$1,IF(AF23=2,liste!$D$2,IF(AF23=3,liste!$D$3,IF(AF23=4,liste!$D$4,IF(AF23=5,liste!$D$5,IF(AF23=6,liste!$D$6,IF(AF23=7,liste!$D$7,IF(AF23=8,liste!$D$8,IF(AF23=9,liste!$D$9,IF(AF23=10,liste!$D$10,IF(AF23=11,liste!$D$11,IF(AF23=12,liste!$D$12,IF(AF23=13,liste!$D$13,IF(AF23=14,liste!$D$14,IF(AF23=15,liste!$D$15,IF(AF23=16,liste!$D$16,IF(AF23=17,liste!$D$17,IF(AF23=18,liste!$D$18,IF(AF23=19,liste!$D$19,IF(AF23=20,liste!$D$20,IF(AF23=21,liste!$D$21,IF(AF23=22,liste!$D$22,IF(AF23=23,liste!$D$23,IF(AF23=24,liste!$D$24,IF(AF23=25,liste!$D$25,IF(AF23=26,liste!$D$26,IF(AF23=27,liste!$D$27,IF(AF23=28,liste!$D$28,IF(AF23=29,liste!$D$29,IF(AF23>=30,'2'!AE23,"")))))))))))))))))))))))))))))) -> Türk Eğt. Sis & Okul | AF23: 20
B24: =liste!I10 -> 21:30-22:20 | C24: =IF(D24=1,liste!$B$1,IF(D24=2,liste!$B$2,IF(D24=3,liste!$B$3,IF(D24=4,liste!$B$4,IF(D24=5,liste!$B$5,IF(D24=6,liste!$B$6,IF(D24=7,liste!$B$7,IF(D24=8,liste!$B$8,IF(D24=9,liste!$B$9,IF(D24=10,liste!$B$10,IF(D24=11,liste!$B$11,IF(D24=12,liste!$B$12,IF(D24=13,liste!$B$13,IF(D24=14,liste!$B$14,IF(D24=15,liste!$B$15,IF(D24=16,liste!$B$16,IF(D24=17,liste!$B$17,IF(D24=18,liste!$B$18,IF(D24=19,liste!$B$19,IF(D24=20,liste!$B$20,IF(D24=21,liste!$B$21,IF(D24=22,liste!$B$22,IF(D24=23,liste!$B$23,IF(D24=24,liste!$B$24,IF(D24=25,liste!$B$25,IF(D24=26,liste!$B$26,IF(D24=27,liste!$B$27,IF(D24=28,liste!$B$28,IF(D24=29,liste!$B$29,IF(D24>=30,'2'!C24,"")))))))))))))))))))))))))))))) | E24: =IF(F24=1,liste!$F$1,IF(F24=2,liste!$F$2,IF(F24=3,liste!$F$3,IF(F24=4,liste!$F$4,IF(F24=5,liste!$F$5,IF(F24=6,liste!$F$6,IF(F24=7,liste!$F$7,IF(F24=8,liste!$F$8,IF(F24=9,liste!$F$9,IF(F24=10,liste!$F$10,IF(F24=11,liste!$F$11,IF(F24=12,liste!$F$12,IF(F24=13,liste!$F$13,IF(F24=14,liste!$F$14,IF(F24=15,liste!$F$15,IF(F24=16,liste!$F$16,IF(F24=17,liste!$F$17,IF(F24=18,liste!$F$18,IF(F24=19,liste!$F$19,IF(F24=20,liste!$F$20,"")))))))))))))))))))) | G24: =IF(H24=1,liste!$B$1,IF(H24=2,liste!$B$2,IF(H24=3,liste!$B$3,IF(H24=4,liste!$B$4,IF(H24=5,liste!$B$5,IF(H24=6,liste!$B$6,IF(H24=7,liste!$B$7,IF(H24=8,liste!$B$8,IF(H24=9,liste!$B$9,IF(H24=10,liste!$B$10,IF(H24=11,liste!$B$11,IF(H24=12,liste!$B$12,IF(H24=13,liste!$B$13,IF(H24=14,liste!$B$14,IF(H24=15,liste!$B$15,IF(H24=16,liste!$B$16,IF(H24=17,liste!$B$17,IF(H24=18,liste!$B$18,IF(H24=19,liste!$B$19,IF(H24=20,liste!$B$20,IF(H24=21,liste!$B$21,IF(H24=22,liste!$B$22,IF(H24=23,liste!$B$23,IF(H24=24,liste!$B$24,IF(H24=25,liste!$B$25,IF(H24=26,liste!$B$26,IF(H24=27,liste!$B$27,IF(H24=28,liste!$B$28,IF(H24=29,liste!$B$29,IF(H24>=30,'2'!G24,"")))))))))))))))))))))))))))))) | I24: =IF(J24=1,liste!$F$1,IF(J24=2,liste!$F$2,IF(J24=3,liste!$F$3,IF(J24=4,liste!$F$4,IF(J24=5,liste!$F$5,IF(J24=6,liste!$F$6,IF(J24=7,liste!$F$7,IF(J24=8,liste!$F$8,IF(J24=9,liste!$F$9,IF(J24=10,liste!$F$10,IF(J24=11,liste!$F$11,IF(J24=12,liste!$F$12,IF(J24=13,liste!$F$13,IF(J24=14,liste!$F$14,IF(J24=15,liste!$F$15,IF(J24=16,liste!$F$16,IF(J24=17,liste!$F$17,IF(J24=18,liste!$F$18,IF(J24=19,liste!$F$19,IF(J24=20,liste!$F$20,"")))))))))))))))))))) | K24: =IF(L24=1,liste!$B$1,IF(L24=2,liste!$B$2,IF(L24=3,liste!$B$3,IF(L24=4,liste!$B$4,IF(L24=5,liste!$B$5,IF(L24=6,liste!$B$6,IF(L24=7,liste!$B$7,IF(L24=8,liste!$B$8,IF(L24=9,liste!$B$9,IF(L24=10,liste!$B$10,IF(L24=11,liste!$B$11,IF(L24=12,liste!$B$12,IF(L24=13,liste!$B$13,IF(L24=14,liste!$B$14,IF(L24=15,liste!$B$15,IF(L24=16,liste!$B$16,IF(L24=17,liste!$B$17,IF(L24=18,liste!$B$18,IF(L24=19,liste!$B$19,IF(L24=20,liste!$B$20,IF(L24=21,liste!$B$21,IF(L24=22,liste!$B$22,IF(L24=23,liste!$B$23,IF(L24=24,liste!$B$24,IF(L24=25,liste!$B$25,IF(L24=26,liste!$B$26,IF(L24=27,liste!$B$27,IF(L24=28,liste!$B$28,IF(L24=29,liste!$B$29,IF(L24>=30,'2'!K24,"")))))))))))))))))))))))))))))) | M24: =IF(N24=1,liste!$F$1,IF(N24=2,liste!$F$2,IF(N24=3,liste!$F$3,IF(N24=4,liste!$F$4,IF(N24=5,liste!$F$5,IF(N24=6,liste!$F$6,IF(N24=7,liste!$F$7,IF(N24=8,liste!$F$8,IF(N24=9,liste!$F$9,IF(N24=10,liste!$F$10,IF(N24=11,liste!$F$11,IF(N24=12,liste!$F$12,IF(N24=13,liste!$F$13,IF(N24=14,liste!$F$14,IF(N24=15,liste!$F$15,IF(N24=16,liste!$F$16,IF(N24=17,liste!$F$17,IF(N24=18,liste!$F$18,IF(N24=19,liste!$F$19,IF(N24=20,liste!$F$20,"")))))))))))))))))))) | O24: =IF(P24=1,liste!$B$1,IF(P24=2,liste!$B$2,IF(P24=3,liste!$B$3,IF(P24=4,liste!$B$4,IF(P24=5,liste!$B$5,IF(P24=6,liste!$B$6,IF(P24=7,liste!$B$7,IF(P24=8,liste!$B$8,IF(P24=9,liste!$B$9,IF(P24=10,liste!$B$10,IF(P24=11,liste!$B$11,IF(P24=12,liste!$B$12,IF(P24=13,liste!$B$13,IF(P24=14,liste!$B$14,IF(P24=15,liste!$B$15,IF(P24=16,liste!$B$16,IF(P24=17,liste!$B$17,IF(P24=18,liste!$B$18,IF(P24=19,liste!$B$19,IF(P24=20,liste!$B$20,IF(P24=21,liste!$B$21,IF(P24=22,liste!$B$22,IF(P24=23,liste!$B$23,IF(P24=24,liste!$B$24,IF(P24=25,liste!$B$25,IF(P24=26,liste!$B$26,IF(P24=27,liste!$B$27,IF(P24=28,liste!$B$28,IF(P24=29,liste!$B$29,IF(P24>=30,'2'!O24,"")))))))))))))))))))))))))))))) | Q24: =IF(R24=1,liste!$F$1,IF(R24=2,liste!$F$2,IF(R24=3,liste!$F$3,IF(R24=4,liste!$F$4,IF(R24=5,liste!$F$5,IF(R24=6,liste!$F$6,IF(R24=7,liste!$F$7,IF(R24=8,liste!$F$8,IF(R24=9,liste!$F$9,IF(R24=10,liste!$F$10,IF(R24=11,liste!$F$11,IF(R24=12,liste!$F$12,IF(R24=13,liste!$F$13,IF(R24=14,liste!$F$14,IF(R24=15,liste!$F$15,IF(R24=16,liste!$F$16,IF(R24=17,liste!$F$17,IF(R24=18,liste!$F$18,IF(R24=19,liste!$F$19,IF(R24=20,liste!$F$20,"")))))))))))))))))))) | S24: =IF(T24=1,liste!$B$1,IF(T24=2,liste!$B$2,IF(T24=3,liste!$B$3,IF(T24=4,liste!$B$4,IF(T24=5,liste!$B$5,IF(T24=6,liste!$B$6,IF(T24=7,liste!$B$7,IF(T24=8,liste!$B$8,IF(T24=9,liste!$B$9,IF(T24=10,liste!$B$10,IF(T24=11,liste!$B$11,IF(T24=12,liste!$B$12,IF(T24=13,liste!$B$13,IF(T24=14,liste!$B$14,IF(T24=15,liste!$B$15,IF(T24=16,liste!$B$16,IF(T24=17,liste!$B$17,IF(T24=18,liste!$B$18,IF(T24=19,liste!$B$19,IF(T24=20,liste!$B$20,IF(T24=21,liste!$B$21,IF(T24=22,liste!$B$22,IF(T24=23,liste!$B$23,IF(T24=24,liste!$B$24,IF(T24=25,liste!$B$25,IF(T24=26,liste!$B$26,IF(T24=27,liste!$B$27,IF(T24=28,liste!$B$28,IF(T24=29,liste!$B$29,IF(T24>=30,'2'!S24,"")))))))))))))))))))))))))))))) -> Doç.Dr.M.Bulut | T24: 3 | U24: =IF(V24=1,liste!$F$1,IF(V24=2,liste!$F$2,IF(V24=3,liste!$F$3,IF(V24=4,liste!$F$4,IF(V24=5,liste!$F$5,IF(V24=6,liste!$F$6,IF(V24=7,liste!$F$7,IF(V24=8,liste!$F$8,IF(V24=9,liste!$F$9,IF(V24=10,liste!$F$10,IF(V24=11,liste!$F$11,IF(V24=12,liste!$F$12,IF(V24=13,liste!$F$13,IF(V24=14,liste!$F$14,IF(V24=15,liste!$F$15,IF(V24=16,liste!$F$16,IF(V24=17,liste!$F$17,IF(V24=18,liste!$F$18,IF(V24=19,liste!$F$19,IF(V24=20,liste!$F$20,"")))))))))))))))))))) | W24: =IF(X24=1,liste!$B$1,IF(X24=2,liste!$B$2,IF(X24=3,liste!$B$3,IF(X24=4,liste!$B$4,IF(X24=5,liste!$B$5,IF(X24=6,liste!$B$6,IF(X24=7,liste!$B$7,IF(X24=8,liste!$B$8,IF(X24=9,liste!$B$9,IF(X24=10,liste!$B$10,IF(X24=11,liste!$B$11,IF(X24=12,liste!$B$12,IF(X24=13,liste!$B$13,IF(X24=14,liste!$B$14,IF(X24=15,liste!$B$15,IF(X24=16,liste!$B$16,IF(X24=17,liste!$B$17,IF(X24=18,liste!$B$18,IF(X24=19,liste!$B$19,IF(X24=20,liste!$B$20,IF(X24=21,liste!$B$21,IF(X24=22,liste!$B$22,IF(X24=23,liste!$B$23,IF(X24=24,liste!$B$24,IF(X24=25,liste!$B$25,IF(X24=26,liste!$B$26,IF(X24=27,liste!$B$27,IF(X24=28,liste!$B$28,IF(X24=29,liste!$B$29,IF(X24>=30,'2'!W24,"")))))))))))))))))))))))))))))) -> Y. Doç. M. Aktümen | X24: 21 | Y24: =IF(Z24=1,liste!$F$1,IF(Z24=2,liste!$F$2,IF(Z24=3,liste!$F$3,IF(Z24=4,liste!$F$4,IF(Z24=5,liste!$F$5,IF(Z24=6,liste!$F$6,IF(Z24=7,liste!$F$7,IF(Z24=8,liste!$F$8,IF(Z24=9,liste!$F$9,IF(Z24=10,liste!$F$10,IF(Z24=11,liste!$F$11,IF(Z24=12,liste!$F$12,IF(Z24=13,liste!$F$13,IF(Z24=14,liste!$F$14,IF(Z24=15,liste!$F$15,IF(Z24=16,liste!$F$16,IF(Z24=17,liste!$F$17,IF(Z24=18,liste!$F$18,IF(Z24=19,liste!$F$19,IF(Z24=20,liste!$F$20,"")))))))))))))))))))) -> FZ03 | Z24: 4 | AA24: =IF(AB24=1,liste!$B$1,IF(AB24=2,liste!$B$2,IF(AB24=3,liste!$B$3,IF(AB24=4,liste!$B$4,IF(AB24=5,liste!$B$5,IF(AB24=6,liste!$B$6,IF(AB24=7,liste!$B$7,IF(AB24=8,liste!$B$8,IF(AB24=9,liste!$B$9,IF(AB24=10,liste!$B$10,IF(AB24=11,liste!$B$11,IF(AB24=12,liste!$B$12,IF(AB24=13,liste!$B$13,IF(AB24=14,liste!$B$14,IF(AB24=15,liste!$B$15,IF(AB24=16,liste!$B$16,IF(AB24=17,liste!$B$17,IF(AB24=18,liste!$B$18,IF(AB24=19,liste!$B$19,IF(AB24=20,liste!$B$20,IF(AB24=21,liste!$B$21,IF(AB24=22,liste!$B$22,IF(AB24=23,liste!$B$23,IF(AB24=24,liste!$B$24,IF(AB24=25,liste!$B$25,IF(AB24=26,liste!$B$26,IF(AB24=27,liste!$B$27,IF(AB24=28,liste!$B$28,IF(AB24=29,liste!$B$29,IF(AB24>=30,'2'!AA24,"")))))))))))))))))))))))))))))) -> Y.Doç.Dr.M.Aktaş | AB24: 7 | AC24: =IF(AD24=1,liste!$F$1,IF(AD24=2,liste!$F$2,IF(AD24=3,liste!$F$3,IF(AD24=4,liste!$F$4,IF(AD24=5,liste!$F$5,IF(AD24=6,liste!$F$6,IF(AD24=7,liste!$F$7,IF(AD24=8,liste!$F$8,IF(AD24=9,liste!$F$9,IF(AD24=10,liste!$F$10,IF(AD24=11,liste!$F$11,IF(AD24=12,liste!$F$12,IF(AD24=13,liste!$F$13,IF(AD24=14,liste!$F$14,IF(AD24=15,liste!$F$15,IF(AD24=16,liste!$F$16,IF(AD24=17,liste!$F$17,IF(AD24=18,liste!$F$18,IF(AD24=19,liste!$F$19,IF(AD24=20,liste!$F$20,"")))))))))))))))))))) | AE24: =IF(AF24=1,liste!$B$1,IF(AF24=2,liste!$B$2,IF(AF24=3,liste!$B$3,IF(AF24=4,liste!$B$4,IF(AF24=5,liste!$B$5,IF(AF24=6,liste!$B$6,IF(AF24=7,liste!$B$7,IF(AF24=8,liste!$B$8,IF(AF24=9,liste!$B$9,IF(AF24=10,liste!$B$10,IF(AF24=11,liste!$B$11,IF(AF24=12,liste!$B$12,IF(AF24=13,liste!$B$13,IF(AF24=14,liste!$B$14,IF(AF24=15,liste!$B$15,IF(AF24=16,liste!$B$16,IF(AF24=17,liste!$B$17,IF(AF24=18,liste!$B$18,IF(AF24=19,liste!$B$19,IF(AF24=20,liste!$B$20,IF(AF24=21,liste!$B$21,IF(AF24=22,liste!$B$22,IF(AF24=23,liste!$B$23,IF(AF24=24,liste!$B$24,IF(AF24=25,liste!$B$25,IF(AF24=26,liste!$B$26,IF(AF24=27,liste!$B$27,IF(AF24=28,liste!$B$28,IF(AF24=29,liste!$B$29,IF(AF24>=30,'2'!AE24,"")))))))))))))))))))))))))))))) -> Y.Doç.Dr.H.Es | AF24: 9 | AG24: =IF(AH24=1,liste!$F$1,IF(AH24=2,liste!$F$2,IF(AH24=3,liste!$F$3,IF(AH24=4,liste!$F$4,IF(AH24=5,liste!$F$5,IF(AH24=6,liste!$F$6,IF(AH24=7,liste!$F$7,IF(AH24=8,liste!$F$8,IF(AH24=9,liste!$F$9,IF(AH24=10,liste!$F$10,IF(AH24=11,liste!$F$11,IF(AH24=12,liste!$F$12,IF(AH24=13,liste!$F$13,IF(AH24=14,liste!$F$14,IF(AH24=15,liste!$F$15,IF(AH24=16,liste!$F$16,IF(AH24=17,liste!$F$17,IF(AH24=18,liste!$F$18,IF(AH24=19,liste!$F$19,IF(AH24=20,liste!$F$20,""))))))))))))))))))))
C25: =IF(D25=1,liste!$D$1,IF(D25=2,liste!$D$2,IF(D25=3,liste!$D$3,IF(D25=4,liste!$D$4,IF(D25=5,liste!$D$5,IF(D25=6,liste!$D$6,IF(D25=7,liste!$D$7,IF(D25=8,liste!$D$8,IF(D25=9,liste!$D$9,IF(D25=10,liste!$D$10,IF(D25=11,liste!$D$11,IF(D25=12,liste!$D$12,IF(D25=13,liste!$D$13,IF(D25=14,liste!$D$14,IF(D25=15,liste!$D$15,IF(D25=16,liste!$D$16,IF(D25=17,liste!$D$17,IF(D25=18,liste!$D$18,IF(D25=19,liste!$D$19,IF(D25=20,liste!$D$20,IF(D25=21,liste!$D$21,IF(D25=22,liste!$D$22,IF(D25=23,liste!$D$23,IF(D25=24,liste!$D$24,IF(D25=25,liste!$D$25,IF(D25=26,liste!$D$26,IF(D25=27,liste!$D$27,IF(D25=28,liste!$D$28,IF(D25=29,liste!$D$29,IF(D25>=30,'2'!C25,"")))))))))))))))))))))))))))))) | G25: =IF(H25=1,liste!$D$1,IF(H25=2,liste!$D$2,IF(H25=3,liste!$D$3,IF(H25=4,liste!$D$4,IF(H25=5,liste!$D$5,IF(H25=6,liste!$D$6,IF(H25=7,liste!$D$7,IF(H25=8,liste!$D$8,IF(H25=9,liste!$D$9,IF(H25=10,liste!$D$10,IF(H25=11,liste!$D$11,IF(H25=12,liste!$D$12,IF(H25=13,liste!$D$13,IF(H25=14,liste!$D$14,IF(H25=15,liste!$D$15,IF(H25=16,liste!$D$16,IF(H25=17,liste!$D$17,IF(H25=18,liste!$D$18,IF(H25=19,liste!$D$19,IF(H25=20,liste!$D$20,IF(H25=21,liste!$D$21,IF(H25=22,liste!$D$22,IF(H25=23,liste!$D$23,IF(H25=24,liste!$D$24,IF(H25=25,liste!$D$25,IF(H25=26,liste!$D$26,IF(H25=27,liste!$D$27,IF(H25=28,liste!$D$28,IF(H25=29,liste!$D$29,IF(H25>=30,'2'!G25,"")))))))))))))))))))))))))))))) | K25: =IF(L25=1,liste!$D$1,IF(L25=2,liste!$D$2,IF(L25=3,liste!$D$3,IF(L25=4,liste!$D$4,IF(L25=5,liste!$D$5,IF(L25=6,liste!$D$6,IF(L25=7,liste!$D$7,IF(L25=8,liste!$D$8,IF(L25=9,liste!$D$9,IF(L25=10,liste!$D$10,IF(L25=11,liste!$D$11,IF(L25=12,liste!$D$12,IF(L25=13,liste!$D$13,IF(L25=14,liste!$D$14,IF(L25=15,liste!$D$15,IF(L25=16,liste!$D$16,IF(L25=17,liste!$D$17,IF(L25=18,liste!$D$18,IF(L25=19,liste!$D$19,IF(L25=20,liste!$D$20,IF(L25=21,liste!$D$21,IF(L25=22,liste!$D$22,IF(L25=23,liste!$D$23,IF(L25=24,liste!$D$24,IF(L25=25,liste!$D$25,IF(L25=26,liste!$D$26,IF(L25=27,liste!$D$27,IF(L25=28,liste!$D$28,IF(L25=29,liste!$D$29,IF(L25>=30,'2'!K25,"")))))))))))))))))))))))))))))) | O25: =IF(P25=1,liste!$D$1,IF(P25=2,liste!$D$2,IF(P25=3,liste!$D$3,IF(P25=4,liste!$D$4,IF(P25=5,liste!$D$5,IF(P25=6,liste!$D$6,IF(P25=7,liste!$D$7,IF(P25=8,liste!$D$8,IF(P25=9,liste!$D$9,IF(P25=10,liste!$D$10,IF(P25=11,liste!$D$11,IF(P25=12,liste!$D$12,IF(P25=13,liste!$D$13,IF(P25=14,liste!$D$14,IF(P25=15,liste!$D$15,IF(P25=16,liste!$D$16,IF(P25=17,liste!$D$17,IF(P25=18,liste!$D$18,IF(P25=19,liste!$D$19,IF(P25=20,liste!$D$20,IF(P25=21,liste!$D$21,IF(P25=22,liste!$D$22,IF(P25=23,liste!$D$23,IF(P25=24,liste!$D$24,IF(P25=25,liste!$D$25,IF(P25=26,liste!$D$26,IF(P25=27,liste!$D$27,IF(P25=28,liste!$D$28,IF(P25=29,liste!$D$29,IF(P25>=30,'2'!O25,"")))))))))))))))))))))))))))))) | S25: =IF(T25=1,liste!$D$1,IF(T25=2,liste!$D$2,IF(T25=3,liste!$D$3,IF(T25=4,liste!$D$4,IF(T25=5,liste!$D$5,IF(T25=6,liste!$D$6,IF(T25=7,liste!$D$7,IF(T25=8,liste!$D$8,IF(T25=9,liste!$D$9,IF(T25=10,liste!$D$10,IF(T25=11,liste!$D$11,IF(T25=12,liste!$D$12,IF(T25=13,liste!$D$13,IF(T25=14,liste!$D$14,IF(T25=15,liste!$D$15,IF(T25=16,liste!$D$16,IF(T25=17,liste!$D$17,IF(T25=18,liste!$D$18,IF(T25=19,liste!$D$19,IF(T25=20,liste!$D$20,IF(T25=21,liste!$D$21,IF(T25=22,liste!$D$22,IF(T25=23,liste!$D$23,IF(T25=24,liste!$D$24,IF(T25=25,liste!$D$25,IF(T25=26,liste!$D$26,IF(T25=27,liste!$D$27,IF(T25=28,liste!$D$28,IF(T25=29,liste!$D$29,IF(T25>=30,'2'!S25,"")))))))))))))))))))))))))))))) -> Topl. Hzmt. Uyg. | T25: 28 | W25: =IF(X25=1,liste!$D$1,IF(X25=2,liste!$D$2,IF(X25=3,liste!$D$3,IF(X25=4,liste!$D$4,IF(X25=5,liste!$D$5,IF(X25=6,liste!$D$6,IF(X25=7,liste!$D$7,IF(X25=8,liste!$D$8,IF(X25=9,liste!$D$9,IF(X25=10,liste!$D$10,IF(X25=11,liste!$D$11,IF(X25=12,liste!$D$12,IF(X25=13,liste!$D$13,IF(X25=14,liste!$D$14,IF(X25=15,liste!$D$15,IF(X25=16,liste!$D$16,IF(X25=17,liste!$D$17,IF(X25=18,liste!$D$18,IF(X25=19,liste!$D$19,IF(X25=20,liste!$D$20,IF(X25=21,liste!$D$21,IF(X25=22,liste!$D$22,IF(X25=23,liste!$D$23,IF(X25=24,liste!$D$24,IF(X25=25,liste!$D$25,IF(X25=26,liste!$D$26,IF(X25=27,liste!$D$27,IF(X25=28,liste!$D$28,IF(X25=29,liste!$D$29,IF(X25>=30,'2'!W25,"")))))))))))))))))))))))))))))) -> Ist & Ols II | X25: 3 | AA25: =IF(AB25=1,liste!$D$1,IF(AB25=2,liste!$D$2,IF(AB25=3,liste!$D$3,IF(AB25=4,liste!$D$4,IF(AB25=5,liste!$D$5,IF(AB25=6,liste!$D$6,IF(AB25=7,liste!$D$7,IF(AB25=8,liste!$D$8,IF(AB25=9,liste!$D$9,IF(AB25=10,liste!$D$10,IF(AB25=11,liste!$D$11,IF(AB25=12,liste!$D$12,IF(AB25=13,liste!$D$13,IF(AB25=14,liste!$D$14,IF(AB25=15,liste!$D$15,IF(AB25=16,liste!$D$16,IF(AB25=17,liste!$D$17,IF(AB25=18,liste!$D$18,IF(AB25=19,liste!$D$19,IF(AB25=20,liste!$D$20,IF(AB25=21,liste!$D$21,IF(AB25=22,liste!$D$22,IF(AB25=23,liste!$D$23,IF(AB25=24,liste!$D$24,IF(AB25=25,liste!$D$25,IF(AB25=26,liste!$D$26,IF(AB25=27,liste!$D$27,IF(AB25=28,liste!$D$28,IF(AB25=29,liste!$D$29,IF(AB25>=30,'2'!AA25,"")))))))))))))))))))))))))))))) -> Öğr. Uygulaması | AB25: 29 | AE25: =IF(AF25=1,liste!$D$1,IF(AF25=2,liste!$D$2,IF(AF25=3,liste!$D$3,IF(AF25=4,liste!$D$4,IF(AF25=5,liste!$D$5,IF(AF25=6,liste!$D$6,IF(AF25=7,liste!$D$7,IF(AF25=8,liste!$D$8,IF(AF25=9,liste!$D$9,IF(AF25=10,liste!$D$10,IF(AF25=11,liste!$D$11,IF(AF25=12,liste!$D$12,IF(AF25=13,liste!$D$13,IF(AF25=14,liste!$D$14,IF(AF25=15,liste!$D$15,IF(AF25=16,liste!$D$16,IF(AF25=17,liste!$D$17,IF(AF25=18,liste!$D$18,IF(AF25=19,liste!$D$19,IF(AF25=20,liste!$D$20,IF(AF25=21,liste!$D$21,IF(AF25=22,liste!$D$22,IF(AF25=23,liste!$D$23,IF(AF25=24,liste!$D$24,IF(AF25=25,liste!$D$25,IF(AF25=26,liste!$D$26,IF(AF25=27,liste!$D$27,IF(AF25=28,liste!$D$28,IF(AF25=29,liste!$D$29,IF(AF25>=30,'2'!AE25,"")))))))))))))))))))))))))))))) -> Öğr. Uygulaması | AF25: 29
A26: SALI | B26: =B6 -> 12:30-13:20 | C26: =IF(D26=1,liste!$B$1,IF(D26=2,liste!$B$2,IF(D26=3,liste!$B$3,IF(D26=4,liste!$B$4,IF(D26=5,liste!$B$5,IF(D26=6,liste!$B$6,IF(D26=7,liste!$B$7,IF(D26=8,liste!$B$8,IF(D26=9,liste!$B$9,IF(D26=10,liste!$B$10,IF(D26=11,liste!$B$11,IF(D26=12,liste!$B$12,IF(D26=13,liste!$B$13,IF(D26=14,liste!$B$14,IF(D26=15,liste!$B$15,IF(D26=16,liste!$B$16,IF(D26=17,liste!$B$17,IF(D26=18,liste!$B$18,IF(D26=19,liste!$B$19,IF(D26=20,liste!$B$20,IF(D26=21,liste!$B$21,IF(D26=22,liste!$B$22,IF(D26=23,liste!$B$23,IF(D26=24,liste!$B$24,IF(D26=25,liste!$B$25,IF(D26=26,liste!$B$26,IF(D26=27,liste!$B$27,IF(D26=28,liste!$B$28,IF(D26=29,liste!$B$29,IF(D26>=30,'2'!C26,"")))))))))))))))))))))))))))))) | E26: =IF(F26=1,liste!$F$1,IF(F26=2,liste!$F$2,IF(F26=3,liste!$F$3,IF(F26=4,liste!$F$4,IF(F26=5,liste!$F$5,IF(F26=6,liste!$F$6,IF(F26=7,liste!$F$7,IF(F26=8,liste!$F$8,IF(F26=9,liste!$F$9,IF(F26=10,liste!$F$10,IF(F26=11,liste!$F$11,IF(F26=12,liste!$F$12,IF(F26=13,liste!$F$13,IF(F26=14,liste!$F$14,IF(F26=15,liste!$F$15,IF(F26=16,liste!$F$16,IF(F26=17,liste!$F$17,IF(F26=18,liste!$F$18,IF(F26=19,liste!$F$19,IF(F26=20,liste!$F$20,"")))))))))))))))))))) | G26: =IF(H26=1,liste!$B$1,IF(H26=2,liste!$B$2,IF(H26=3,liste!$B$3,IF(H26=4,liste!$B$4,IF(H26=5,liste!$B$5,IF(H26=6,liste!$B$6,IF(H26=7,liste!$B$7,IF(H26=8,liste!$B$8,IF(H26=9,liste!$B$9,IF(H26=10,liste!$B$10,IF(H26=11,liste!$B$11,IF(H26=12,liste!$B$12,IF(H26=13,liste!$B$13,IF(H26=14,liste!$B$14,IF(H26=15,liste!$B$15,IF(H26=16,liste!$B$16,IF(H26=17,liste!$B$17,IF(H26=18,liste!$B$18,IF(H26=19,liste!$B$19,IF(H26=20,liste!$B$20,IF(H26=21,liste!$B$21,IF(H26=22,liste!$B$22,IF(H26=23,liste!$B$23,IF(H26=24,liste!$B$24,IF(H26=25,liste!$B$25,IF(H26=26,liste!$B$26,IF(H26=27,liste!$B$27,IF(H26=28,liste!$B$28,IF(H26=29,liste!$B$29,IF(H26>=30,'2'!G26,"")))))))))))))))))))))))))))))) | I26: =IF(J26=1,liste!$F$1,IF(J26=2,liste!$F$2,IF(J26=3,liste!$F$3,IF(J26=4,liste!$F$4,IF(J26=5,liste!$F$5,IF(J26=6,liste!$F$6,IF(J26=7,liste!$F$7,IF(J26=8,liste!$F$8,IF(J26=9,liste!$F$9,IF(J26=10,liste!$F$10,IF(J26=11,liste!$F$11,IF(J26=12,liste!$F$12,IF(J26=13,liste!$F$13,IF(J26=14,liste!$F$14,IF(J26=15,liste!$F$15,IF(J26=16,liste!$F$16,IF(J26=17,liste!$F$17,IF(J26=18,liste!$F$18,IF(J26=19,liste!$F$19,IF(J26=20,liste!$F$20,"")))))))))))))))))))) | K26: =IF(L26=1,liste!$B$1,IF(L26=2,liste!$B$2,IF(L26=3,liste!$B$3,IF(L26=4,liste!$B$4,IF(L26=5,liste!$B$5,IF(L26=6,liste!$B$6,IF(L26=7,liste!$B$7,IF(L26=8,liste!$B$8,IF(L26=9,liste!$B$9,IF(L26=10,liste!$B$10,IF(L26=11,liste!$B$11,IF(L26=12,liste!$B$12,IF(L26=13,liste!$B$13,IF(L26=14,liste!$B$14,IF(L26=15,liste!$B$15,IF(L26=16,liste!$B$16,IF(L26=17,liste!$B$17,IF(L26=18,liste!$B$18,IF(L26=19,liste!$B$19,IF(L26=20,liste!$B$20,IF(L26=21,liste!$B$21,IF(L26=22,liste!$B$22,IF(L26=23,liste!$B$23,IF(L26=24,liste!$B$24,IF(L26=25,liste!$B$25,IF(L26=26,liste!$B$26,IF(L26=27,liste!$B$27,IF(L26=28,liste!$B$28,IF(L26=29,liste!$B$29,IF(L26>=30,'2'!K26,"")))))))))))))))))))))))))))))) | M26: =IF(N26=1,liste!$F$1,IF(N26=2,liste!$F$2,IF(N26=3,liste!$F$3,IF(N26=4,liste!$F$4,IF(N26=5,liste!$F$5,IF(N26=6,liste!$F$6,IF(N26=7,liste!$F$7,IF(N26=8,liste!$F$8,IF(N26=9,liste!$F$9,IF(N26=10,liste!$F$10,IF(N26=11,liste!$F$11,IF(N26=12,liste!$F$12,IF(N26=13,liste!$F$13,IF(N26=14,liste!$F$14,IF(N26=15,liste!$F$15,IF(N26=16,liste!$F$16,IF(N26=17,liste!$F$17,IF(N26=18,liste!$F$18,IF(N26=19,liste!$F$19,IF(N26=20,liste!$F$20,"")))))))))))))))))))) | O26: =IF(P26=1,liste!$B$1,IF(P26=2,liste!$B$2,IF(P26=3,liste!$B$3,IF(P26=4,liste!$B$4,IF(P26=5,liste!$B$5,IF(P26=6,liste!$B$6,IF(P26=7,liste!$B$7,IF(P26=8,liste!$B$8,IF(P26=9,liste!$B$9,IF(P26=10,liste!$B$10,IF(P26=11,liste!$B$11,IF(P26=12,liste!$B$12,IF(P26=13,liste!$B$13,IF(P26=14,liste!$B$14,IF(P26=15,liste!$B$15,IF(P26=16,liste!$B$16,IF(P26=17,liste!$B$17,IF(P26=18,liste!$B$18,IF(P26=19,liste!$B$19,IF(P26=20,liste!$B$20,IF(P26=21,liste!$B$21,IF(P26=22,liste!$B$22,IF(P26=23,liste!$B$23,IF(P26=24,liste!$B$24,IF(P26=25,liste!$B$25,IF(P26=26,liste!$B$26,IF(P26=27,liste!$B$27,IF(P26=28,liste!$B$28,IF(P26=29,liste!$B$29,IF(P26>=30,'2'!O26,"")))))))))))))))))))))))))))))) | Q26: =IF(R26=1,liste!$F$1,IF(R26=2,liste!$F$2,IF(R26=3,liste!$F$3,IF(R26=4,liste!$F$4,IF(R26=5,liste!$F$5,IF(R26=6,liste!$F$6,IF(R26=7,liste!$F$7,IF(R26=8,liste!$F$8,IF(R26=9,liste!$F$9,IF(R26=10,liste!$F$10,IF(R26=11,liste!$F$11,IF(R26=12,liste!$F$12,IF(R26=13,liste!$F$13,IF(R26=14,liste!$F$14,IF(R26=15,liste!$F$15,IF(R26=16,liste!$F$16,IF(R26=17,liste!$F$17,IF(R26=18,liste!$F$18,IF(R26=19,liste!$F$19,IF(R26=20,liste!$F$20,"")))))))))))))))))))) | S26: =IF(T26=1,liste!$B$1,IF(T26=2,liste!$B$2,IF(T26=3,liste!$B$3,IF(T26=4,liste!$B$4,IF(T26=5,liste!$B$5,IF(T26=6,liste!$B$6,IF(T26=7,liste!$B$7,IF(T26=8,liste!$B$8,IF(T26=9,liste!$B$9,IF(T26=10,liste!$B$10,IF(T26=11,liste!$B$11,IF(T26=12,liste!$B$12,IF(T26=13,liste!$B$13,IF(T26=14,liste!$B$14,IF(T26=15,liste!$B$15,IF(T26=16,liste!$B$16,IF(T26=17,liste!$B$17,IF(T26=18,liste!$B$18,IF(T26=19,liste!$B$19,IF(T26=20,liste!$B$20,IF(T26=21,liste!$B$21,IF(T26=22,liste!$B$22,IF(T26=23,liste!$B$23,IF(T26=24,liste!$B$24,IF(T26=25,liste!$B$25,IF(T26=26,liste!$B$26,IF(T26=27,liste!$B$27,IF(T26=28,liste!$B$28,IF(T26=29,liste!$B$29,IF(T26>=30,'2'!S26,"")))))))))))))))))))))))))))))) | U26: =IF(V26=1,liste!$F$1,IF(V26=2,liste!$F$2,IF(V26=3,liste!$F$3,IF(V26=4,liste!$F$4,IF(V26=5,liste!$F$5,IF(V26=6,liste!$F$6,IF(V26=7,liste!$F$7,IF(V26=8,liste!$F$8,IF(V26=9,liste!$F$9,IF(V26=10,liste!$F$10,IF(V26=11,liste!$F$11,IF(V26=12,liste!$F$12,IF(V26=13,liste!$F$13,IF(V26=14,liste!$F$14,IF(V26=15,liste!$F$15,IF(V26=16,liste!$F$16,IF(V26=17,liste!$F$17,IF(V26=18,liste!$F$18,IF(V26=19,liste!$F$19,IF(V26=20,liste!$F$20,"")))))))))))))))))))) | W26: =IF(X26=1,liste!$B$1,IF(X26=2,liste!$B$2,IF(X26=3,liste!$B$3,IF(X26=4,liste!$B$4,IF(X26=5,liste!$B$5,IF(X26=6,liste!$B$6,IF(X26=7,liste!$B$7,IF(X26=8,liste!$B$8,IF(X26=9,liste!$B$9,IF(X26=10,liste!$B$10,IF(X26=11,liste!$B$11,IF(X26=12,liste!$B$12,IF(X26=13,liste!$B$13,IF(X26=14,liste!$B$14,IF(X26=15,liste!$B$15,IF(X26=16,liste!$B$16,IF(X26=17,liste!$B$17,IF(X26=18,liste!$B$18,IF(X26=19,liste!$B$19,IF(X26=20,liste!$B$20,IF(X26=21,liste!$B$21,IF(X26=22,liste!$B$22,IF(X26=23,liste!$B$23,IF(X26=24,liste!$B$24,IF(X26=25,liste!$B$25,IF(X26=26,liste!$B$26,IF(X26=27,liste!$B$27,IF(X26=28,liste!$B$28,IF(X26=29,liste!$B$29,IF(X26>=30,'2'!W26,"")))))))))))))))))))))))))))))) | Y26: =IF(Z26=1,liste!$F$1,IF(Z26=2,liste!$F$2,IF(Z26=3,liste!$F$3,IF(Z26=4,liste!$F$4,IF(Z26=5,liste!$F$5,IF(Z26=6,liste!$F$6,IF(Z26=7,liste!$F$7,IF(Z26=8,liste!$F$8,IF(Z26=9,liste!$F$9,IF(Z26=10,liste!$F$10,IF(Z26=11,liste!$F$11,IF(Z26=12,liste!$F$12,IF(Z26=13,liste!$F$13,IF(Z26=14,liste!$F$14,IF(Z26=15,liste!$F$15,IF(Z26=16,liste!$F$16,IF(Z26=17,liste!$F$17,IF(Z26=18,liste!$F$18,IF(Z26=19,liste!$F$19,IF(Z26=20,liste!$F$20,"")))))))))))))))))))) | AA26: =IF(AB26=1,liste!$B$1,IF(AB26=2,liste!$B$2,IF(AB26=3,liste!$B$3,IF(AB26=4,liste!$B$4,IF(AB26=5,liste!$B$5,IF(AB26=6,liste!$B$6,IF(AB26=7,liste!$B$7,IF(AB26=8,liste!$B$8,IF(AB26=9,liste!$B$9,IF(AB26=10,liste!$B$10,IF(AB26=11,liste!$B$11,IF(AB26=12,liste!$B$12,IF(AB26=13,liste!$B$13,IF(AB26=14,liste!$B$14,IF(AB26=15,liste!$B$15,IF(AB26=16,liste!$B$16,IF(AB26=17,liste!$B$17,IF(AB26=18,liste!$B$18,IF(AB26=19,liste!$B$19,IF(AB26=20,liste!$B$20,IF(AB26=21,liste!$B$21,IF(AB26=22,liste!$B$22,IF(AB26=23,liste!$B$23,IF(AB26=24,liste!$B$24,IF(AB26=25,liste!$B$25,IF(AB26=26,liste!$B$26,IF(AB26=27,liste!$B$27,IF(AB26=28,liste!$B$28,IF(AB26=29,liste!$B$29,IF(AB26>=30,'2'!AA26,"")))))))))))))))))))))))))))))) | AC26: =IF(AD26=1,liste!$F$1,IF(AD26=2,liste!$F$2,IF(AD26=3,liste!$F$3,IF(AD26=4,liste!$F$4,IF(AD26=5,liste!$F$5,IF(AD26=6,liste!$F$6,IF(AD26=7,liste!$F$7,IF(AD26=8,liste!$F$8,IF(AD26=9,liste!$F$9,IF(AD26=10,liste!$F$10,IF(AD26=11,liste!$F$11,IF(AD26=12,liste!$F$12,IF(AD26=13,liste!$F$13,IF(AD26=14,liste!$F$14,IF(AD26=15,liste!$F$15,IF(AD26=16,liste!$F$16,IF(AD26=17,liste!$F$17,IF(AD26=18,liste!$F$18,IF(AD26=19,liste!$F$19,IF(AD26=20,liste!$F$20,"")))))))))))))))))))) | AE26: =IF(AF26=1,liste!$B$1,IF(AF26=2,liste!$B$2,IF(AF26=3,liste!$B$3,IF(AF26=4,liste!$B$4,IF(AF26=5,liste!$B$5,IF(AF26=6,liste!$B$6,IF(AF26=7,liste!$B$7,IF(AF26=8,liste!$B$8,IF(AF26=9,liste!$B$9,IF(AF26=10,liste!$B$10,IF(AF26=11,liste!$B$11,IF(AF26=12,liste!$B$12,IF(AF26=13,liste!$B$13,IF(AF26=14,liste!$B$14,IF(AF26=15,liste!$B$15,IF(AF26=16,liste!$B$16,IF(AF26=17,liste!$B$17,IF(AF26=18,liste!$B$18,IF(AF26=19,liste!$B$19,IF(AF26=20,liste!$B$20,IF(AF26=21,liste!$B$21,IF(AF26=22,liste!$B$22,IF(AF26=23,liste!$B$23,IF(AF26=24,liste!$B$24,IF(AF26=25,liste!$B$25,IF(AF26=26,liste!$B$26,IF(AF26=27,liste!$B$27,IF(AF26=28,liste!$B$28,IF(AF26=29,liste!$B$29,IF(AF26>=30,'2'!AE26,"")))))))))))))))))))))))))))))) | AG26: =IF(AH26=1,liste!$F$1,IF(AH26=2,liste!$F$2,IF(AH26=3,liste!$F$3,IF(AH26=4,liste!$F$4,IF(AH26=5,liste!$F$5,IF(AH26=6,liste!$F$6,IF(AH26=7,liste!$F$7,IF(AH26=8,liste!$F$8,IF(AH26=9,liste!$F$9,IF(AH26=10,liste!$F$10,IF(AH26=11,liste!$F$11,IF(AH26=12,liste!$F$12,IF(AH26=13,liste!$F$13,IF(AH26=14,liste!$F$14,IF(AH26=15,liste!$F$15,IF(AH26=16,liste!$F$16,IF(AH26=17,liste!$F$17,IF(AH26=18,liste!$F$18,IF(AH26=19,liste!$F$19,IF(AH26=20,liste!$F$20,""))))))))))))))))))))
C27: =IF(D27=1,liste!$D$1,IF(D27=2,liste!$D$2,IF(D27=3,liste!$D$3,IF(D27=4,liste!$D$4,IF(D27=5,liste!$D$5,IF(D27=6,liste!$D$6,IF(D27=7,liste!$D$7,IF(D27=8,liste!$D$8,IF(D27=9,liste!$D$9,IF(D27=10,liste!$D$10,IF(D27=11,liste!$D$11,IF(D27=12,liste!$D$12,IF(D27=13,liste!$D$13,IF(D27=14,liste!$D$14,IF(D27=15,liste!$D$15,IF(D27=16,liste!$D$16,IF(D27=17,liste!$D$17,IF(D27=18,liste!$D$18,IF(D27=19,liste!$D$19,IF(D27=20,liste!$D$20,IF(D27=21,liste!$D$21,IF(D27=22,liste!$D$22,IF(D27=23,liste!$D$23,IF(D27=24,liste!$D$24,IF(D27=25,liste!$D$25,IF(D27=26,liste!$D$26,IF(D27=27,liste!$D$27,IF(D27=28,liste!$D$28,IF(D27=29,liste!$D$29,IF(D27>=30,'2'!C27,"")))))))))))))))))))))))))))))) | G27: =IF(H27=1,liste!$D$1,IF(H27=2,liste!$D$2,IF(H27=3,liste!$D$3,IF(H27=4,liste!$D$4,IF(H27=5,liste!$D$5,IF(H27=6,liste!$D$6,IF(H27=7,liste!$D$7,IF(H27=8,liste!$D$8,IF(H27=9,liste!$D$9,IF(H27=10,liste!$D$10,IF(H27=11,liste!$D$11,IF(H27=12,liste!$D$12,IF(H27=13,liste!$D$13,IF(H27=14,liste!$D$14,IF(H27=15,liste!$D$15,IF(H27=16,liste!$D$16,IF(H27=17,liste!$D$17,IF(H27=18,liste!$D$18,IF(H27=19,liste!$D$19,IF(H27=20,liste!$D$20,IF(H27=21,liste!$D$21,IF(H27=22,liste!$D$22,IF(H27=23,liste!$D$23,IF(H27=24,liste!$D$24,IF(H27=25,liste!$D$25,IF(H27=26,liste!$D$26,IF(H27=27,liste!$D$27,IF(H27=28,liste!$D$28,IF(H27=29,liste!$D$29,IF(H27>=30,'2'!G27,"")))))))))))))))))))))))))))))) | K27: =IF(L27=1,liste!$D$1,IF(L27=2,liste!$D$2,IF(L27=3,liste!$D$3,IF(L27=4,liste!$D$4,IF(L27=5,liste!$D$5,IF(L27=6,liste!$D$6,IF(L27=7,liste!$D$7,IF(L27=8,liste!$D$8,IF(L27=9,liste!$D$9,IF(L27=10,liste!$D$10,IF(L27=11,liste!$D$11,IF(L27=12,liste!$D$12,IF(L27=13,liste!$D$13,IF(L27=14,liste!$D$14,IF(L27=15,liste!$D$15,IF(L27=16,liste!$D$16,IF(L27=17,liste!$D$17,IF(L27=18,liste!$D$18,IF(L27=19,liste!$D$19,IF(L27=20,liste!$D$20,IF(L27=21,liste!$D$21,IF(L27=22,liste!$D$22,IF(L27=23,liste!$D$23,IF(L27=24,liste!$D$24,IF(L27=25,liste!$D$25,IF(L27=26,liste!$D$26,IF(L27=27,liste!$D$27,IF(L27=28,liste!$D$28,IF(L27=29,liste!$D$29,IF(L27>=30,'2'!K27,"")))))))))))))))))))))))))))))) | O27: =IF(P27=1,liste!$D$1,IF(P27=2,liste!$D$2,IF(P27=3,liste!$D$3,IF(P27=4,liste!$D$4,IF(P27=5,liste!$D$5,IF(P27=6,liste!$D$6,IF(P27=7,liste!$D$7,IF(P27=8,liste!$D$8,IF(P27=9,liste!$D$9,IF(P27=10,liste!$D$10,IF(P27=11,liste!$D$11,IF(P27=12,liste!$D$12,IF(P27=13,liste!$D$13,IF(P27=14,liste!$D$14,IF(P27=15,liste!$D$15,IF(P27=16,liste!$D$16,IF(P27=17,liste!$D$17,IF(P27=18,liste!$D$18,IF(P27=19,liste!$D$19,IF(P27=20,liste!$D$20,IF(P27=21,liste!$D$21,IF(P27=22,liste!$D$22,IF(P27=23,liste!$D$23,IF(P27=24,liste!$D$24,IF(P27=25,liste!$D$25,IF(P27=26,liste!$D$26,IF(P27=27,liste!$D$27,IF(P27=28,liste!$D$28,IF(P27=29,liste!$D$29,IF(P27>=30,'2'!O27,"")))))))))))))))))))))))))))))) | S27: =IF(T27=1,liste!$D$1,IF(T27=2,liste!$D$2,IF(T27=3,liste!$D$3,IF(T27=4,liste!$D$4,IF(T27=5,liste!$D$5,IF(T27=6,liste!$D$6,IF(T27=7,liste!$D$7,IF(T27=8,liste!$D$8,IF(T27=9,liste!$D$9,IF(T27=10,liste!$D$10,IF(T27=11,liste!$D$11,IF(T27=12,liste!$D$12,IF(T27=13,liste!$D$13,IF(T27=14,liste!$D$14,IF(T27=15,liste!$D$15,IF(T27=16,liste!$D$16,IF(T27=17,liste!$D$17,IF(T27=18,liste!$D$18,IF(T27=19,liste!$D$19,IF(T27=20,liste!$D$20,IF(T27=21,liste!$D$21,IF(T27=22,liste!$D$22,IF(T27=23,liste!$D$23,IF(T27=24,liste!$D$24,IF(T27=25,liste!$D$25,IF(T27=26,liste!$D$26,IF(T27=27,liste!$D$27,IF(T27=28,liste!$D$28,IF(T27=29,liste!$D$29,IF(T27>=30,'2'!S27,"")))))))))))))))))))))))))))))) | W27: =IF(X27=1,liste!$D$1,IF(X27=2,liste!$D$2,IF(X27=3,liste!$D$3,IF(X27=4,liste!$D$4,IF(X27=5,liste!$D$5,IF(X27=6,liste!$D$6,IF(X27=7,liste!$D$7,IF(X27=8,liste!$D$8,IF(X27=9,liste!$D$9,IF(X27=10,liste!$D$10,IF(X27=11,liste!$D$11,IF(X27=12,liste!$D$12,IF(X27=13,liste!$D$13,IF(X27=14,liste!$D$14,IF(X27=15,liste!$D$15,IF(X27=16,liste!$D$16,IF(X27=17,liste!$D$17,IF(X27=18,liste!$D$18,IF(X27=19,liste!$D$19,IF(X27=20,liste!$D$20,IF(X27=21,liste!$D$21,IF(X27=22,liste!$D$22,IF(X27=23,liste!$D$23,IF(X27=24,liste!$D$24,IF(X27=25,liste!$D$25,IF(X27=26,liste!$D$26,IF(X27=27,liste!$D$27,IF(X27=28,liste!$D$28,IF(X27=29,liste!$D$29,IF(X27>=30,'2'!W27,"")))))))))))))))))))))))))))))) | AA27: =IF(AB27=1,liste!$D$1,IF(AB27=2,liste!$D$2,IF(AB27=3,liste!$D$3,IF(AB27=4,liste!$D$4,IF(AB27=5,liste!$D$5,IF(AB27=6,liste!$D$6,IF(AB27=7,liste!$D$7,IF(AB27=8,liste!$D$8,IF(AB27=9,liste!$D$9,IF(AB27=10,liste!$D$10,IF(AB27=11,liste!$D$11,IF(AB27=12,liste!$D$12,IF(AB27=13,liste!$D$13,IF(AB27=14,liste!$D$14,IF(AB27=15,liste!$D$15,IF(AB27=16,liste!$D$16,IF(AB27=17,liste!$D$17,IF(AB27=18,liste!$D$18,IF(AB27=19,liste!$D$19,IF(AB27=20,liste!$D$20,IF(AB27=21,liste!$D$21,IF(AB27=22,liste!$D$22,IF(AB27=23,liste!$D$23,IF(AB27=24,liste!$D$24,IF(AB27=25,liste!$D$25,IF(AB27=26,liste!$D$26,IF(AB27=27,liste!$D$27,IF(AB27=28,liste!$D$28,IF(AB27=29,liste!$D$29,IF(AB27>=30,'2'!AA27,"")))))))))))))))))))))))))))))) | AE27: =IF(AF27=1,liste!$D$1,IF(AF27=2,liste!$D$2,IF(AF27=3,liste!$D$3,IF(AF27=4,liste!$D$4,IF(AF27=5,liste!$D$5,IF(AF27=6,liste!$D$6,IF(AF27=7,liste!$D$7,IF(AF27=8,liste!$D$8,IF(AF27=9,liste!$D$9,IF(AF27=10,liste!$D$10,IF(AF27=11,liste!$D$11,IF(AF27=12,liste!$D$12,IF(AF27=13,liste!$D$13,IF(AF27=14,liste!$D$14,IF(AF27=15,liste!$D$15,IF(AF27=16,liste!$D$16,IF(AF27=17,liste!$D$17,IF(AF27=18,liste!$D$18,IF(AF27=19,liste!$D$19,IF(AF27=20,liste!$D$20,IF(AF27=21,liste!$D$21,IF(AF27=22,liste!$D$22,IF(AF27=23,liste!$D$23,IF(AF27=24,liste!$D$24,IF(AF27=25,liste!$D$25,IF(AF27=26,liste!$D$26,IF(AF27=27,liste!$D$27,IF(AF27=28,liste!$D$28,IF(AF27=29,liste!$D$29,IF(AF27>=30,'2'!AE27,""))))))))))))))))))))))))))))))
B28: =B8 -> 13:30-14:20 | C28: =IF(D28=1,liste!$B$1,IF(D28=2,liste!$B$2,IF(D28=3,liste!$B$3,IF(D28=4,liste!$B$4,IF(D28=5,liste!$B$5,IF(D28=6,liste!$B$6,IF(D28=7,liste!$B$7,IF(D28=8,liste!$B$8,IF(D28=9,liste!$B$9,IF(D28=10,liste!$B$10,IF(D28=11,liste!$B$11,IF(D28=12,liste!$B$12,IF(D28=13,liste!$B$13,IF(D28=14,liste!$B$14,IF(D28=15,liste!$B$15,IF(D28=16,liste!$B$16,IF(D28=17,liste!$B$17,IF(D28=18,liste!$B$18,IF(D28=19,liste!$B$19,IF(D28=20,liste!$B$20,IF(D28=21,liste!$B$21,IF(D28=22,liste!$B$22,IF(D28=23,liste!$B$23,IF(D28=24,liste!$B$24,IF(D28=25,liste!$B$25,IF(D28=26,liste!$B$26,IF(D28=27,liste!$B$27,IF(D28=28,liste!$B$28,IF(D28=29,liste!$B$29,IF(D28>=30,'2'!C28,"")))))))))))))))))))))))))))))) | E28: =IF(F28=1,liste!$F$1,IF(F28=2,liste!$F$2,IF(F28=3,liste!$F$3,IF(F28=4,liste!$F$4,IF(F28=5,liste!$F$5,IF(F28=6,liste!$F$6,IF(F28=7,liste!$F$7,IF(F28=8,liste!$F$8,IF(F28=9,liste!$F$9,IF(F28=10,liste!$F$10,IF(F28=11,liste!$F$11,IF(F28=12,liste!$F$12,IF(F28=13,liste!$F$13,IF(F28=14,liste!$F$14,IF(F28=15,liste!$F$15,IF(F28=16,liste!$F$16,IF(F28=17,liste!$F$17,IF(F28=18,liste!$F$18,IF(F28=19,liste!$F$19,IF(F28=20,liste!$F$20,"")))))))))))))))))))) | G28: =IF(H28=1,liste!$B$1,IF(H28=2,liste!$B$2,IF(H28=3,liste!$B$3,IF(H28=4,liste!$B$4,IF(H28=5,liste!$B$5,IF(H28=6,liste!$B$6,IF(H28=7,liste!$B$7,IF(H28=8,liste!$B$8,IF(H28=9,liste!$B$9,IF(H28=10,liste!$B$10,IF(H28=11,liste!$B$11,IF(H28=12,liste!$B$12,IF(H28=13,liste!$B$13,IF(H28=14,liste!$B$14,IF(H28=15,liste!$B$15,IF(H28=16,liste!$B$16,IF(H28=17,liste!$B$17,IF(H28=18,liste!$B$18,IF(H28=19,liste!$B$19,IF(H28=20,liste!$B$20,IF(H28=21,liste!$B$21,IF(H28=22,liste!$B$22,IF(H28=23,liste!$B$23,IF(H28=24,liste!$B$24,IF(H28=25,liste!$B$25,IF(H28=26,liste!$B$26,IF(H28=27,liste!$B$27,IF(H28=28,liste!$B$28,IF(H28=29,liste!$B$29,IF(H28>=30,'2'!G28,"")))))))))))))))))))))))))))))) | I28: =IF(J28=1,liste!$F$1,IF(J28=2,liste!$F$2,IF(J28=3,liste!$F$3,IF(J28=4,liste!$F$4,IF(J28=5,liste!$F$5,IF(J28=6,liste!$F$6,IF(J28=7,liste!$F$7,IF(J28=8,liste!$F$8,IF(J28=9,liste!$F$9,IF(J28=10,liste!$F$10,IF(J28=11,liste!$F$11,IF(J28=12,liste!$F$12,IF(J28=13,liste!$F$13,IF(J28=14,liste!$F$14,IF(J28=15,liste!$F$15,IF(J28=16,liste!$F$16,IF(J28=17,liste!$F$17,IF(J28=18,liste!$F$18,IF(J28=19,liste!$F$19,IF(J28=20,liste!$F$20,"")))))))))))))))))))) | K28: =IF(L28=1,liste!$B$1,IF(L28=2,liste!$B$2,IF(L28=3,liste!$B$3,IF(L28=4,liste!$B$4,IF(L28=5,liste!$B$5,IF(L28=6,liste!$B$6,IF(L28=7,liste!$B$7,IF(L28=8,liste!$B$8,IF(L28=9,liste!$B$9,IF(L28=10,liste!$B$10,IF(L28=11,liste!$B$11,IF(L28=12,liste!$B$12,IF(L28=13,liste!$B$13,IF(L28=14,liste!$B$14,IF(L28=15,liste!$B$15,IF(L28=16,liste!$B$16,IF(L28=17,liste!$B$17,IF(L28=18,liste!$B$18,IF(L28=19,liste!$B$19,IF(L28=20,liste!$B$20,IF(L28=21,liste!$B$21,IF(L28=22,liste!$B$22,IF(L28=23,liste!$B$23,IF(L28=24,liste!$B$24,IF(L28=25,liste!$B$25,IF(L28=26,liste!$B$26,IF(L28=27,liste!$B$27,IF(L28=28,liste!$B$28,IF(L28=29,liste!$B$29,IF(L28>=30,'2'!K28,"")))))))))))))))))))))))))))))) | M28: =IF(N28=1,liste!$F$1,IF(N28=2,liste!$F$2,IF(N28=3,liste!$F$3,IF(N28=4,liste!$F$4,IF(N28=5,liste!$F$5,IF(N28=6,liste!$F$6,IF(N28=7,liste!$F$7,IF(N28=8,liste!$F$8,IF(N28=9,liste!$F$9,IF(N28=10,liste!$F$10,IF(N28=11,liste!$F$11,IF(N28=12,liste!$F$12,IF(N28=13,liste!$F$13,IF(N28=14,liste!$F$14,IF(N28=15,liste!$F$15,IF(N28=16,liste!$F$16,IF(N28=17,liste!$F$17,IF(N28=18,liste!$F$18,IF(N28=19,liste!$F$19,IF(N28=20,liste!$F$20,"")))))))))))))))))))) | O28: =IF(P28=1,liste!$B$1,IF(P28=2,liste!$B$2,IF(P28=3,liste!$B$3,IF(P28=4,liste!$B$4,IF(P28=5,liste!$B$5,IF(P28=6,liste!$B$6,IF(P28=7,liste!$B$7,IF(P28=8,liste!$B$8,IF(P28=9,liste!$B$9,IF(P28=10,liste!$B$10,IF(P28=11,liste!$B$11,IF(P28=12,liste!$B$12,IF(P28=13,liste!$B$13,IF(P28=14,liste!$B$14,IF(P28=15,liste!$B$15,IF(P28=16,liste!$B$16,IF(P28=17,liste!$B$17,IF(P28=18,liste!$B$18,IF(P28=19,liste!$B$19,IF(P28=20,liste!$B$20,IF(P28=21,liste!$B$21,IF(P28=22,liste!$B$22,IF(P28=23,liste!$B$23,IF(P28=24,liste!$B$24,IF(P28=25,liste!$B$25,IF(P28=26,liste!$B$26,IF(P28=27,liste!$B$27,IF(P28=28,liste!$B$28,IF(P28=29,liste!$B$29,IF(P28>=30,'2'!O28,"")))))))))))))))))))))))))))))) | Q28: =IF(R28=1,liste!$F$1,IF(R28=2,liste!$F$2,IF(R28=3,liste!$F$3,IF(R28=4,liste!$F$4,IF(R28=5,liste!$F$5,IF(R28=6,liste!$F$6,IF(R28=7,liste!$F$7,IF(R28=8,liste!$F$8,IF(R28=9,liste!$F$9,IF(R28=10,liste!$F$10,IF(R28=11,liste!$F$11,IF(R28=12,liste!$F$12,IF(R28=13,liste!$F$13,IF(R28=14,liste!$F$14,IF(R28=15,liste!$F$15,IF(R28=16,liste!$F$16,IF(R28=17,liste!$F$17,IF(R28=18,liste!$F$18,IF(R28=19,liste!$F$19,IF(R28=20,liste!$F$20,"")))))))))))))))))))) | S28: =IF(T28=1,liste!$B$1,IF(T28=2,liste!$B$2,IF(T28=3,liste!$B$3,IF(T28=4,liste!$B$4,IF(T28=5,liste!$B$5,IF(T28=6,liste!$B$6,IF(T28=7,liste!$B$7,IF(T28=8,liste!$B$8,IF(T28=9,liste!$B$9,IF(T28=10,liste!$B$10,IF(T28=11,liste!$B$11,IF(T28=12,liste!$B$12,IF(T28=13,liste!$B$13,IF(T28=14,liste!$B$14,IF(T28=15,liste!$B$15,IF(T28=16,liste!$B$16,IF(T28=17,liste!$B$17,IF(T28=18,liste!$B$18,IF(T28=19,liste!$B$19,IF(T28=20,liste!$B$20,IF(T28=21,liste!$B$21,IF(T28=22,liste!$B$22,IF(T28=23,liste!$B$23,IF(T28=24,liste!$B$24,IF(T28=25,liste!$B$25,IF(T28=26,liste!$B$26,IF(T28=27,liste!$B$27,IF(T28=28,liste!$B$28,IF(T28=29,liste!$B$29,IF(T28>=30,'2'!S28,"")))))))))))))))))))))))))))))) -> Y.Doç.Dr.M.Aktaş | T28: 7 | U28: =IF(V28=1,liste!$F$1,IF(V28=2,liste!$F$2,IF(V28=3,liste!$F$3,IF(V28=4,liste!$F$4,IF(V28=5,liste!$F$5,IF(V28=6,liste!$F$6,IF(V28=7,liste!$F$7,IF(V28=8,liste!$F$8,IF(V28=9,liste!$F$9,IF(V28=10,liste!$F$10,IF(V28=11,liste!$F$11,IF(V28=12,liste!$F$12,IF(V28=13,liste!$F$13,IF(V28=14,liste!$F$14,IF(V28=15,liste!$F$15,IF(V28=16,liste!$F$16,IF(V28=17,liste!$F$17,IF(V28=18,liste!$F$18,IF(V28=19,liste!$F$19,IF(V28=20,liste!$F$20,"")))))))))))))))))))) -> F204 | V28: 11 | W28: =IF(X28=1,liste!$B$1,IF(X28=2,liste!$B$2,IF(X28=3,liste!$B$3,IF(X28=4,liste!$B$4,IF(X28=5,liste!$B$5,IF(X28=6,liste!$B$6,IF(X28=7,liste!$B$7,IF(X28=8,liste!$B$8,IF(X28=9,liste!$B$9,IF(X28=10,liste!$B$10,IF(X28=11,liste!$B$11,IF(X28=12,liste!$B$12,IF(X28=13,liste!$B$13,IF(X28=14,liste!$B$14,IF(X28=15,liste!$B$15,IF(X28=16,liste!$B$16,IF(X28=17,liste!$B$17,IF(X28=18,liste!$B$18,IF(X28=19,liste!$B$19,IF(X28=20,liste!$B$20,IF(X28=21,liste!$B$21,IF(X28=22,liste!$B$22,IF(X28=23,liste!$B$23,IF(X28=24,liste!$B$24,IF(X28=25,liste!$B$25,IF(X28=26,liste!$B$26,IF(X28=27,liste!$B$27,IF(X28=28,liste!$B$28,IF(X28=29,liste!$B$29,IF(X28>=30,'2'!W28,"")))))))))))))))))))))))))))))) | Y28: =IF(Z28=1,liste!$F$1,IF(Z28=2,liste!$F$2,IF(Z28=3,liste!$F$3,IF(Z28=4,liste!$F$4,IF(Z28=5,liste!$F$5,IF(Z28=6,liste!$F$6,IF(Z28=7,liste!$F$7,IF(Z28=8,liste!$F$8,IF(Z28=9,liste!$F$9,IF(Z28=10,liste!$F$10,IF(Z28=11,liste!$F$11,IF(Z28=12,liste!$F$12,IF(Z28=13,liste!$F$13,IF(Z28=14,liste!$F$14,IF(Z28=15,liste!$F$15,IF(Z28=16,liste!$F$16,IF(Z28=17,liste!$F$17,IF(Z28=18,liste!$F$18,IF(Z28=19,liste!$F$19,IF(Z28=20,liste!$F$20,"")))))))))))))))))))) | AA28: =IF(AB28=1,liste!$B$1,IF(AB28=2,liste!$B$2,IF(AB28=3,liste!$B$3,IF(AB28=4,liste!$B$4,IF(AB28=5,liste!$B$5,IF(AB28=6,liste!$B$6,IF(AB28=7,liste!$B$7,IF(AB28=8,liste!$B$8,IF(AB28=9,liste!$B$9,IF(AB28=10,liste!$B$10,IF(AB28=11,liste!$B$11,IF(AB28=12,liste!$B$12,IF(AB28=13,liste!$B$13,IF(AB28=14,liste!$B$14,IF(AB28=15,liste!$B$15,IF(AB28=16,liste!$B$16,IF(AB28=17,liste!$B$17,IF(AB28=18,liste!$B$18,IF(AB28=19,liste!$B$19,IF(AB28=20,liste!$B$20,IF(AB28=21,liste!$B$21,IF(AB28=22,liste!$B$22,IF(AB28=23,liste!$B$23,IF(AB28=24,liste!$B$24,IF(AB28=25,liste!$B$25,IF(AB28=26,liste!$B$26,IF(AB28=27,liste!$B$27,IF(AB28=28,liste!$B$28,IF(AB28=29,liste!$B$29,IF(AB28>=30,'2'!AA28,"")))))))))))))))))))))))))))))) | AC28: =IF(AD28=1,liste!$F$1,IF(AD28=2,liste!$F$2,IF(AD28=3,liste!$F$3,IF(AD28=4,liste!$F$4,IF(AD28=5,liste!$F$5,IF(AD28=6,liste!$F$6,IF(AD28=7,liste!$F$7,IF(AD28=8,liste!$F$8,IF(AD28=9,liste!$F$9,IF(AD28=10,liste!$F$10,IF(AD28=11,liste!$F$11,IF(AD28=12,liste!$F$12,IF(AD28=13,liste!$F$13,IF(AD28=14,liste!$F$14,IF(AD28=15,liste!$F$15,IF(AD28=16,liste!$F$16,IF(AD28=17,liste!$F$17,IF(AD28=18,liste!$F$18,IF(AD28=19,liste!$F$19,IF(AD28=20,liste!$F$20,"")))))))))))))))))))) | AE28: =IF(AF28=1,liste!$B$1,IF(AF28=2,liste!$B$2,IF(AF28=3,liste!$B$3,IF(AF28=4,liste!$B$4,IF(AF28=5,liste!$B$5,IF(AF28=6,liste!$B$6,IF(AF28=7,liste!$B$7,IF(AF28=8,liste!$B$8,IF(AF28=9,liste!$B$9,IF(AF28=10,liste!$B$10,IF(AF28=11,liste!$B$11,IF(AF28=12,liste!$B$12,IF(AF28=13,liste!$B$13,IF(AF28=14,liste!$B$14,IF(AF28=15,liste!$B$15,IF(AF28=16,liste!$B$16,IF(AF28=17,liste!$B$17,IF(AF28=18,liste!$B$18,IF(AF28=19,liste!$B$19,IF(AF28=20,liste!$B$20,IF(AF28=21,liste!$B$21,IF(AF28=22,liste!$B$22,IF(AF28=23,liste!$B$23,IF(AF28=24,liste!$B$24,IF(AF28=25,liste!$B$25,IF(AF28=26,liste!$B$26,IF(AF28=27,liste!$B$27,IF(AF28=28,liste!$B$28,IF(AF28=29,liste!$B$29,IF(AF28>=30,'2'!AE28,"")))))))))))))))))))))))))))))) | AG28: =IF(AH28=1,liste!$F$1,IF(AH28=2,liste!$F$2,IF(AH28=3,liste!$F$3,IF(AH28=4,liste!$F$4,IF(AH28=5,liste!$F$5,IF(AH28=6,liste!$F$6,IF(AH28=7,liste!$F$7,IF(AH28=8,liste!$F$8,IF(AH28=9,liste!$F$9,IF(AH28=10,liste!$F$10,IF(AH28=11,liste!$F$11,IF(AH28=12,liste!$F$12,IF(AH28=13,liste!$F$13,IF(AH28=14,liste!$F$14,IF(AH28=15,liste!$F$15,IF(AH28=16,liste!$F$16,IF(AH28=17,liste!$F$17,IF(AH28=18,liste!$F$18,IF(AH28=19,liste!$F$19,IF(AH28=20,liste!$F$20,""))))))))))))))))))))
C29: =IF(D29=1,liste!$D$1,IF(D29=2,liste!$D$2,IF(D29=3,liste!$D$3,IF(D29=4,liste!$D$4,IF(D29=5,liste!$D$5,IF(D29=6,liste!$D$6,IF(D29=7,liste!$D$7,IF(D29=8,liste!$D$8,IF(D29=9,liste!$D$9,IF(D29=10,liste!$D$10,IF(D29=11,liste!$D$11,IF(D29=12,liste!$D$12,IF(D29=13,liste!$D$13,IF(D29=14,liste!$D$14,IF(D29=15,liste!$D$15,IF(D29=16,liste!$D$16,IF(D29=17,liste!$D$17,IF(D29=18,liste!$D$18,IF(D29=19,liste!$D$19,IF(D29=20,liste!$D$20,IF(D29=21,liste!$D$21,IF(D29=22,liste!$D$22,IF(D29=23,liste!$D$23,IF(D29=24,liste!$D$24,IF(D29=25,liste!$D$25,IF(D29=26,liste!$D$26,IF(D29=27,liste!$D$27,IF(D29=28,liste!$D$28,IF(D29=29,liste!$D$29,IF(D29>=30,'2'!C29,"")))))))))))))))))))))))))))))) | G29: =IF(H29=1,liste!$D$1,IF(H29=2,liste!$D$2,IF(H29=3,liste!$D$3,IF(H29=4,liste!$D$4,IF(H29=5,liste!$D$5,IF(H29=6,liste!$D$6,IF(H29=7,liste!$D$7,IF(H29=8,liste!$D$8,IF(H29=9,liste!$D$9,IF(H29=10,liste!$D$10,IF(H29=11,liste!$D$11,IF(H29=12,liste!$D$12,IF(H29=13,liste!$D$13,IF(H29=14,liste!$D$14,IF(H29=15,liste!$D$15,IF(H29=16,liste!$D$16,IF(H29=17,liste!$D$17,IF(H29=18,liste!$D$18,IF(H29=19,liste!$D$19,IF(H29=20,liste!$D$20,IF(H29=21,liste!$D$21,IF(H29=22,liste!$D$22,IF(H29=23,liste!$D$23,IF(H29=24,liste!$D$24,IF(H29=25,liste!$D$25,IF(H29=26,liste!$D$26,IF(H29=27,liste!$D$27,IF(H29=28,liste!$D$28,IF(H29=29,liste!$D$29,IF(H29>=30,'2'!G29,"")))))))))))))))))))))))))))))) | K29: =IF(L29=1,liste!$D$1,IF(L29=2,liste!$D$2,IF(L29=3,liste!$D$3,IF(L29=4,liste!$D$4,IF(L29=5,liste!$D$5,IF(L29=6,liste!$D$6,IF(L29=7,liste!$D$7,IF(L29=8,liste!$D$8,IF(L29=9,liste!$D$9,IF(L29=10,liste!$D$10,IF(L29=11,liste!$D$11,IF(L29=12,liste!$D$12,IF(L29=13,liste!$D$13,IF(L29=14,liste!$D$14,IF(L29=15,liste!$D$15,IF(L29=16,liste!$D$16,IF(L29=17,liste!$D$17,IF(L29=18,liste!$D$18,IF(L29=19,liste!$D$19,IF(L29=20,liste!$D$20,IF(L29=21,liste!$D$21,IF(L29=22,liste!$D$22,IF(L29=23,liste!$D$23,IF(L29=24,liste!$D$24,IF(L29=25,liste!$D$25,IF(L29=26,liste!$D$26,IF(L29=27,liste!$D$27,IF(L29=28,liste!$D$28,IF(L29=29,liste!$D$29,IF(L29>=30,'2'!K29,"")))))))))))))))))))))))))))))) | O29: =IF(P29=1,liste!$D$1,IF(P29=2,liste!$D$2,IF(P29=3,liste!$D$3,IF(P29=4,liste!$D$4,IF(P29=5,liste!$D$5,IF(P29=6,liste!$D$6,IF(P29=7,liste!$D$7,IF(P29=8,liste!$D$8,IF(P29=9,liste!$D$9,IF(P29=10,liste!$D$10,IF(P29=11,liste!$D$11,IF(P29=12,liste!$D$12,IF(P29=13,liste!$D$13,IF(P29=14,liste!$D$14,IF(P29=15,liste!$D$15,IF(P29=16,liste!$D$16,IF(P29=17,liste!$D$17,IF(P29=18,liste!$D$18,IF(P29=19,liste!$D$19,IF(P29=20,liste!$D$20,IF(P29=21,liste!$D$21,IF(P29=22,liste!$D$22,IF(P29=23,liste!$D$23,IF(P29=24,liste!$D$24,IF(P29=25,liste!$D$25,IF(P29=26,liste!$D$26,IF(P29=27,liste!$D$27,IF(P29=28,liste!$D$28,IF(P29=29,liste!$D$29,IF(P29>=30,'2'!O29,"")))))))))))))))))))))))))))))) | S29: =IF(T29=1,liste!$D$1,IF(T29=2,liste!$D$2,IF(T29=3,liste!$D$3,IF(T29=4,liste!$D$4,IF(T29=5,liste!$D$5,IF(T29=6,liste!$D$6,IF(T29=7,liste!$D$7,IF(T29=8,liste!$D$8,IF(T29=9,liste!$D$9,IF(T29=10,liste!$D$10,IF(T29=11,liste!$D$11,IF(T29=12,liste!$D$12,IF(T29=13,liste!$D$13,IF(T29=14,liste!$D$14,IF(T29=15,liste!$D$15,IF(T29=16,liste!$D$16,IF(T29=17,liste!$D$17,IF(T29=18,liste!$D$18,IF(T29=19,liste!$D$19,IF(T29=20,liste!$D$20,IF(T29=21,liste!$D$21,IF(T29=22,liste!$D$22,IF(T29=23,liste!$D$23,IF(T29=24,liste!$D$24,IF(T29=25,liste!$D$25,IF(T29=26,liste!$D$26,IF(T29=27,liste!$D$27,IF(T29=28,liste!$D$28,IF(T29=29,liste!$D$29,IF(T29>=30,'2'!S29,"")))))))))))))))))))))))))))))) -> Öz Öğrt. Yön II | T29: 4 | W29: =IF(X29=1,liste!$D$1,IF(X29=2,liste!$D$2,IF(X29=3,liste!$D$3,IF(X29=4,liste!$D$4,IF(X29=5,liste!$D$5,IF(X29=6,liste!$D$6,IF(X29=7,liste!$D$7,IF(X29=8,liste!$D$8,IF(X29=9,liste!$D$9,IF(X29=10,liste!$D$10,IF(X29=11,liste!$D$11,IF(X29=12,liste!$D$12,IF(X29=13,liste!$D$13,IF(X29=14,liste!$D$14,IF(X29=15,liste!$D$15,IF(X29=16,liste!$D$16,IF(X29=17,liste!$D$17,IF(X29=18,liste!$D$18,IF(X29=19,liste!$D$19,IF(X29=20,liste!$D$20,IF(X29=21,liste!$D$21,IF(X29=22,liste!$D$22,IF(X29=23,liste!$D$23,IF(X29=24,liste!$D$24,IF(X29=25,liste!$D$25,IF(X29=26,liste!$D$26,IF(X29=27,liste!$D$27,IF(X29=28,liste!$D$28,IF(X29=29,liste!$D$29,IF(X29>=30,'2'!W29,"")))))))))))))))))))))))))))))) | AA29: =IF(AB29=1,liste!$D$1,IF(AB29=2,liste!$D$2,IF(AB29=3,liste!$D$3,IF(AB29=4,liste!$D$4,IF(AB29=5,liste!$D$5,IF(AB29=6,liste!$D$6,IF(AB29=7,liste!$D$7,IF(AB29=8,liste!$D$8,IF(AB29=9,liste!$D$9,IF(AB29=10,liste!$D$10,IF(AB29=11,liste!$D$11,IF(AB29=12,liste!$D$12,IF(AB29=13,liste!$D$13,IF(AB29=14,liste!$D$14,IF(AB29=15,liste!$D$15,IF(AB29=16,liste!$D$16,IF(AB29=17,liste!$D$17,IF(AB29=18,liste!$D$18,IF(AB29=19,liste!$D$19,IF(AB29=20,liste!$D$20,IF(AB29=21,liste!$D$21,IF(AB29=22,liste!$D$22,IF(AB29=23,liste!$D$23,IF(AB29=24,liste!$D$24,IF(AB29=25,liste!$D$25,IF(AB29=26,liste!$D$26,IF(AB29=27,liste!$D$27,IF(AB29=28,liste!$D$28,IF(AB29=29,liste!$D$29,IF(AB29>=30,'2'!AA29,"")))))))))))))))))))))))))))))) | AE29: =IF(AF29=1,liste!$D$1,IF(AF29=2,liste!$D$2,IF(AF29=3,liste!$D$3,IF(AF29=4,liste!$D$4,IF(AF29=5,liste!$D$5,IF(AF29=6,liste!$D$6,IF(AF29=7,liste!$D$7,IF(AF29=8,liste!$D$8,IF(AF29=9,liste!$D$9,IF(AF29=10,liste!$D$10,IF(AF29=11,liste!$D$11,IF(AF29=12,liste!$D$12,IF(AF29=13,liste!$D$13,IF(AF29=14,liste!$D$14,IF(AF29=15,liste!$D$15,IF(AF29=16,liste!$D$16,IF(AF29=17,liste!$D$17,IF(AF29=18,liste!$D$18,IF(AF29=19,liste!$D$19,IF(AF29=20,liste!$D$20,IF(AF29=21,liste!$D$21,IF(AF29=22,liste!$D$22,IF(AF29=23,liste!$D$23,IF(AF29=24,liste!$D$24,IF(AF29=25,liste!$D$25,IF(AF29=26,liste!$D$26,IF(AF29=27,liste!$D$27,IF(AF29=28,liste!$D$28,IF(AF29=29,liste!$D$29,IF(AF29>=30,'2'!AE29,""))))))))))))))))))))))))))))))
B30: =B10 -> 14:30-15:20 | C30: =IF(D30=1,liste!$B$1,IF(D30=2,liste!$B$2,IF(D30=3,liste!$B$3,IF(D30=4,liste!$B$4,IF(D30=5,liste!$B$5,IF(D30=6,liste!$B$6,IF(D30=7,liste!$B$7,IF(D30=8,liste!$B$8,IF(D30=9,liste!$B$9,IF(D30=10,liste!$B$10,IF(D30=11,liste!$B$11,IF(D30=12,liste!$B$12,IF(D30=13,liste!$B$13,IF(D30=14,liste!$B$14,IF(D30=15,liste!$B$15,IF(D30=16,liste!$B$16,IF(D30=17,liste!$B$17,IF(D30=18,liste!$B$18,IF(D30=19,liste!$B$19,IF(D30=20,liste!$B$20,IF(D30=21,liste!$B$21,IF(D30=22,liste!$B$22,IF(D30=23,liste!$B$23,IF(D30=24,liste!$B$24,IF(D30=25,liste!$B$25,IF(D30=26,liste!$B$26,IF(D30=27,liste!$B$27,IF(D30=28,liste!$B$28,IF(D30=29,liste!$B$29,IF(D30>=30,'2'!C30,"")))))))))))))))))))))))))))))) | E30: =IF(F30=1,liste!$F$1,IF(F30=2,liste!$F$2,IF(F30=3,liste!$F$3,IF(F30=4,liste!$F$4,IF(F30=5,liste!$F$5,IF(F30=6,liste!$F$6,IF(F30=7,liste!$F$7,IF(F30=8,liste!$F$8,IF(F30=9,liste!$F$9,IF(F30=10,liste!$F$10,IF(F30=11,liste!$F$11,IF(F30=12,liste!$F$12,IF(F30=13,liste!$F$13,IF(F30=14,liste!$F$14,IF(F30=15,liste!$F$15,IF(F30=16,liste!$F$16,IF(F30=17,liste!$F$17,IF(F30=18,liste!$F$18,IF(F30=19,liste!$F$19,IF(F30=20,liste!$F$20,"")))))))))))))))))))) | G30: =IF(H30=1,liste!$B$1,IF(H30=2,liste!$B$2,IF(H30=3,liste!$B$3,IF(H30=4,liste!$B$4,IF(H30=5,liste!$B$5,IF(H30=6,liste!$B$6,IF(H30=7,liste!$B$7,IF(H30=8,liste!$B$8,IF(H30=9,liste!$B$9,IF(H30=10,liste!$B$10,IF(H30=11,liste!$B$11,IF(H30=12,liste!$B$12,IF(H30=13,liste!$B$13,IF(H30=14,liste!$B$14,IF(H30=15,liste!$B$15,IF(H30=16,liste!$B$16,IF(H30=17,liste!$B$17,IF(H30=18,liste!$B$18,IF(H30=19,liste!$B$19,IF(H30=20,liste!$B$20,IF(H30=21,liste!$B$21,IF(H30=22,liste!$B$22,IF(H30=23,liste!$B$23,IF(H30=24,liste!$B$24,IF(H30=25,liste!$B$25,IF(H30=26,liste!$B$26,IF(H30=27,liste!$B$27,IF(H30=28,liste!$B$28,IF(H30=29,liste!$B$29,IF(H30>=30,'2'!G30,"")))))))))))))))))))))))))))))) | I30: =IF(J30=1,liste!$F$1,IF(J30=2,liste!$F$2,IF(J30=3,liste!$F$3,IF(J30=4,liste!$F$4,IF(J30=5,liste!$F$5,IF(J30=6,liste!$F$6,IF(J30=7,liste!$F$7,IF(J30=8,liste!$F$8,IF(J30=9,liste!$F$9,IF(J30=10,liste!$F$10,IF(J30=11,liste!$F$11,IF(J30=12,liste!$F$12,IF(J30=13,liste!$F$13,IF(J30=14,liste!$F$14,IF(J30=15,liste!$F$15,IF(J30=16,liste!$F$16,IF(J30=17,liste!$F$17,IF(J30=18,liste!$F$18,IF(J30=19,liste!$F$19,IF(J30=20,liste!$F$20,"")))))))))))))))))))) | K30: =IF(L30=1,liste!$B$1,IF(L30=2,liste!$B$2,IF(L30=3,liste!$B$3,IF(L30=4,liste!$B$4,IF(L30=5,liste!$B$5,IF(L30=6,liste!$B$6,IF(L30=7,liste!$B$7,IF(L30=8,liste!$B$8,IF(L30=9,liste!$B$9,IF(L30=10,liste!$B$10,IF(L30=11,liste!$B$11,IF(L30=12,liste!$B$12,IF(L30=13,liste!$B$13,IF(L30=14,liste!$B$14,IF(L30=15,liste!$B$15,IF(L30=16,liste!$B$16,IF(L30=17,liste!$B$17,IF(L30=18,liste!$B$18,IF(L30=19,liste!$B$19,IF(L30=20,liste!$B$20,IF(L30=21,liste!$B$21,IF(L30=22,liste!$B$22,IF(L30=23,liste!$B$23,IF(L30=24,liste!$B$24,IF(L30=25,liste!$B$25,IF(L30=26,liste!$B$26,IF(L30=27,liste!$B$27,IF(L30=28,liste!$B$28,IF(L30=29,liste!$B$29,IF(L30>=30,'2'!K30,"")))))))))))))))))))))))))))))) | M30: =IF(N30=1,liste!$F$1,IF(N30=2,liste!$F$2,IF(N30=3,liste!$F$3,IF(N30=4,liste!$F$4,IF(N30=5,liste!$F$5,IF(N30=6,liste!$F$6,IF(N30=7,liste!$F$7,IF(N30=8,liste!$F$8,IF(N30=9,liste!$F$9,IF(N30=10,liste!$F$10,IF(N30=11,liste!$F$11,IF(N30=12,liste!$F$12,IF(N30=13,liste!$F$13,IF(N30=14,liste!$F$14,IF(N30=15,liste!$F$15,IF(N30=16,liste!$F$16,IF(N30=17,liste!$F$17,IF(N30=18,liste!$F$18,IF(N30=19,liste!$F$19,IF(N30=20,liste!$F$20,"")))))))))))))))))))) | O30: =IF(P30=1,liste!$B$1,IF(P30=2,liste!$B$2,IF(P30=3,liste!$B$3,IF(P30=4,liste!$B$4,IF(P30=5,liste!$B$5,IF(P30=6,liste!$B$6,IF(P30=7,liste!$B$7,IF(P30=8,liste!$B$8,IF(P30=9,liste!$B$9,IF(P30=10,liste!$B$10,IF(P30=11,liste!$B$11,IF(P30=12,liste!$B$12,IF(P30=13,liste!$B$13,IF(P30=14,liste!$B$14,IF(P30=15,liste!$B$15,IF(P30=16,liste!$B$16,IF(P30=17,liste!$B$17,IF(P30=18,liste!$B$18,IF(P30=19,liste!$B$19,IF(P30=20,liste!$B$20,IF(P30=21,liste!$B$21,IF(P30=22,liste!$B$22,IF(P30=23,liste!$B$23,IF(P30=24,liste!$B$24,IF(P30=25,liste!$B$25,IF(P30=26,liste!$B$26,IF(P30=27,liste!$B$27,IF(P30=28,liste!$B$28,IF(P30=29,liste!$B$29,IF(P30>=30,'2'!O30,"")))))))))))))))))))))))))))))) | Q30: =IF(R30=1,liste!$F$1,IF(R30=2,liste!$F$2,IF(R30=3,liste!$F$3,IF(R30=4,liste!$F$4,IF(R30=5,liste!$F$5,IF(R30=6,liste!$F$6,IF(R30=7,liste!$F$7,IF(R30=8,liste!$F$8,IF(R30=9,liste!$F$9,IF(R30=10,liste!$F$10,IF(R30=11,liste!$F$11,IF(R30=12,liste!$F$12,IF(R30=13,liste!$F$13,IF(R30=14,liste!$F$14,IF(R30=15,liste!$F$15,IF(R30=16,liste!$F$16,IF(R30=17,liste!$F$17,IF(R30=18,liste!$F$18,IF(R30=19,liste!$F$19,IF(R30=20,liste!$F$20,"")))))))))))))))))))) | S30: =IF(T30=1,liste!$B$1,IF(T30=2,liste!$B$2,IF(T30=3,liste!$B$3,IF(T30=4,liste!$B$4,IF(T30=5,liste!$B$5,IF(T30=6,liste!$B$6,IF(T30=7,liste!$B$7,IF(T30=8,liste!$B$8,IF(T30=9,liste!$B$9,IF(T30=10,liste!$B$10,IF(T30=11,liste!$B$11,IF(T30=12,liste!$B$12,IF(T30=13,liste!$B$13,IF(T30=14,liste!$B$14,IF(T30=15,liste!$B$15,IF(T30=16,liste!$B$16,IF(T30=17,liste!$B$17,IF(T30=18,liste!$B$18,IF(T30=19,liste!$B$19,IF(T30=20,liste!$B$20,IF(T30=21,liste!$B$21,IF(T30=22,liste!$B$22,IF(T30=23,liste!$B$23,IF(T30=24,liste!$B$24,IF(T30=25,liste!$B$25,IF(T30=26,liste!$B$26,IF(T30=27,liste!$B$27,IF(T30=28,liste!$B$28,IF(T30=29,liste!$B$29,IF(T30>=30,'2'!S30,"")))))))))))))))))))))))))))))) -> Y.Doç.Dr.M.Aktaş | T30: 7 | U30: =IF(V30=1,liste!$F$1,IF(V30=2,liste!$F$2,IF(V30=3,liste!$F$3,IF(V30=4,liste!$F$4,IF(V30=5,liste!$F$5,IF(V30=6,liste!$F$6,IF(V30=7,liste!$F$7,IF(V30=8,liste!$F$8,IF(V30=9,liste!$F$9,IF(V30=10,liste!$F$10,IF(V30=11,liste!$F$11,IF(V30=12,liste!$F$12,IF(V30=13,liste!$F$13,IF(V30=14,liste!$F$14,IF(V30=15,liste!$F$15,IF(V30=16,liste!$F$16,IF(V30=17,liste!$F$17,IF(V30=18,liste!$F$18,IF(V30=19,liste!$F$19,IF(V30=20,liste!$F$20,"")))))))))))))))))))) -> F404 | V30: 12 | W30: =IF(X30=1,liste!$B$1,IF(X30=2,liste!$B$2,IF(X30=3,liste!$B$3,IF(X30=4,liste!$B$4,IF(X30=5,liste!$B$5,IF(X30=6,liste!$B$6,IF(X30=7,liste!$B$7,IF(X30=8,liste!$B$8,IF(X30=9,liste!$B$9,IF(X30=10,liste!$B$10,IF(X30=11,liste!$B$11,IF(X30=12,liste!$B$12,IF(X30=13,liste!$B$13,IF(X30=14,liste!$B$14,IF(X30=15,liste!$B$15,IF(X30=16,liste!$B$16,IF(X30=17,liste!$B$17,IF(X30=18,liste!$B$18,IF(X30=19,liste!$B$19,IF(X30=20,liste!$B$20,IF(X30=21,liste!$B$21,IF(X30=22,liste!$B$22,IF(X30=23,liste!$B$23,IF(X30=24,liste!$B$24,IF(X30=25,liste!$B$25,IF(X30=26,liste!$B$26,IF(X30=27,liste!$B$27,IF(X30=28,liste!$B$28,IF(X30=29,liste!$B$29,IF(X30>=30,'2'!W30,"")))))))))))))))))))))))))))))) | Y30: =IF(Z30=1,liste!$F$1,IF(Z30=2,liste!$F$2,IF(Z30=3,liste!$F$3,IF(Z30=4,liste!$F$4,IF(Z30=5,liste!$F$5,IF(Z30=6,liste!$F$6,IF(Z30=7,liste!$F$7,IF(Z30=8,liste!$F$8,IF(Z30=9,liste!$F$9,IF(Z30=10,liste!$F$10,IF(Z30=11,liste!$F$11,IF(Z30=12,liste!$F$12,IF(Z30=13,liste!$F$13,IF(Z30=14,liste!$F$14,IF(Z30=15,liste!$F$15,IF(Z30=16,liste!$F$16,IF(Z30=17,liste!$F$17,IF(Z30=18,liste!$F$18,IF(Z30=19,liste!$F$19,IF(Z30=20,liste!$F$20,"")))))))))))))))))))) | AA30: =IF(AB30=1,liste!$B$1,IF(AB30=2,liste!$B$2,IF(AB30=3,liste!$B$3,IF(AB30=4,liste!$B$4,IF(AB30=5,liste!$B$5,IF(AB30=6,liste!$B$6,IF(AB30=7,liste!$B$7,IF(AB30=8,liste!$B$8,IF(AB30=9,liste!$B$9,IF(AB30=10,liste!$B$10,IF(AB30=11,liste!$B$11,IF(AB30=12,liste!$B$12,IF(AB30=13,liste!$B$13,IF(AB30=14,liste!$B$14,IF(AB30=15,liste!$B$15,IF(AB30=16,liste!$B$16,IF(AB30=17,liste!$B$17,IF(AB30=18,liste!$B$18,IF(AB30=19,liste!$B$19,IF(AB30=20,liste!$B$20,IF(AB30=21,liste!$B$21,IF(AB30=22,liste!$B$22,IF(AB30=23,liste!$B$23,IF(AB30=24,liste!$B$24,IF(AB30=25,liste!$B$25,IF(AB30=26,liste!$B$26,IF(AB30=27,liste!$B$27,IF(AB30=28,liste!$B$28,IF(AB30=29,liste!$B$29,IF(AB30>=30,'2'!AA30,"")))))))))))))))))))))))))))))) | AC30: =IF(AD30=1,liste!$F$1,IF(AD30=2,liste!$F$2,IF(AD30=3,liste!$F$3,IF(AD30=4,liste!$F$4,IF(AD30=5,liste!$F$5,IF(AD30=6,liste!$F$6,IF(AD30=7,liste!$F$7,IF(AD30=8,liste!$F$8,IF(AD30=9,liste!$F$9,IF(AD30=10,liste!$F$10,IF(AD30=11,liste!$F$11,IF(AD30=12,liste!$F$12,IF(AD30=13,liste!$F$13,IF(AD30=14,liste!$F$14,IF(AD30=15,liste!$F$15,IF(AD30=16,liste!$F$16,IF(AD30=17,liste!$F$17,IF(AD30=18,liste!$F$18,IF(AD30=19,liste!$F$19,IF(AD30=20,liste!$F$20,"")))))))))))))))))))) | AE30: =IF(AF30=1,liste!$B$1,IF(AF30=2,liste!$B$2,IF(AF30=3,liste!$B$3,IF(AF30=4,liste!$B$4,IF(AF30=5,liste!$B$5,IF(AF30=6,liste!$B$6,IF(AF30=7,liste!$B$7,IF(AF30=8,liste!$B$8,IF(AF30=9,liste!$B$9,IF(AF30=10,liste!$B$10,IF(AF30=11,liste!$B$11,IF(AF30=12,liste!$B$12,IF(AF30=13,liste!$B$13,IF(AF30=14,liste!$B$14,IF(AF30=15,liste!$B$15,IF(AF30=16,liste!$B$16,IF(AF30=17,liste!$B$17,IF(AF30=18,liste!$B$18,IF(AF30=19,liste!$B$19,IF(AF30=20,liste!$B$20,IF(AF30=21,liste!$B$21,IF(AF30=22,liste!$B$22,IF(AF30=23,liste!$B$23,IF(AF30=24,liste!$B$24,IF(AF30=25,liste!$B$25,IF(AF30=26,liste!$B$26,IF(AF30=27,liste!$B$27,IF(AF30=28,liste!$B$28,IF(AF30=29,liste!$B$29,IF(AF30>=30,'2'!AE30,"")))))))))))))))))))))))))))))) | AG30: =IF(AH30=1,liste!$F$1,IF(AH30=2,liste!$F$2,IF(AH30=3,liste!$F$3,IF(AH30=4,liste!$F$4,IF(AH30=5,liste!$F$5,IF(AH30=6,liste!$F$6,IF(AH30=7,liste!$F$7,IF(AH30=8,liste!$F$8,IF(AH30=9,liste!$F$9,IF(AH30=10,liste!$F$10,IF(AH30=11,liste!$F$11,IF(AH30=12,liste!$F$12,IF(AH30=13,liste!$F$13,IF(AH30=14,liste!$F$14,IF(AH30=15,liste!$F$15,IF(AH30=16,liste!$F$16,IF(AH30=17,liste!$F$17,IF(AH30=18,liste!$F$18,IF(AH30=19,liste!$F$19,IF(AH30=20,liste!$F$20,""))))))))))))))))))))
C31: =IF(D31=1,liste!$D$1,IF(D31=2,liste!$D$2,IF(D31=3,liste!$D$3,IF(D31=4,liste!$D$4,IF(D31=5,liste!$D$5,IF(D31=6,liste!$D$6,IF(D31=7,liste!$D$7,IF(D31=8,liste!$D$8,IF(D31=9,liste!$D$9,IF(D31=10,liste!$D$10,IF(D31=11,liste!$D$11,IF(D31=12,liste!$D$12,IF(D31=13,liste!$D$13,IF(D31=14,liste!$D$14,IF(D31=15,liste!$D$15,IF(D31=16,liste!$D$16,IF(D31=17,liste!$D$17,IF(D31=18,liste!$D$18,IF(D31=19,liste!$D$19,IF(D31=20,liste!$D$20,IF(D31=21,liste!$D$21,IF(D31=22,liste!$D$22,IF(D31=23,liste!$D$23,IF(D31=24,liste!$D$24,IF(D31=25,liste!$D$25,IF(D31=26,liste!$D$26,IF(D31=27,liste!$D$27,IF(D31=28,liste!$D$28,IF(D31=29,liste!$D$29,IF(D31>=30,'2'!C31,"")))))))))))))))))))))))))))))) | G31: =IF(H31=1,liste!$D$1,IF(H31=2,liste!$D$2,IF(H31=3,liste!$D$3,IF(H31=4,liste!$D$4,IF(H31=5,liste!$D$5,IF(H31=6,liste!$D$6,IF(H31=7,liste!$D$7,IF(H31=8,liste!$D$8,IF(H31=9,liste!$D$9,IF(H31=10,liste!$D$10,IF(H31=11,liste!$D$11,IF(H31=12,liste!$D$12,IF(H31=13,liste!$D$13,IF(H31=14,liste!$D$14,IF(H31=15,liste!$D$15,IF(H31=16,liste!$D$16,IF(H31=17,liste!$D$17,IF(H31=18,liste!$D$18,IF(H31=19,liste!$D$19,IF(H31=20,liste!$D$20,IF(H31=21,liste!$D$21,IF(H31=22,liste!$D$22,IF(H31=23,liste!$D$23,IF(H31=24,liste!$D$24,IF(H31=25,liste!$D$25,IF(H31=26,liste!$D$26,IF(H31=27,liste!$D$27,IF(H31=28,liste!$D$28,IF(H31=29,liste!$D$29,IF(H31>=30,'2'!G31,"")))))))))))))))))))))))))))))) | K31: =IF(L31=1,liste!$D$1,IF(L31=2,liste!$D$2,IF(L31=3,liste!$D$3,IF(L31=4,liste!$D$4,IF(L31=5,liste!$D$5,IF(L31=6,liste!$D$6,IF(L31=7,liste!$D$7,IF(L31=8,liste!$D$8,IF(L31=9,liste!$D$9,IF(L31=10,liste!$D$10,IF(L31=11,liste!$D$11,IF(L31=12,liste!$D$12,IF(L31=13,liste!$D$13,IF(L31=14,liste!$D$14,IF(L31=15,liste!$D$15,IF(L31=16,liste!$D$16,IF(L31=17,liste!$D$17,IF(L31=18,liste!$D$18,IF(L31=19,liste!$D$19,IF(L31=20,liste!$D$20,IF(L31=21,liste!$D$21,IF(L31=22,liste!$D$22,IF(L31=23,liste!$D$23,IF(L31=24,liste!$D$24,IF(L31=25,liste!$D$25,IF(L31=26,liste!$D$26,IF(L31=27,liste!$D$27,IF(L31=28,liste!$D$28,IF(L31=29,liste!$D$29,IF(L31>=30,'2'!K31,"")))))))))))))))))))))))))))))) | O31: =IF(P31=1,liste!$D$1,IF(P31=2,liste!$D$2,IF(P31=3,liste!$D$3,IF(P31=4,liste!$D$4,IF(P31=5,liste!$D$5,IF(P31=6,liste!$D$6,IF(P31=7,liste!$D$7,IF(P31=8,liste!$D$8,IF(P31=9,liste!$D$9,IF(P31=10,liste!$D$10,IF(P31=11,liste!$D$11,IF(P31=12,liste!$D$12,IF(P31=13,liste!$D$13,IF(P31=14,liste!$D$14,IF(P31=15,liste!$D$15,IF(P31=16,liste!$D$16,IF(P31=17,liste!$D$17,IF(P31=18,liste!$D$18,IF(P31=19,liste!$D$19,IF(P31=20,liste!$D$20,IF(P31=21,liste!$D$21,IF(P31=22,liste!$D$22,IF(P31=23,liste!$D$23,IF(P31=24,liste!$D$24,IF(P31=25,liste!$D$25,IF(P31=26,liste!$D$26,IF(P31=27,liste!$D$27,IF(P31=28,liste!$D$28,IF(P31=29,liste!$D$29,IF(P31>=30,'2'!O31,"")))))))))))))))))))))))))))))) | S31: =IF(T31=1,liste!$D$1,IF(T31=2,liste!$D$2,IF(T31=3,liste!$D$3,IF(T31=4,liste!$D$4,IF(T31=5,liste!$D$5,IF(T31=6,liste!$D$6,IF(T31=7,liste!$D$7,IF(T31=8,liste!$D$8,IF(T31=9,liste!$D$9,IF(T31=10,liste!$D$10,IF(T31=11,liste!$D$11,IF(T31=12,liste!$D$12,IF(T31=13,liste!$D$13,IF(T31=14,liste!$D$14,IF(T31=15,liste!$D$15,IF(T31=16,liste!$D$16,IF(T31=17,liste!$D$17,IF(T31=18,liste!$D$18,IF(T31=19,liste!$D$19,IF(T31=20,liste!$D$20,IF(T31=21,liste!$D$21,IF(T31=22,liste!$D$22,IF(T31=23,liste!$D$23,IF(T31=24,liste!$D$24,IF(T31=25,liste!$D$25,IF(T31=26,liste!$D$26,IF(T31=27,liste!$D$27,IF(T31=28,liste!$D$28,IF(T31=29,liste!$D$29,IF(T31>=30,'2'!S31,"")))))))))))))))))))))))))))))) -> Öz Öğrt. Yön II | T31: 4 | W31: =IF(X31=1,liste!$D$1,IF(X31=2,liste!$D$2,IF(X31=3,liste!$D$3,IF(X31=4,liste!$D$4,IF(X31=5,liste!$D$5,IF(X31=6,liste!$D$6,IF(X31=7,liste!$D$7,IF(X31=8,liste!$D$8,IF(X31=9,liste!$D$9,IF(X31=10,liste!$D$10,IF(X31=11,liste!$D$11,IF(X31=12,liste!$D$12,IF(X31=13,liste!$D$13,IF(X31=14,liste!$D$14,IF(X31=15,liste!$D$15,IF(X31=16,liste!$D$16,IF(X31=17,liste!$D$17,IF(X31=18,liste!$D$18,IF(X31=19,liste!$D$19,IF(X31=20,liste!$D$20,IF(X31=21,liste!$D$21,IF(X31=22,liste!$D$22,IF(X31=23,liste!$D$23,IF(X31=24,liste!$D$24,IF(X31=25,liste!$D$25,IF(X31=26,liste!$D$26,IF(X31=27,liste!$D$27,IF(X31=28,liste!$D$28,IF(X31=29,liste!$D$29,IF(X31>=30,'2'!W31,"")))))))))))))))))))))))))))))) | AA31: =IF(AB31=1,liste!$D$1,IF(AB31=2,liste!$D$2,IF(AB31=3,liste!$D$3,IF(AB31=4,liste!$D$4,IF(AB31=5,liste!$D$5,IF(AB31=6,liste!$D$6,IF(AB31=7,liste!$D$7,IF(AB31=8,liste!$D$8,IF(AB31=9,liste!$D$9,IF(AB31=10,liste!$D$10,IF(AB31=11,liste!$D$11,IF(AB31=12,liste!$D$12,IF(AB31=13,liste!$D$13,IF(AB31=14,liste!$D$14,IF(AB31=15,liste!$D$15,IF(AB31=16,liste!$D$16,IF(AB31=17,liste!$D$17,IF(AB31=18,liste!$D$18,IF(AB31=19,liste!$D$19,IF(AB31=20,liste!$D$20,IF(AB31=21,liste!$D$21,IF(AB31=22,liste!$D$22,IF(AB31=23,liste!$D$23,IF(AB31=24,liste!$D$24,IF(AB31=25,liste!$D$25,IF(AB31=26,liste!$D$26,IF(AB31=27,liste!$D$27,IF(AB31=28,liste!$D$28,IF(AB31=29,liste!$D$29,IF(AB31>=30,'2'!AA31,"")))))))))))))))))))))))))))))) | AE31: =IF(AF31=1,liste!$D$1,IF(AF31=2,liste!$D$2,IF(AF31=3,liste!$D$3,IF(AF31=4,liste!$D$4,IF(AF31=5,liste!$D$5,IF(AF31=6,liste!$D$6,IF(AF31=7,liste!$D$7,IF(AF31=8,liste!$D$8,IF(AF31=9,liste!$D$9,IF(AF31=10,liste!$D$10,IF(AF31=11,liste!$D$11,IF(AF31=12,liste!$D$12,IF(AF31=13,liste!$D$13,IF(AF31=14,liste!$D$14,IF(AF31=15,liste!$D$15,IF(AF31=16,liste!$D$16,IF(AF31=17,liste!$D$17,IF(AF31=18,liste!$D$18,IF(AF31=19,liste!$D$19,IF(AF31=20,liste!$D$20,IF(AF31=21,liste!$D$21,IF(AF31=22,liste!$D$22,IF(AF31=23,liste!$D$23,IF(AF31=24,liste!$D$24,IF(AF31=25,liste!$D$25,IF(AF31=26,liste!$D$26,IF(AF31=27,liste!$D$27,IF(AF31=28,liste!$D$28,IF(AF31=29,liste!$D$29,IF(AF31>=30,'2'!AE31,""))))))))))))))))))))))))))))))
