Workbook

Sheet GİRİŞ
A1: İLKÖĞRETİM BÖLÜMÜ MATEMATİK EĞİTİMİ ANABİLİM DALI 2013-2014 BAHAR ÖĞRETİM YILI HAFTALIK DERS PROGRAMI (İ.Ö.)
C4: =liste!H1&" "&"1. Sınıf" -> İkinci Öğretim 1. Sınıf | K4: =liste!H1&" "&"2. Sınıf" -> İkinci Öğretim 2. Sınıf | S4: =liste!H1&" "&"3. Sınıf" -> İkinci Öğretim 3. Sınıf | AA4: =liste!H1&" "&"4. Sınıf" -> İkinci Öğretim 4. Sınıf
C5: A GRUBU | E5: DN | G5: B GRUBU | I5: DN | K5: A GRUBU | M5: DN | O5: B GRUBU | Q5: DN | S5: A GRUBU | U5: DN | W5: B GRUBU | Y5: DN | AA5: A GRUBU | AC5: DN | AE5: B GRUBU | AG5: DN
A6: PAZARTESİ | B6: =liste!I1 -> 12:30-13:20 | C6: =IF(D6=1,liste!$B$1,IF(D6=2,liste!$B$2,IF(D6=3,liste!$B$3,IF(D6=4,liste!$B$4,IF(D6=5,liste!$B$5,IF(D6=6,liste!$B$6,IF(D6=7,liste!$B$7,IF(D6=8,liste!$B$8,IF(D6=9,liste!$B$9,IF(D6=10,liste!$B$10,IF(D6=11,liste!$B$11,IF(D6=12,liste!$B$12,IF(D6=13,liste!$B$13,IF(D6=14,liste!$B$14,IF(D6=15,liste!$B$15,IF(D6=16,liste!$B$16,IF(D6=17,liste!$B$17,IF(D6=18,liste!$B$18,IF(D6=19,liste!$B$19,IF(D6=20,liste!$B$20,IF(D6=21,liste!$B$21,IF(D6=22,liste!$B$22,IF(D6=23,liste!$B$23,IF(D6=24,liste!$B$24,IF(D6=25,liste!$B$25,IF(D6=26,liste!$B$26,IF(D6=27,liste!$B$27,IF(D6=28,liste!$B$28,IF(D6=29,liste!$B$29,IF(D6>=30,'2'!C6,"")))))))))))))))))))))))))))))) | E6: =IF(F6=1,liste!$F$1,IF(F6=2,liste!$F$2,IF(F6=3,liste!$F$3,IF(F6=4,liste!$F$4,IF(F6=5,liste!$F$5,IF(F6=6,liste!$F$6,IF(F6=7,liste!$F$7,IF(F6=8,liste!$F$8,IF(F6=9,liste!$F$9,IF(F6=10,liste!$F$10,IF(F6=11,liste!$F$11,IF(F6=12,liste!$F$12,IF(F6=13,liste!$F$13,IF(F6=14,liste!$F$14,IF(F6=15,liste!$F$15,IF(F6=16,liste!$F$16,IF(F6=17,liste!$F$17,IF(F6=18,liste!$F$18,IF(F6=19,liste!$F$19,IF(F6=20,liste!$F$20,"")))))))))))))))))))) | G6: =IF(H6=1,liste!$B$1,IF(H6=2,liste!$B$2,IF(H6=3,liste!$B$3,IF(H6=4,liste!$B$4,IF(H6=5,liste!$B$5,IF(H6=6,liste!$B$6,IF(H6=7,liste!$B$7,IF(H6=8,liste!$B$8,IF(H6=9,liste!$B$9,IF(H6=10,liste!$B$10,IF(H6=11,liste!$B$11,IF(H6=12,liste!$B$12,IF(H6=13,liste!$B$13,IF(H6=14,liste!$B$14,IF(H6=15,liste!$B$15,IF(H6=16,liste!$B$16,IF(H6=17,liste!$B$17,IF(H6=18,liste!$B$18,IF(H6=19,liste!$B$19,IF(H6=20,liste!$B$20,IF(H6=21,liste!$B$21,IF(H6=22,liste!$B$22,IF(H6=23,liste!$B$23,IF(H6=24,liste!$B$24,IF(H6=25,liste!$B$25,IF(H6=26,liste!$B$26,IF(H6=27,liste!$B$27,IF(H6=28,liste!$B$28,IF(H6=29,liste!$B$29,IF(H6>=30,'2'!G6,"")))))))))))))))))))))))))))))) | I6: =IF(J6=1,liste!$F$1,IF(J6=2,liste!$F$2,IF(J6=3,liste!$F$3,IF(J6=4,liste!$F$4,IF(J6=5,liste!$F$5,IF(J6=6,liste!$F$6,IF(J6=7,liste!$F$7,IF(J6=8,liste!$F$8,IF(J6=9,liste!$F$9,IF(J6=10,liste!$F$10,IF(J6=11,liste!$F$11,IF(J6=12,liste!$F$12,IF(J6=13,liste!$F$13,IF(J6=14,liste!$F$14,IF(J6=15,liste!$F$15,IF(J6=16,liste!$F$16,IF(J6=17,liste!$F$17,IF(J6=18,liste!$F$18,IF(J6=19,liste!$F$19,IF(J6=20,liste!$F$20,"")))))))))))))))))))) | K6: =IF(L6=1,liste!$B$1,IF(L6=2,liste!$B$2,IF(L6=3,liste!$B$3,IF(L6=4,liste!$B$4,IF(L6=5,liste!$B$5,IF(L6=6,liste!$B$6,IF(L6=7,liste!$B$7,IF(L6=8,liste!$B$8,IF(L6=9,liste!$B$9,IF(L6=10,liste!$B$10,IF(L6=11,liste!$B$11,IF(L6=12,liste!$B$12,IF(L6=13,liste!$B$13,IF(L6=14,liste!$B$14,IF(L6=15,liste!$B$15,IF(L6=16,liste!$B$16,IF(L6=17,liste!$B$17,IF(L6=18,liste!$B$18,IF(L6=19,liste!$B$19,IF(L6=20,liste!$B$20,IF(L6=21,liste!$B$21,IF(L6=22,liste!$B$22,IF(L6=23,liste!$B$23,IF(L6=24,liste!$B$24,IF(L6=25,liste!$B$25,IF(L6=26,liste!$B$26,IF(L6=27,liste!$B$27,IF(L6=28,liste!$B$28,IF(L6=29,liste!$B$29,IF(L6>=30,'2'!K6,"")))))))))))))))))))))))))))))) | M6: =IF(N6=1,liste!$F$1,IF(N6=2,liste!$F$2,IF(N6=3,liste!$F$3,IF(N6=4,liste!$F$4,IF(N6=5,liste!$F$5,IF(N6=6,liste!$F$6,IF(N6=7,liste!$F$7,IF(N6=8,liste!$F$8,IF(N6=9,liste!$F$9,IF(N6=10,liste!$F$10,IF(N6=11,liste!$F$11,IF(N6=12,liste!$F$12,IF(N6=13,liste!$F$13,IF(N6=14,liste!$F$14,IF(N6=15,liste!$F$15,IF(N6=16,liste!$F$16,IF(N6=17,liste!$F$17,IF(N6=18,liste!$F$18,IF(N6=19,liste!$F$19,IF(N6=20,liste!$F$20,"")))))))))))))))))))) | O6: =IF(P6=1,liste!$B$1,IF(P6=2,liste!$B$2,IF(P6=3,liste!$B$3,IF(P6=4,liste!$B$4,IF(P6=5,liste!$B$5,IF(P6=6,liste!$B$6,IF(P6=7,liste!$B$7,IF(P6=8,liste!$B$8,IF(P6=9,liste!$B$9,IF(P6=10,liste!$B$10,IF(P6=11,liste!$B$11,IF(P6=12,liste!$B$12,IF(P6=13,liste!$B$13,IF(P6=14,liste!$B$14,IF(P6=15,liste!$B$15,IF(P6=16,liste!$B$16,IF(P6=17,liste!$B$17,IF(P6=18,liste!$B$18,IF(P6=19,liste!$B$19,IF(P6=20,liste!$B$20,IF(P6=21,liste!$B$21,IF(P6=22,liste!$B$22,IF(P6=23,liste!$B$23,IF(P6=24,liste!$B$24,IF(P6=25,liste!$B$25,IF(P6=26,liste!$B$26,IF(P6=27,liste!$B$27,IF(P6=28,liste!$B$28,IF(P6=29,liste!$B$29,IF(P6>=30,'2'!O6,"")))))))))))))))))))))))))))))) | Q6: =IF(R6=1,liste!$F$1,IF(R6=2,liste!$F$2,IF(R6=3,liste!$F$3,IF(R6=4,liste!$F$4,IF(R6=5,liste!$F$5,IF(R6=6,liste!$F$6,IF(R6=7,liste!$F$7,IF(R6=8,liste!$F$8,IF(R6=9,liste!$F$9,IF(R6=10,liste!$F$10,IF(R6=11,liste!$F$11,IF(R6=12,liste!$F$12,IF(R6=13,liste!$F$13,IF(R6=14,liste!$F$14,IF(R6=15,liste!$F$15,IF(R6=16,liste!$F$16,IF(R6=17,liste!$F$17,IF(R6=18,liste!$F$18,IF(R6=19,liste!$F$19,IF(R6=20,liste!$F$20,"")))))))))))))))))))) | S6: =IF(T6=1,liste!$B$1,IF(T6=2,liste!$B$2,IF(T6=3,liste!$B$3,IF(T6=4,liste!$B$4,IF(T6=5,liste!$B$5,IF(T6=6,liste!$B$6,IF(T6=7,liste!$B$7,IF(T6=8,liste!$B$8,IF(T6=9,liste!$B$9,IF(T6=10,liste!$B$10,IF(T6=11,liste!$B$11,IF(T6=12,liste!$B$12,IF(T6=13,liste!$B$13,IF(T6=14,liste!$B$14,IF(T6=15,liste!$B$15,IF(T6=16,liste!$B$16,IF(T6=17,liste!$B$17,IF(T6=18,liste!$B$18,IF(T6=19,liste!$B$19,IF(T6=20,liste!$B$20,IF(T6=21,liste!$B$21,IF(T6=22,liste!$B$22,IF(T6=23,liste!$B$23,IF(T6=24,liste!$B$24,IF(T6=25,liste!$B$25,IF(T6=26,liste!$B$26,IF(T6=27,liste!$B$27,IF(T6=28,liste!$B$28,IF(T6=29,liste!$B$29,IF(T6>=30,'2'!S6,"")))))))))))))))))))))))))))))) | U6: =IF(V6=1,liste!$F$1,IF(V6=2,liste!$F$2,IF(V6=3,liste!$F$3,IF(V6=4,liste!$F$4,IF(V6=5,liste!$F$5,IF(V6=6,liste!$F$6,IF(V6=7,liste!$F$7,IF(V6=8,liste!$F$8,IF(V6=9,liste!$F$9,IF(V6=10,liste!$F$10,IF(V6=11,liste!$F$11,IF(V6=12,liste!$F$12,IF(V6=13,liste!$F$13,IF(V6=14,liste!$F$14,IF(V6=15,liste!$F$15,IF(V6=16,liste!$F$16,IF(V6=17,liste!$F$17,IF(V6=18,liste!$F$18,IF(V6=19,liste!$F$19,IF(V6=20,liste!$F$20,"")))))))))))))))))))) | W6: =IF(X6=1,liste!$B$1,IF(X6=2,liste!$B$2,IF(X6=3,liste!$B$3,IF(X6=4,liste!$B$4,IF(X6=5,liste!$B$5,IF(X6=6,liste!$B$6,IF(X6=7,liste!$B$7,IF(X6=8,liste!$B$8,IF(X6=9,liste!$B$9,IF(X6=10,liste!$B$10,IF(X6=11,liste!$B$11,IF(X6=12,liste!$B$12,IF(X6=13,liste!$B$13,IF(X6=14,liste!$B$14,IF(X6=15,liste!$B$15,IF(X6=16,liste!$B$16,IF(X6=17,liste!$B$17,IF(X6=18,liste!$B$18,IF(X6=19,liste!$B$19,IF(X6=20,liste!$B$20,IF(X6=21,liste!$B$21,IF(X6=22,liste!$B$22,IF(X6=23,liste!$B$23,IF(X6=24,liste!$B$24,IF(X6=25,liste!$B$25,IF(X6=26,liste!$B$26,IF(X6=27,liste!$B$27,IF(X6=28,liste!$B$28,IF(X6=29,liste!$B$29,IF(X6>=30,'2'!W6,"")))))))))))))))))))))))))))))) | Y6: =IF(Z6=1,liste!$F$1,IF(Z6=2,liste!$F$2,IF(Z6=3,liste!$F$3,IF(Z6=4,liste!$F$4,IF(Z6=5,liste!$F$5,IF(Z6=6,liste!$F$6,IF(Z6=7,liste!$F$7,IF(Z6=8,liste!$F$8,IF(Z6=9,liste!$F$9,IF(Z6=10,liste!$F$10,IF(Z6=11,liste!$F$11,IF(Z6=12,liste!$F$12,IF(Z6=13,liste!$F$13,IF(Z6=14,liste!$F$14,IF(Z6=15,liste!$F$15,IF(Z6=16,liste!$F$16,IF(Z6=17,liste!$F$17,IF(Z6=18,liste!$F$18,IF(Z6=19,liste!$F$19,IF(Z6=20,liste!$F$20,"")))))))))))))))))))) | AA6: =IF(AB6=1,liste!$B$1,IF(AB6=2,liste!$B$2,IF(AB6=3,liste!$B$3,IF(AB6=4,liste!$B$4,IF(AB6=5,liste!$B$5,IF(AB6=6,liste!$B$6,IF(AB6=7,liste!$B$7,IF(AB6=8,liste!$B$8,IF(AB6=9,liste!$B$9,IF(AB6=10,liste!$B$10,IF(AB6=11,liste!$B$11,IF(AB6=12,liste!$B$12,IF(AB6=13,liste!$B$13,IF(AB6=14,liste!$B$14,IF(AB6=15,liste!$B$15,IF(AB6=16,liste!$B$16,IF(AB6=17,liste!$B$17,IF(AB6=18,liste!$B$18,IF(AB6=19,liste!$B$19,IF(AB6=20,liste!$B$20,IF(AB6=21,liste!$B$21,IF(AB6=22,liste!$B$22,IF(AB6=23,liste!$B$23,IF(AB6=24,liste!$B$24,IF(AB6=25,liste!$B$25,IF(AB6=26,liste!$B$26,IF(AB6=27,liste!$B$27,IF(AB6=28,liste!$B$28,IF(AB6=29,liste!$B$29,IF(AB6>=30,'2'!AA6,"")))))))))))))))))))))))))))))) | AC6: =IF(AD6=1,liste!$F$1,IF(AD6=2,liste!$F$2,IF(AD6=3,liste!$F$3,IF(AD6=4,liste!$F$4,IF(AD6=5,liste!$F$5,IF(AD6=6,liste!$F$6,IF(AD6=7,liste!$F$7,IF(AD6=8,liste!$F$8,IF(AD6=9,liste!$F$9,IF(AD6=10,liste!$F$10,IF(AD6=11,liste!$F$11,IF(AD6=12,liste!$F$12,IF(AD6=13,liste!$F$13,IF(AD6=14,liste!$F$14,IF(AD6=15,liste!$F$15,IF(AD6=16,liste!$F$16,IF(AD6=17,liste!$F$17,IF(AD6=18,liste!$F$18,IF(AD6=19,liste!$F$19,IF(AD6=20,liste!$F$20,"")))))))))))))))))))) | AE6: =IF(AF6=1,liste!$B$1,IF(AF6=2,liste!$B$2,IF(AF6=3,liste!$B$3,IF(AF6=4,liste!$B$4,IF(AF6=5,liste!$B$5,IF(AF6=6,liste!$B$6,IF(AF6=7,liste!$B$7,IF(AF6=8,liste!$B$8,IF(AF6=9,liste!$B$9,IF(AF6=10,liste!$B$10,IF(AF6=11,liste!$B$11,IF(AF6=12,liste!$B$12,IF(AF6=13,liste!$B$13,IF(AF6=14,liste!$B$14,IF(AF6=15,liste!$B$15,IF(AF6=16,liste!$B$16,IF(AF6=17,liste!$B$17,IF(AF6=18,liste!$B$18,IF(AF6=19,liste!$B$19,IF(AF6=20,liste!$B$20,IF(AF6=21,liste!$B$21,IF(AF6=22,liste!$B$22,IF(AF6=23,liste!$B$23,IF(AF6=24,liste!$B$24,IF(AF6=25,liste!$B$25,IF(AF6=26,liste!$B$26,IF(AF6=27,liste!$B$27,IF(AF6=28,liste!$B$28,IF(AF6=29,liste!$B$29,IF(AF6>=30,'2'!AE6,"")))))))))))))))))))))))))))))) | AG6: =IF(AH6=1,liste!$F$1,IF(AH6=2,liste!$F$2,IF(AH6=3,liste!$F$3,IF(AH6=4,liste!$F$4,IF(AH6=5,liste!$F$5,IF(AH6=6,liste!$F$6,IF(AH6=7,liste!$F$7,IF(AH6=8,liste!$F$8,IF(AH6=9,liste!$F$9,IF(AH6=10,liste!$F$10,IF(AH6=11,liste!$F$11,IF(AH6=12,liste!$F$12,IF(AH6=13,liste!$F$13,IF(AH6=14,liste!$F$14,IF(AH6=15,liste!$F$15,IF(AH6=16,liste!$F$16,IF(AH6=17,liste!$F$17,IF(AH6=18,liste!$F$18,IF(AH6=19,liste!$F$19,IF(AH6=20,liste!$F$20,""))))))))))))))))))))
C7: =IF(D7=1,liste!$D$1,IF(D7=2,liste!$D$2,IF(D7=3,liste!$D$3,IF(D7=4,liste!$D$4,IF(D7=5,liste!$D$5,IF(D7=6,liste!$D$6,IF(D7=7,liste!$D$7,IF(D7=8,liste!$D$8,IF(D7=9,liste!$D$9,IF(D7=10,liste!$D$10,IF(D7=11,liste!$D$11,IF(D7=12,liste!$D$12,IF(D7=13,liste!$D$13,IF(D7=14,liste!$D$14,IF(D7=15,liste!$D$15,IF(D7=16,liste!$D$16,IF(D7=17,liste!$D$17,IF(D7=18,liste!$D$18,IF(D7=19,liste!$D$19,IF(D7=20,liste!$D$20,IF(D7=21,liste!$D$21,IF(D7=22,liste!$D$22,IF(D7=23,liste!$D$23,IF(D7=24,liste!$D$24,IF(D7=25,liste!$D$25,IF(D7=26,liste!$D$26,IF(D7=27,liste!$D$27,IF(D7=28,liste!$D$28,IF(D7=29,liste!$D$29,IF(D7>=30,'2'!C7,"")))))))))))))))))))))))))))))) | G7: =IF(H7=1,liste!$D$1,IF(H7=2,liste!$D$2,IF(H7=3,liste!$D$3,IF(H7=4,liste!$D$4,IF(H7=5,liste!$D$5,IF(H7=6,liste!$D$6,IF(H7=7,liste!$D$7,IF(H7=8,liste!$D$8,IF(H7=9,liste!$D$9,IF(H7=10,liste!$D$10,IF(H7=11,liste!$D$11,IF(H7=12,liste!$D$12,IF(H7=13,liste!$D$13,IF(H7=14,liste!$D$14,IF(H7=15,liste!$D$15,IF(H7=16,liste!$D$16,IF(H7=17,liste!$D$17,IF(H7=18,liste!$D$18,IF(H7=19,liste!$D$19,IF(H7=20,liste!$D$20,IF(H7=21,liste!$D$21,IF(H7=22,liste!$D$22,IF(H7=23,liste!$D$23,IF(H7=24,liste!$D$24,IF(H7=25,liste!$D$25,IF(H7=26,liste!$D$26,IF(H7=27,liste!$D$27,IF(H7=28,liste!$D$28,IF(H7=29,liste!$D$29,IF(H7>=30,'2'!G7,"")))))))))))))))))))))))))))))) | K7: =IF(L7=1,liste!$D$1,IF(L7=2,liste!$D$2,IF(L7=3,liste!$D$3,IF(L7=4,liste!$D$4,IF(L7=5,liste!$D$5,IF(L7=6,liste!$D$6,IF(L7=7,liste!$D$7,IF(L7=8,liste!$D$8,IF(L7=9,liste!$D$9,IF(L7=10,liste!$D$10,IF(L7=11,liste!$D$11,IF(L7=12,liste!$D$12,IF(L7=13,liste!$D$13,IF(L7=14,liste!$D$14,IF(L7=15,liste!$D$15,IF(L7=16,liste!$D$16,IF(L7=17,liste!$D$17,IF(L7=18,liste!$D$18,IF(L7=19,liste!$D$19,IF(L7=20,liste!$D$20,IF(L7=21,liste!$D$21,IF(L7=22,liste!$D$22,IF(L7=23,liste!$D$23,IF(L7=24,liste!$D$24,IF(L7=25,liste!$D$25,IF(L7=26,liste!$D$26,IF(L7=27,liste!$D$27,IF(L7=28,liste!$D$28,IF(L7=29,liste!$D$29,IF(L7>=30,'2'!K7,"")))))))))))))))))))))))))))))) | O7: =IF(P7=1,liste!$D$1,IF(P7=2,liste!$D$2,IF(P7=3,liste!$D$3,IF(P7=4,liste!$D$4,IF(P7=5,liste!$D$5,IF(P7=6,liste!$D$6,IF(P7=7,liste!$D$7,IF(P7=8,liste!$D$8,IF(P7=9,liste!$D$9,IF(P7=10,liste!$D$10,IF(P7=11,liste!$D$11,IF(P7=12,liste!$D$12,IF(P7=13,liste!$D$13,IF(P7=14,liste!$D$14,IF(P7=15,liste!$D$15,IF(P7=16,liste!$D$16,IF(P7=17,liste!$D$17,IF(P7=18,liste!$D$18,IF(P7=19,liste!$D$19,IF(P7=20,liste!$D$20,IF(P7=21,liste!$D$21,IF(P7=22,liste!$D$22,IF(P7=23,liste!$D$23,IF(P7=24,liste!$D$24,IF(P7=25,liste!$D$25,IF(P7=26,liste!$D$26,IF(P7=27,liste!$D$27,IF(P7=28,liste!$D$28,IF(P7=29,liste!$D$29,IF(P7>=30,'2'!O7,"")))))))))))))))))))))))))))))) | S7: =IF(T7=1,liste!$D$1,IF(T7=2,liste!$D$2,IF(T7=3,liste!$D$3,IF(T7=4,liste!$D$4,IF(T7=5,liste!$D$5,IF(T7=6,liste!$D$6,IF(T7=7,liste!$D$7,IF(T7=8,liste!$D$8,IF(T7=9,liste!$D$9,IF(T7=10,liste!$D$10,IF(T7=11,liste!$D$11,IF(T7=12,liste!$D$12,IF(T7=13,liste!$D$13,IF(T7=14,liste!$D$14,IF(T7=15,liste!$D$15,IF(T7=16,liste!$D$16,IF(T7=17,liste!$D$17,IF(T7=18,liste!$D$18,IF(T7=19,liste!$D$19,IF(T7=20,liste!$D$20,IF(T7=21,liste!$D$21,IF(T7=22,liste!$D$22,IF(T7=23,liste!$D$23,IF(T7=24,liste!$D$24,IF(T7=25,liste!$D$25,IF(T7=26,liste!$D$26,IF(T7=27,liste!$D$27,IF(T7=28,liste!$D$28,IF(T7=29,liste!$D$29,IF(T7>=30,'2'!S7,"")))))))))))))))))))))))))))))) | W7: =IF(X7=1,liste!$D$1,IF(X7=2,liste!$D$2,IF(X7=3,liste!$D$3,IF(X7=4,liste!$D$4,IF(X7=5,liste!$D$5,IF(X7=6,liste!$D$6,IF(X7=7,liste!$D$7,IF(X7=8,liste!$D$8,IF(X7=9,liste!$D$9,IF(X7=10,liste!$D$10,IF(X7=11,liste!$D$11,IF(X7=12,liste!$D$12,IF(X7=13,liste!$D$13,IF(X7=14,liste!$D$14,IF(X7=15,liste!$D$15,IF(X7=16,liste!$D$16,IF(X7=17,liste!$D$17,IF(X7=18,liste!$D$18,IF(X7=19,liste!$D$19,IF(X7=20,liste!$D$20,IF(X7=21,liste!$D$21,IF(X7=22,liste!$D$22,IF(X7=23,liste!$D$23,IF(X7=24,liste!$D$24,IF(X7=25,liste!$D$25,IF(X7=26,liste!$D$26,IF(X7=27,liste!$D$27,IF(X7=28,liste!$D$28,IF(X7=29,liste!$D$29,IF(X7>=30,'2'!W7,"")))))))))))))))))))))))))))))) | AA7: =IF(AB7=1,liste!$D$1,IF(AB7=2,liste!$D$2,IF(AB7=3,liste!$D$3,IF(AB7=4,liste!$D$4,IF(AB7=5,liste!$D$5,IF(AB7=6,liste!$D$6,IF(AB7=7,liste!$D$7,IF(AB7=8,liste!$D$8,IF(AB7=9,liste!$D$9,IF(AB7=10,liste!$D$10,IF(AB7=11,liste!$D$11,IF(AB7=12,liste!$D$12,IF(AB7=13,liste!$D$13,IF(AB7=14,liste!$D$14,IF(AB7=15,liste!$D$15,IF(AB7=16,liste!$D$16,IF(AB7=17,liste!$D$17,IF(AB7=18,liste!$D$18,IF(AB7=19,liste!$D$19,IF(AB7=20,liste!$D$20,IF(AB7=21,liste!$D$21,IF(AB7=22,liste!$D$22,IF(AB7=23,liste!$D$23,IF(AB7=24,liste!$D$24,IF(AB7=25,liste!$D$25,IF(AB7=26,liste!$D$26,IF(AB7=27,liste!$D$27,IF(AB7=28,liste!$D$28,IF(AB7=29,liste!$D$29,IF(AB7>=30,'2'!AA7,"")))))))))))))))))))))))))))))) | AE7: =IF(AF7=1,liste!$D$1,IF(AF7=2,liste!$D$2,IF(AF7=3,liste!$D$3,IF(AF7=4,liste!$D$4,IF(AF7=5,liste!$D$5,IF(AF7=6,liste!$D$6,IF(AF7=7,liste!$D$7,IF(AF7=8,liste!$D$8,IF(AF7=9,liste!$D$9,IF(AF7=10,liste!$D$10,IF(AF7=11,liste!$D$11,IF(AF7=12,liste!$D$12,IF(AF7=13,liste!$D$13,IF(AF7=14,liste!$D$14,IF(AF7=15,liste!$D$15,IF(AF7=16,liste!$D$16,IF(AF7=17,liste!$D$17,IF(AF7=18,liste!$D$18,IF(AF7=19,liste!$D$19,IF(AF7=20,liste!$D$20,IF(AF7=21,liste!$D$21,IF(AF7=22,liste!$D$22,IF(AF7=23,liste!$D$23,IF(AF7=24,liste!$D$24,IF(AF7=25,liste!$D$25,IF(AF7=26,liste!$D$26,IF(AF7=27,liste!$D$27,IF(AF7=28,liste!$D$28,IF(AF7=29,liste!$D$29,IF(AF7>=30,'2'!AE7,""))))))))))))))))))))))))))))))
B8: =liste!I2 -> 13:30-14:20 | C8: =IF(D8=1,liste!$B$1,IF(D8=2,liste!$B$2,IF(D8=3,liste!$B$3,IF(D8=4,liste!$B$4,IF(D8=5,liste!$B$5,IF(D8=6,liste!$B$6,IF(D8=7,liste!$B$7,IF(D8=8,liste!$B$8,IF(D8=9,liste!$B$9,IF(D8=10,liste!$B$10,IF(D8=11,liste!$B$11,IF(D8=12,liste!$B$12,IF(D8=13,liste!$B$13,IF(D8=14,liste!$B$14,IF(D8=15,liste!$B$15,IF(D8=16,liste!$B$16,IF(D8=17,liste!$B$17,IF(D8=18,liste!$B$18,IF(D8=19,liste!$B$19,IF(D8=20,liste!$B$20,IF(D8=21,liste!$B$21,IF(D8=22,liste!$B$22,IF(D8=23,liste!$B$23,IF(D8=24,liste!$B$24,IF(D8=25,liste!$B$25,IF(D8=26,liste!$B$26,IF(D8=27,liste!$B$27,IF(D8=28,liste!$B$28,IF(D8=29,liste!$B$29,IF(D8>=30,'2'!C8,"")))))))))))))))))))))))))))))) | E8: =IF(F8=1,liste!$F$1,IF(F8=2,liste!$F$2,IF(F8=3,liste!$F$3,IF(F8=4,liste!$F$4,IF(F8=5,liste!$F$5,IF(F8=6,liste!$F$6,IF(F8=7,liste!$F$7,IF(F8=8,liste!$F$8,IF(F8=9,liste!$F$9,IF(F8=10,liste!$F$10,IF(F8=11,liste!$F$11,IF(F8=12,liste!$F$12,IF(F8=13,liste!$F$13,IF(F8=14,liste!$F$14,IF(F8=15,liste!$F$15,IF(F8=16,liste!$F$16,IF(F8=17,liste!$F$17,IF(F8=18,liste!$F$18,IF(F8=19,liste!$F$19,IF(F8=20,liste!$F$20,"")))))))))))))))))))) | G8: =IF(H8=1,liste!$B$1,IF(H8=2,liste!$B$2,IF(H8=3,liste!$B$3,IF(H8=4,liste!$B$4,IF(H8=5,liste!$B$5,IF(H8=6,liste!$B$6,IF(H8=7,liste!$B$7,IF(H8=8,liste!$B$8,IF(H8=9,liste!$B$9,IF(H8=10,liste!$B$10,IF(H8=11,liste!$B$11,IF(H8=12,liste!$B$12,IF(H8=13,liste!$B$13,IF(H8=14,liste!$B$14,IF(H8=15,liste!$B$15,IF(H8=16,liste!$B$16,IF(H8=17,liste!$B$17,IF(H8=18,liste!$B$18,IF(H8=19,liste!$B$19,IF(H8=20,liste!$B$20,IF(H8=21,liste!$B$21,IF(H8=22,liste!$B$22,IF(H8=23,liste!$B$23,IF(H8=24,liste!$B$24,IF(H8=25,liste!$B$25,IF(H8=26,liste!$B$26,IF(H8=27,liste!$B$27,IF(H8=28,liste!$B$28,IF(H8=29,liste!$B$29,IF(H8>=30,'2'!G8,"")))))))))))))))))))))))))))))) | I8: =IF(J8=1,liste!$F$1,IF(J8=2,liste!$F$2,IF(J8=3,liste!$F$3,IF(J8=4,liste!$F$4,IF(J8=5,liste!$F$5,IF(J8=6,liste!$F$6,IF(J8=7,liste!$F$7,IF(J8=8,liste!$F$8,IF(J8=9,liste!$F$9,IF(J8=10,liste!$F$10,IF(J8=11,liste!$F$11,IF(J8=12,liste!$F$12,IF(J8=13,liste!$F$13,IF(J8=14,liste!$F$14,IF(J8=15,liste!$F$15,IF(J8=16,liste!$F$16,IF(J8=17,liste!$F$17,IF(J8=18,liste!$F$18,IF(J8=19,liste!$F$19,IF(J8=20,liste!$F$20,"")))))))))))))))))))) | K8: =IF(L8=1,liste!$B$1,IF(L8=2,liste!$B$2,IF(L8=3,liste!$B$3,IF(L8=4,liste!$B$4,IF(L8=5,liste!$B$5,IF(L8=6,liste!$B$6,IF(L8=7,liste!$B$7,IF(L8=8,liste!$B$8,IF(L8=9,liste!$B$9,IF(L8=10,liste!$B$10,IF(L8=11,liste!$B$11,IF(L8=12,liste!$B$12,IF(L8=13,liste!$B$13,IF(L8=14,liste!$B$14,IF(L8=15,liste!$B$15,IF(L8=16,liste!$B$16,IF(L8=17,liste!$B$17,IF(L8=18,liste!$B$18,IF(L8=19,liste!$B$19,IF(L8=20,liste!$B$20,IF(L8=21,liste!$B$21,IF(L8=22,liste!$B$22,IF(L8=23,liste!$B$23,IF(L8=24,liste!$B$24,IF(L8=25,liste!$B$25,IF(L8=26,liste!$B$26,IF(L8=27,liste!$B$27,IF(L8=28,liste!$B$28,IF(L8=29,liste!$B$29,IF(L8>=30,'2'!K8,"")))))))))))))))))))))))))))))) | M8: =IF(N8=1,liste!$F$1,IF(N8=2,liste!$F$2,IF(N8=3,liste!$F$3,IF(N8=4,liste!$F$4,IF(N8=5,liste!$F$5,IF(N8=6,liste!$F$6,IF(N8=7,liste!$F$7,IF(N8=8,liste!$F$8,IF(N8=9,liste!$F$9,IF(N8=10,liste!$F$10,IF(N8=11,liste!$F$11,IF(N8=12,liste!$F$12,IF(N8=13,liste!$F$13,IF(N8=14,liste!$F$14,IF(N8=15,liste!$F$15,IF(N8=16,liste!$F$16,IF(N8=17,liste!$F$17,IF(N8=18,liste!$F$18,IF(N8=19,liste!$F$19,IF(N8=20,liste!$F$20,"")))))))))))))))))))) | O8: =IF(P8=1,liste!$B$1,IF(P8=2,liste!$B$2,IF(P8=3,liste!$B$3,IF(P8=4,liste!$B$4,IF(P8=5,liste!$B$5,IF(P8=6,liste!$B$6,IF(P8=7,liste!$B$7,IF(P8=8,liste!$B$8,IF(P8=9,liste!$B$9,IF(P8=10,liste!$B$10,IF(P8=11,liste!$B$11,IF(P8=12,liste!$B$12,IF(P8=13,liste!$B$13,IF(P8=14,liste!$B$14,IF(P8=15,liste!$B$15,IF(P8=16,liste!$B$16,IF(P8=17,liste!$B$17,IF(P8=18,liste!$B$18,IF(P8=19,liste!$B$19,IF(P8=20,liste!$B$20,IF(P8=21,liste!$B$21,IF(P8=22,liste!$B$22,IF(P8=23,liste!$B$23,IF(P8=24,liste!$B$24,IF(P8=25,liste!$B$25,IF(P8=26,liste!$B$26,IF(P8=27,liste!$B$27,IF(P8=28,liste!$B$28,IF(P8=29,liste!$B$29,IF(P8>=30,'2'!O8,"")))))))))))))))))))))))))))))) | Q8: =IF(R8=1,liste!$F$1,IF(R8=2,liste!$F$2,IF(R8=3,liste!$F$3,IF(R8=4,liste!$F$4,IF(R8=5,liste!$F$5,IF(R8=6,liste!$F$6,IF(R8=7,liste!$F$7,IF(R8=8,liste!$F$8,IF(R8=9,liste!$F$9,IF(R8=10,liste!$F$10,IF(R8=11,liste!$F$11,IF(R8=12,liste!$F$12,IF(R8=13,liste!$F$13,IF(R8=14,liste!$F$14,IF(R8=15,liste!$F$15,IF(R8=16,liste!$F$16,IF(R8=17,liste!$F$17,IF(R8=18,liste!$F$18,IF(R8=19,liste!$F$19,IF(R8=20,liste!$F$20,"")))))))))))))))))))) | S8: =IF(T8=1,liste!$B$1,IF(T8=2,liste!$B$2,IF(T8=3,liste!$B$3,IF(T8=4,liste!$B$4,IF(T8=5,liste!$B$5,IF(T8=6,liste!$B$6,IF(T8=7,liste!$B$7,IF(T8=8,liste!$B$8,IF(T8=9,liste!$B$9,IF(T8=10,liste!$B$10,IF(T8=11,liste!$B$11,IF(T8=12,liste!$B$12,IF(T8=13,liste!$B$13,IF(T8=14,liste!$B$14,IF(T8=15,liste!$B$15,IF(T8=16,liste!$B$16,IF(T8=17,liste!$B$17,IF(T8=18,liste!$B$18,IF(T8=19,liste!$B$19,IF(T8=20,liste!$B$20,IF(T8=21,liste!$B$21,IF(T8=22,liste!$B$22,IF(T8=23,liste!$B$23,IF(T8=24,liste!$B$24,IF(T8=25,liste!$B$25,IF(T8=26,liste!$B$26,IF(T8=27,liste!$B$27,IF(T8=28,liste!$B$28,IF(T8=29,liste!$B$29,IF(T8>=30,'2'!S8,"")))))))))))))))))))))))))))))) | U8: =IF(V8=1,liste!$F$1,IF(V8=2,liste!$F$2,IF(V8=3,liste!$F$3,IF(V8=4,liste!$F$4,IF(V8=5,liste!$F$5,IF(V8=6,liste!$F$6,IF(V8=7,liste!$F$7,IF(V8=8,liste!$F$8,IF(V8=9,liste!$F$9,IF(V8=10,liste!$F$10,IF(V8=11,liste!$F$11,IF(V8=12,liste!$F$12,IF(V8=13,liste!$F$13,IF(V8=14,liste!$F$14,IF(V8=15,liste!$F$15,IF(V8=16,liste!$F$16,IF(V8=17,liste!$F$17,IF(V8=18,liste!$F$18,IF(V8=19,liste!$F$19,IF(V8=20,liste!$F$20,"")))))))))))))))))))) | W8: =IF(X8=1,liste!$B$1,IF(X8=2,liste!$B$2,IF(X8=3,liste!$B$3,IF(X8=4,liste!$B$4,IF(X8=5,liste!$B$5,IF(X8=6,liste!$B$6,IF(X8=7,liste!$B$7,IF(X8=8,liste!$B$8,IF(X8=9,liste!$B$9,IF(X8=10,liste!$B$10,IF(X8=11,liste!$B$11,IF(X8=12,liste!$B$12,IF(X8=13,liste!$B$13,IF(X8=14,liste!$B$14,IF(X8=15,liste!$B$15,IF(X8=16,liste!$B$16,IF(X8=17,liste!$B$17,IF(X8=18,liste!$B$18,IF(X8=19,liste!$B$19,IF(X8=20,liste!$B$20,IF(X8=21,liste!$B$21,IF(X8=22,liste!$B$22,IF(X8=23,liste!$B$23,IF(X8=24,liste!$B$24,IF(X8=25,liste!$B$25,IF(X8=26,liste!$B$26,IF(X8=27,liste!$B$27,IF(X8=28,liste!$B$28,IF(X8=29,liste!$B$29,IF(X8>=30,'2'!W8,"")))))))))))))))))))))))))))))) | Y8: =IF(Z8=1,liste!$F$1,IF(Z8=2,liste!$F$2,IF(Z8=3,liste!$F$3,IF(Z8=4,liste!$F$4,IF(Z8=5,liste!$F$5,IF(Z8=6,liste!$F$6,IF(Z8=7,liste!$F$7,IF(Z8=8,liste!$F$8,IF(Z8=9,liste!$F$9,IF(Z8=10,liste!$F$10,IF(Z8=11,liste!$F$11,IF(Z8=12,liste!$F$12,IF(Z8=13,liste!$F$13,IF(Z8=14,liste!$F$14,IF(Z8=15,liste!$F$15,IF(Z8=16,liste!$F$16,IF(Z8=17,liste!$F$17,IF(Z8=18,liste!$F$18,IF(Z8=19,liste!$F$19,IF(Z8=20,liste!$F$20,"")))))))))))))))))))) | AA8: =IF(AB8=1,liste!$B$1,IF(AB8=2,liste!$B$2,IF(AB8=3,liste!$B$3,IF(AB8=4,liste!$B$4,IF(AB8=5,liste!$B$5,IF(AB8=6,liste!$B$6,IF(AB8=7,liste!$B$7,IF(AB8=8,liste!$B$8,IF(AB8=9,liste!$B$9,IF(AB8=10,liste!$B$10,IF(AB8=11,liste!$B$11,IF(AB8=12,liste!$B$12,IF(AB8=13,liste!$B$13,IF(AB8=14,liste!$B$14,IF(AB8=15,liste!$B$15,IF(AB8=16,liste!$B$16,IF(AB8=17,liste!$B$17,IF(AB8=18,liste!$B$18,IF(AB8=19,liste!$B$19,IF(AB8=20,liste!$B$20,IF(AB8=21,liste!$B$21,IF(AB8=22,liste!$B$22,IF(AB8=23,liste!$B$23,IF(AB8=24,liste!$B$24,IF(AB8=25,liste!$B$25,IF(AB8=26,liste!$B$26,IF(AB8=27,liste!$B$27,IF(AB8=28,liste!$B$28,IF(AB8=29,liste!$B$29,IF(AB8>=30,'2'!AA8,"")))))))))))))))))))))))))))))) | AC8: =IF(AD8=1,liste!$F$1,IF(AD8=2,liste!$F$2,IF(AD8=3,liste!$F$3,IF(AD8=4,liste!$F$4,IF(AD8=5,liste!$F$5,IF(AD8=6,liste!$F$6,IF(AD8=7,liste!$F$7,IF(AD8=8,liste!$F$8,IF(AD8=9,liste!$F$9,IF(AD8=10,liste!$F$10,IF(AD8=11,liste!$F$11,IF(AD8=12,liste!$F$12,IF(AD8=13,liste!$F$13,IF(AD8=14,liste!$F$14,IF(AD8=15,liste!$F$15,IF(AD8=16,liste!$F$16,IF(AD8=17,liste!$F$17,IF(AD8=18,liste!$F$18,IF(AD8=19,liste!$F$19,IF(AD8=20,liste!$F$20,"")))))))))))))))))))) | AE8: =IF(AF8=1,liste!$B$1,IF(AF8=2,liste!$B$2,IF(AF8=3,liste!$B$3,IF(AF8=4,liste!$B$4,IF(AF8=5,liste!$B$5,IF(AF8=6,liste!$B$6,IF(AF8=7,liste!$B$7,IF(AF8=8,liste!$B$8,IF(AF8=9,liste!$B$9,IF(AF8=10,liste!$B$10,IF(AF8=11,liste!$B$11,IF(AF8=12,liste!$B$12,IF(AF8=13,liste!$B$13,IF(AF8=14,liste!$B$14,IF(AF8=15,liste!$B$15,IF(AF8=16,liste!$B$16,IF(AF8=17,liste!$B$17,IF(AF8=18,liste!$B$18,IF(AF8=19,liste!$B$19,IF(AF8=20,liste!$B$20,IF(AF8=21,liste!$B$21,IF(AF8=22,liste!$B$22,IF(AF8=23,liste!$B$23,IF(AF8=24,liste!$B$24,IF(AF8=25,liste!$B$25,IF(AF8=26,liste!$B$26,IF(AF8=27,liste!$B$27,IF(AF8=28,liste!$B$28,IF(AF8=29,liste!$B$29,IF(AF8>=30,'2'!AE8,"")))))))))))))))))))))))))))))) | AG8: =IF(AH8=1,liste!$F$1,IF(AH8=2,liste!$F$2,IF(AH8=3,liste!$F$3,IF(AH8=4,liste!$F$4,IF(AH8=5,liste!$F$5,IF(AH8=6,liste!$F$6,IF(AH8=7,liste!$F$7,IF(AH8=8,liste!$F$8,IF(AH8=9,liste!$F$9,IF(AH8=10,liste!$F$10,IF(AH8=11,liste!$F$11,IF(AH8=12,liste!$F$12,IF(AH8=13,liste!$F$13,IF(AH8=14,liste!$F$14,IF(AH8=15,liste!$F$15,IF(AH8=16,liste!$F$16,IF(AH8=17,liste!$F$17,IF(AH8=18,liste!$F$18,IF(AH8=19,liste!$F$19,IF(AH8=20,liste!$F$20,""))))))))))))))))))))
C9: =IF(D9=1,liste!$D$1,IF(D9=2,liste!$D$2,IF(D9=3,liste!$D$3,IF(D9=4,liste!$D$4,IF(D9=5,liste!$D$5,IF(D9=6,liste!$D$6,IF(D9=7,liste!$D$7,IF(D9=8,liste!$D$8,IF(D9=9,liste!$D$9,IF(D9=10,liste!$D$10,IF(D9=11,liste!$D$11,IF(D9=12,liste!$D$12,IF(D9=13,liste!$D$13,IF(D9=14,liste!$D$14,IF(D9=15,liste!$D$15,IF(D9=16,liste!$D$16,IF(D9=17,liste!$D$17,IF(D9=18,liste!$D$18,IF(D9=19,liste!$D$19,IF(D9=20,liste!$D$20,IF(D9=21,liste!$D$21,IF(D9=22,liste!$D$22,IF(D9=23,liste!$D$23,IF(D9=24,liste!$D$24,IF(D9=25,liste!$D$25,IF(D9=26,liste!$D$26,IF(D9=27,liste!$D$27,IF(D9=28,liste!$D$28,IF(D9=29,liste!$D$29,IF(D9>=30,'2'!C9,"")))))))))))))))))))))))))))))) | G9: =IF(H9=1,liste!$D$1,IF(H9=2,liste!$D$2,IF(H9=3,liste!$D$3,IF(H9=4,liste!$D$4,IF(H9=5,liste!$D$5,IF(H9=6,liste!$D$6,IF(H9=7,liste!$D$7,IF(H9=8,liste!$D$8,IF(H9=9,liste!$D$9,IF(H9=10,liste!$D$10,IF(H9=11,liste!$D$11,IF(H9=12,liste!$D$12,IF(H9=13,liste!$D$13,IF(H9=14,liste!$D$14,IF(H9=15,liste!$D$15,IF(H9=16,liste!$D$16,IF(H9=17,liste!$D$17,IF(H9=18,liste!$D$18,IF(H9=19,liste!$D$19,IF(H9=20,liste!$D$20,IF(H9=21,liste!$D$21,IF(H9=22,liste!$D$22,IF(H9=23,liste!$D$23,IF(H9=24,liste!$D$24,IF(H9=25,liste!$D$25,IF(H9=26,liste!$D$26,IF(H9=27,liste!$D$27,IF(H9=28,liste!$D$28,IF(H9=29,liste!$D$29,IF(H9>=30,'2'!G9,"")))))))))))))))))))))))))))))) | K9: =IF(L9=1,liste!$D$1,IF(L9=2,liste!$D$2,IF(L9=3,liste!$D$3,IF(L9=4,liste!$D$4,IF(L9=5,liste!$D$5,IF(L9=6,liste!$D$6,IF(L9=7,liste!$D$7,IF(L9=8,liste!$D$8,IF(L9=9,liste!$D$9,IF(L9=10,liste!$D$10,IF(L9=11,liste!$D$11,IF(L9=12,liste!$D$12,IF(L9=13,liste!$D$13,IF(L9=14,liste!$D$14,IF(L9=15,liste!$D$15,IF(L9=16,liste!$D$16,IF(L9=17,liste!$D$17,IF(L9=18,liste!$D$18,IF(L9=19,liste!$D$19,IF(L9=20,liste!$D$20,IF(L9=21,liste!$D$21,IF(L9=22,liste!$D$22,IF(L9=23,liste!$D$23,IF(L9=24,liste!$D$24,IF(L9=25,liste!$D$25,IF(L9=26,liste!$D$26,IF(L9=27,liste!$D$27,IF(L9=28,liste!$D$28,IF(L9=29,liste!$D$29,IF(L9>=30,'2'!K9,"")))))))))))))))))))))))))))))) | O9: =IF(P9=1,liste!$D$1,IF(P9=2,liste!$D$2,IF(P9=3,liste!$D$3,IF(P9=4,liste!$D$4,IF(P9=5,liste!$D$5,IF(P9=6,liste!$D$6,IF(P9=7,liste!$D$7,IF(P9=8,liste!$D$8,IF(P9=9,liste!$D$9,IF(P9=10,liste!$D$10,IF(P9=11,liste!$D$11,IF(P9=12,liste!$D$12,IF(P9=13,liste!$D$13,IF(P9=14,liste!$D$14,IF(P9=15,liste!$D$15,IF(P9=16,liste!$D$16,IF(P9=17,liste!$D$17,IF(P9=18,liste!$D$18,IF(P9=19,liste!$D$19,IF(P9=20,liste!$D$20,IF(P9=21,liste!$D$21,IF(P9=22,liste!$D$22,IF(P9=23,liste!$D$23,IF(P9=24,liste!$D$24,IF(P9=25,liste!$D$25,IF(P9=26,liste!$D$26,IF(P9=27,liste!$D$27,IF(P9=28,liste!$D$28,IF(P9=29,liste!$D$29,IF(P9>=30,'2'!O9,"")))))))))))))))))))))))))))))) | S9: =IF(T9=1,liste!$D$1,IF(T9=2,liste!$D$2,IF(T9=3,liste!$D$3,IF(T9=4,liste!$D$4,IF(T9=5,liste!$D$5,IF(T9=6,liste!$D$6,IF(T9=7,liste!$D$7,IF(T9=8,liste!$D$8,IF(T9=9,liste!$D$9,IF(T9=10,liste!$D$10,IF(T9=11,liste!$D$11,IF(T9=12,liste!$D$12,IF(T9=13,liste!$D$13,IF(T9=14,liste!$D$14,IF(T9=15,liste!$D$15,IF(T9=16,liste!$D$16,IF(T9=17,liste!$D$17,IF(T9=18,liste!$D$18,IF(T9=19,liste!$D$19,IF(T9=20,liste!$D$20,IF(T9=21,liste!$D$21,IF(T9=22,liste!$D$22,IF(T9=23,liste!$D$23,IF(T9=24,liste!$D$24,IF(T9=25,liste!$D$25,IF(T9=26,liste!$D$26,IF(T9=27,liste!$D$27,IF(T9=28,liste!$D$28,IF(T9=29,liste!$D$29,IF(T9>=30,'2'!S9,"")))))))))))))))))))))))))))))) | W9: =IF(X9=1,liste!$D$1,IF(X9=2,liste!$D$2,IF(X9=3,liste!$D$3,IF(X9=4,liste!$D$4,IF(X9=5,liste!$D$5,IF(X9=6,liste!$D$6,IF(X9=7,liste!$D$7,IF(X9=8,liste!$D$8,IF(X9=9,liste!$D$9,IF(X9=10,liste!$D$10,IF(X9=11,liste!$D$11,IF(X9=12,liste!$D$12,IF(X9=13,liste!$D$13,IF(X9=14,liste!$D$14,IF(X9=15,liste!$D$15,IF(X9=16,liste!$D$16,IF(X9=17,liste!$D$17,IF(X9=18,liste!$D$18,IF(X9=19,liste!$D$19,IF(X9=20,liste!$D$20,IF(X9=21,liste!$D$21,IF(X9=22,liste!$D$22,IF(X9=23,liste!$D$23,IF(X9=24,liste!$D$24,IF(X9=25,liste!$D$25,IF(X9=26,liste!$D$26,IF(X9=27,liste!$D$27,IF(X9=28,liste!$D$28,IF(X9=29,liste!$D$29,IF(X9>=30,'2'!W9,"")))))))))))))))))))))))))))))) | AA9: =IF(AB9=1,liste!$D$1,IF(AB9=2,liste!$D$2,IF(AB9=3,liste!$D$3,IF(AB9=4,liste!$D$4,IF(AB9=5,liste!$D$5,IF(AB9=6,liste!$D$6,IF(AB9=7,liste!$D$7,IF(AB9=8,liste!$D$8,IF(AB9=9,liste!$D$9,IF(AB9=10,liste!$D$10,IF(AB9=11,liste!$D$11,IF(AB9=12,liste!$D$12,IF(AB9=13,liste!$D$13,IF(AB9=14,liste!$D$14,IF(AB9=15,liste!$D$15,IF(AB9=16,liste!$D$16,IF(AB9=17,liste!$D$17,IF(AB9=18,liste!$D$18,IF(AB9=19,liste!$D$19,IF(AB9=20,liste!$D$20,IF(AB9=21,liste!$D$21,IF(AB9=22,liste!$D$22,IF(AB9=23,liste!$D$23,IF(AB9=24,liste!$D$24,IF(AB9=25,liste!$D$25,IF(AB9=26,liste!$D$26,IF(AB9=27,liste!$D$27,IF(AB9=28,liste!$D$28,IF(AB9=29,liste!$D$29,IF(AB9>=30,'2'!AA9,"")))))))))))))))))))))))))))))) | AE9: =IF(AF9=1,liste!$D$1,IF(AF9=2,liste!$D$2,IF(AF9=3,liste!$D$3,IF(AF9=4,liste!$D$4,IF(AF9=5,liste!$D$5,IF(AF9=6,liste!$D$6,IF(AF9=7,liste!$D$7,IF(AF9=8,liste!$D$8,IF(AF9=9,liste!$D$9,IF(AF9=10,liste!$D$10,IF(AF9=11,liste!$D$11,IF(AF9=12,liste!$D$12,IF(AF9=13,liste!$D$13,IF(AF9=14,liste!$D$14,IF(AF9=15,liste!$D$15,IF(AF9=16,liste!$D$16,IF(AF9=17,liste!$D$17,IF(AF9=18,liste!$D$18,IF(AF9=19,liste!$D$19,IF(AF9=20,liste!$D$20,IF(AF9=21,liste!$D$21,IF(AF9=22,liste!$D$22,IF(AF9=23,liste!$D$23,IF(AF9=24,liste!$D$24,IF(AF9=25,liste!$D$25,IF(AF9=26,liste!$D$26,IF(AF9=27,liste!$D$27,IF(AF9=28,liste!$D$28,IF(AF9=29,liste!$D$29,IF(AF9>=30,'2'!AE9,""))))))))))))))))))))))))))))))
B10: =liste!I3 -> 14:30-15:20 | C10: =IF(D10=1,liste!$B$1,IF(D10=2,liste!$B$2,IF(D10=3,liste!$B$3,IF(D10=4,liste!$B$4,IF(D10=5,liste!$B$5,IF(D10=6,liste!$B$6,IF(D10=7,liste!$B$7,IF(D10=8,liste!$B$8,IF(D10=9,liste!$B$9,IF(D10=10,liste!$B$10,IF(D10=11,liste!$B$11,IF(D10=12,liste!$B$12,IF(D10=13,liste!$B$13,IF(D10=14,liste!$B$14,IF(D10=15,liste!$B$15,IF(D10=16,liste!$B$16,IF(D10=17,liste!$B$17,IF(D10=18,liste!$B$18,IF(D10=19,liste!$B$19,IF(D10=20,liste!$B$20,IF(D10=21,liste!$B$21,IF(D10=22,liste!$B$22,IF(D10=23,liste!$B$23,IF(D10=24,liste!$B$24,IF(D10=25,liste!$B$25,IF(D10=26,liste!$B$26,IF(D10=27,liste!$B$27,IF(D10=28,liste!$B$28,IF(D10=29,liste!$B$29,IF(D10>=30,'2'!C10,"")))))))))))))))))))))))))))))) | E10: =IF(F10=1,liste!$F$1,IF(F10=2,liste!$F$2,IF(F10=3,liste!$F$3,IF(F10=4,liste!$F$4,IF(F10=5,liste!$F$5,IF(F10=6,liste!$F$6,IF(F10=7,liste!$F$7,IF(F10=8,liste!$F$8,IF(F10=9,liste!$F$9,IF(F10=10,liste!$F$10,IF(F10=11,liste!$F$11,IF(F10=12,liste!$F$12,IF(F10=13,liste!$F$13,IF(F10=14,liste!$F$14,IF(F10=15,liste!$F$15,IF(F10=16,liste!$F$16,IF(F10=17,liste!$F$17,IF(F10=18,liste!$F$18,IF(F10=19,liste!$F$19,IF(F10=20,liste!$F$20,"")))))))))))))))))))) | G10: =IF(H10=1,liste!$B$1,IF(H10=2,liste!$B$2,IF(H10=3,liste!$B$3,IF(H10=4,liste!$B$4,IF(H10=5,liste!$B$5,IF(H10=6,liste!$B$6,IF(H10=7,liste!$B$7,IF(H10=8,liste!$B$8,IF(H10=9,liste!$B$9,IF(H10=10,liste!$B$10,IF(H10=11,liste!$B$11,IF(H10=12,liste!$B$12,IF(H10=13,liste!$B$13,IF(H10=14,liste!$B$14,IF(H10=15,liste!$B$15,IF(H10=16,liste!$B$16,IF(H10=17,liste!$B$17,IF(H10=18,liste!$B$18,IF(H10=19,liste!$B$19,IF(H10=20,liste!$B$20,IF(H10=21,liste!$B$21,IF(H10=22,liste!$B$22,IF(H10=23,liste!$B$23,IF(H10=24,liste!$B$24,IF(H10=25,liste!$B$25,IF(H10=26,liste!$B$26,IF(H10=27,liste!$B$27,IF(H10=28,liste!$B$28,IF(H10=29,liste!$B$29,IF(H10>=30,'2'!G10,"")))))))))))))))))))))))))))))) | I10: =IF(J10=1,liste!$F$1,IF(J10=2,liste!$F$2,IF(J10=3,liste!$F$3,IF(J10=4,liste!$F$4,IF(J10=5,liste!$F$5,IF(J10=6,liste!$F$6,IF(J10=7,liste!$F$7,IF(J10=8,liste!$F$8,IF(J10=9,liste!$F$9,IF(J10=10,liste!$F$10,IF(J10=11,liste!$F$11,IF(J10=12,liste!$F$12,IF(J10=13,liste!$F$13,IF(J10=14,liste!$F$14,IF(J10=15,liste!$F$15,IF(J10=16,liste!$F$16,IF(J10=17,liste!$F$17,IF(J10=18,liste!$F$18,IF(J10=19,liste!$F$19,IF(J10=20,liste!$F$20,"")))))))))))))))))))) | K10: =IF(L10=1,liste!$B$1,IF(L10=2,liste!$B$2,IF(L10=3,liste!$B$3,IF(L10=4,liste!$B$4,IF(L10=5,liste!$B$5,IF(L10=6,liste!$B$6,IF(L10=7,liste!$B$7,IF(L10=8,liste!$B$8,IF(L10=9,liste!$B$9,IF(L10=10,liste!$B$10,IF(L10=11,liste!$B$11,IF(L10=12,liste!$B$12,IF(L10=13,liste!$B$13,IF(L10=14,liste!$B$14,IF(L10=15,liste!$B$15,IF(L10=16,liste!$B$16,IF(L10=17,liste!$B$17,IF(L10=18,liste!$B$18,IF(L10=19,liste!$B$19,IF(L10=20,liste!$B$20,IF(L10=21,liste!$B$21,IF(L10=22,liste!$B$22,IF(L10=23,liste!$B$23,IF(L10=24,liste!$B$24,IF(L10=25,liste!$B$25,IF(L10=26,liste!$B$26,IF(L10=27,liste!$B$27,IF(L10=28,liste!$B$28,IF(L10=29,liste!$B$29,IF(L10>=30,'2'!K10,"")))))))))))))))))))))))))))))) | M10: =IF(N10=1,liste!$F$1,IF(N10=2,liste!$F$2,IF(N10=3,liste!$F$3,IF(N10=4,liste!$F$4,IF(N10=5,liste!$F$5,IF(N10=6,liste!$F$6,IF(N10=7,liste!$F$7,IF(N10=8,liste!$F$8,IF(N10=9,liste!$F$9,IF(N10=10,liste!$F$10,IF(N10=11,liste!$F$11,IF(N10=12,liste!$F$12,IF(N10=13,liste!$F$13,IF(N10=14,liste!$F$14,IF(N10=15,liste!$F$15,IF(N10=16,liste!$F$16,IF(N10=17,liste!$F$17,IF(N10=18,liste!$F$18,IF(N10=19,liste!$F$19,IF(N10=20,liste!$F$20,"")))))))))))))))))))) | O10: =IF(P10=1,liste!$B$1,IF(P10=2,liste!$B$2,IF(P10=3,liste!$B$3,IF(P10=4,liste!$B$4,IF(P10=5,liste!$B$5,IF(P10=6,liste!$B$6,IF(P10=7,liste!$B$7,IF(P10=8,liste!$B$8,IF(P10=9,liste!$B$9,IF(P10=10,liste!$B$10,IF(P10=11,liste!$B$11,IF(P10=12,liste!$B$12,IF(P10=13,liste!$B$13,IF(P10=14,liste!$B$14,IF(P10=15,liste!$B$15,IF(P10=16,liste!$B$16,IF(P10=17,liste!$B$17,IF(P10=18,liste!$B$18,IF(P10=19,liste!$B$19,IF(P10=20,liste!$B$20,IF(P10=21,liste!$B$21,IF(P10=22,liste!$B$22,IF(P10=23,liste!$B$23,IF(P10=24,liste!$B$24,IF(P10=25,liste!$B$25,IF(P10=26,liste!$B$26,IF(P10=27,liste!$B$27,IF(P10=28,liste!$B$28,IF(P10=29,liste!$B$29,IF(P10>=30,'2'!O10,"")))))))))))))))))))))))))))))) | Q10: =IF(R10=1,liste!$F$1,IF(R10=2,liste!$F$2,IF(R10=3,liste!$F$3,IF(R10=4,liste!$F$4,IF(R10=5,liste!$F$5,IF(R10=6,liste!$F$6,IF(R10=7,liste!$F$7,IF(R10=8,liste!$F$8,IF(R10=9,liste!$F$9,IF(R10=10,liste!$F$10,IF(R10=11,liste!$F$11,IF(R10=12,liste!$F$12,IF(R10=13,liste!$F$13,IF(R10=14,liste!$F$14,IF(R10=15,liste!$F$15,IF(R10=16,liste!$F$16,IF(R10=17,liste!$F$17,IF(R10=18,liste!$F$18,IF(R10=19,liste!$F$19,IF(R10=20,liste!$F$20,"")))))))))))))))))))) | S10: =IF(T10=1,liste!$B$1,IF(T10=2,liste!$B$2,IF(T10=3,liste!$B$3,IF(T10=4,liste!$B$4,IF(T10=5,liste!$B$5,IF(T10=6,liste!$B$6,IF(T10=7,liste!$B$7,IF(T10=8,liste!$B$8,IF(T10=9,liste!$B$9,IF(T10=10,liste!$B$10,IF(T10=11,liste!$B$11,IF(T10=12,liste!$B$12,IF(T10=13,liste!$B$13,IF(T10=14,liste!$B$14,IF(T10=15,liste!$B$15,IF(T10=16,liste!$B$16,IF(T10=17,liste!$B$17,IF(T10=18,liste!$B$18,IF(T10=19,liste!$B$19,IF(T10=20,liste!$B$20,IF(T10=21,liste!$B$21,IF(T10=22,liste!$B$22,IF(T10=23,liste!$B$23,IF(T10=24,liste!$B$24,IF(T10=25,liste!$B$25,IF(T10=26,liste!$B$26,IF(T10=27,liste!$B$27,IF(T10=28,liste!$B$28,IF(T10=29,liste!$B$29,IF(T10>=30,'2'!S10,"")))))))))))))))))))))))))))))) | U10: =IF(V10=1,liste!$F$1,IF(V10=2,liste!$F$2,IF(V10=3,liste!$F$3,IF(V10=4,liste!$F$4,IF(V10=5,liste!$F$5,IF(V10=6,liste!$F$6,IF(V10=7,liste!$F$7,IF(V10=8,liste!$F$8,IF(V10=9,liste!$F$9,IF(V10=10,liste!$F$10,IF(V10=11,liste!$F$11,IF(V10=12,liste!$F$12,IF(V10=13,liste!$F$13,IF(V10=14,liste!$F$14,IF(V10=15,liste!$F$15,IF(V10=16,liste!$F$16,IF(V10=17,liste!$F$17,IF(V10=18,liste!$F$18,IF(V10=19,liste!$F$19,IF(V10=20,liste!$F$20,"")))))))))))))))))))) | W10: =IF(X10=1,liste!$B$1,IF(X10=2,liste!$B$2,IF(X10=3,liste!$B$3,IF(X10=4,liste!$B$4,IF(X10=5,liste!$B$5,IF(X10=6,liste!$B$6,IF(X10=7,liste!$B$7,IF(X10=8,liste!$B$8,IF(X10=9,liste!$B$9,IF(X10=10,liste!$B$10,IF(X10=11,liste!$B$11,IF(X10=12,liste!$B$12,IF(X10=13,liste!$B$13,IF(X10=14,liste!$B$14,IF(X10=15,liste!$B$15,IF(X10=16,liste!$B$16,IF(X10=17,liste!$B$17,IF(X10=18,liste!$B$18,IF(X10=19,liste!$B$19,IF(X10=20,liste!$B$20,IF(X10=21,liste!$B$21,IF(X10=22,liste!$B$22,IF(X10=23,liste!$B$23,IF(X10=24,liste!$B$24,IF(X10=25,liste!$B$25,IF(X10=26,liste!$B$26,IF(X10=27,liste!$B$27,IF(X10=28,liste!$B$28,IF(X10=29,liste!$B$29,IF(X10>=30,'2'!W10,"")))))))))))))))))))))))))))))) | Y10: =IF(Z10=1,liste!$F$1,IF(Z10=2,liste!$F$2,IF(Z10=3,liste!$F$3,IF(Z10=4,liste!$F$4,IF(Z10=5,liste!$F$5,IF(Z10=6,liste!$F$6,IF(Z10=7,liste!$F$7,IF(Z10=8,liste!$F$8,IF(Z10=9,liste!$F$9,IF(Z10=10,liste!$F$10,IF(Z10=11,liste!$F$11,IF(Z10=12,liste!$F$12,IF(Z10=13,liste!$F$13,IF(Z10=14,liste!$F$14,IF(Z10=15,liste!$F$15,IF(Z10=16,liste!$F$16,IF(Z10=17,liste!$F$17,IF(Z10=18,liste!$F$18,IF(Z10=19,liste!$F$19,IF(Z10=20,liste!$F$20,"")))))))))))))))))))) | AA10: =IF(AB10=1,liste!$B$1,IF(AB10=2,liste!$B$2,IF(AB10=3,liste!$B$3,IF(AB10=4,liste!$B$4,IF(AB10=5,liste!$B$5,IF(AB10=6,liste!$B$6,IF(AB10=7,liste!$B$7,IF(AB10=8,liste!$B$8,IF(AB10=9,liste!$B$9,IF(AB10=10,liste!$B$10,IF(AB10=11,liste!$B$11,IF(AB10=12,liste!$B$12,IF(AB10=13,liste!$B$13,IF(AB10=14,liste!$B$14,IF(AB10=15,liste!$B$15,IF(AB10=16,liste!$B$16,IF(AB10=17,liste!$B$17,IF(AB10=18,liste!$B$18,IF(AB10=19,liste!$B$19,IF(AB10=20,liste!$B$20,IF(AB10=21,liste!$B$21,IF(AB10=22,liste!$B$22,IF(AB10=23,liste!$B$23,IF(AB10=24,liste!$B$24,IF(AB10=25,liste!$B$25,IF(AB10=26,liste!$B$26,IF(AB10=27,liste!$B$27,IF(AB10=28,liste!$B$28,IF(AB10=29,liste!$B$29,IF(AB10>=30,'2'!AA10,"")))))))))))))))))))))))))))))) | AC10: =IF(AD10=1,liste!$F$1,IF(AD10=2,liste!$F$2,IF(AD10=3,liste!$F$3,IF(AD10=4,liste!$F$4,IF(AD10=5,liste!$F$5,IF(AD10=6,liste!$F$6,IF(AD10=7,liste!$F$7,IF(AD10=8,liste!$F$8,IF(AD10=9,liste!$F$9,IF(AD10=10,liste!$F$10,IF(AD10=11,liste!$F$11,IF(AD10=12,liste!$F$12,IF(AD10=13,liste!$F$13,IF(AD10=14,liste!$F$14,IF(AD10=15,liste!$F$15,IF(AD10=16,liste!$F$16,IF(AD10=17,liste!$F$17,IF(AD10=18,liste!$F$18,IF(AD10=19,liste!$F$19,IF(AD10=20,liste!$F$20,"")))))))))))))))))))) | AE10: =IF(AF10=1,liste!$B$1,IF(AF10=2,liste!$B$2,IF(AF10=3,liste!$B$3,IF(AF10=4,liste!$B$4,IF(AF10=5,liste!$B$5,IF(AF10=6,liste!$B$6,IF(AF10=7,liste!$B$7,IF(AF10=8,liste!$B$8,IF(AF10=9,liste!$B$9,IF(AF10=10,liste!$B$10,IF(AF10=11,liste!$B$11,IF(AF10=12,liste!$B$12,IF(AF10=13,liste!$B$13,IF(AF10=14,liste!$B$14,IF(AF10=15,liste!$B$15,IF(AF10=16,liste!$B$16,IF(AF10=17,liste!$B$17,IF(AF10=18,liste!$B$18,IF(AF10=19,liste!$B$19,IF(AF10=20,liste!$B$20,IF(AF10=21,liste!$B$21,IF(AF10=22,liste!$B$22,IF(AF10=23,liste!$B$23,IF(AF10=24,liste!$B$24,IF(AF10=25,liste!$B$25,IF(AF10=26,liste!$B$26,IF(AF10=27,liste!$B$27,IF(AF10=28,liste!$B$28,IF(AF10=29,liste!$B$29,IF(AF10>=30,'2'!AE10,"")))))))))))))))))))))))))))))) | AG10: =IF(AH10=1,liste!$F$1,IF(AH10=2,liste!$F$2,IF(AH10=3,liste!$F$3,IF(AH10=4,liste!$F$4,IF(AH10=5,liste!$F$5,IF(AH10=6,liste!$F$6,IF(AH10=7,liste!$F$7,IF(AH10=8,liste!$F$8,IF(AH10=9,liste!$F$9,IF(AH10=10,liste!$F$10,IF(AH10=11,liste!$F$11,IF(AH10=12,liste!$F$12,IF(AH10=13,liste!$F$13,IF(AH10=14,liste!$F$14,IF(AH10=15,liste!$F$15,IF(AH10=16,liste!$F$16,IF(AH10=17,liste!$F$17,IF(AH10=18,liste!$F$18,IF(AH10=19,liste!$F$19,IF(AH10=20,liste!$F$20,""))))))))))))))))))))
C11: =IF(D11=1,liste!$D$1,IF(D11=2,liste!$D$2,IF(D11=3,liste!$D$3,IF(D11=4,liste!$D$4,IF(D11=5,liste!$D$5,IF(D11=6,liste!$D$6,IF(D11=7,liste!$D$7,IF(D11=8,liste!$D$8,IF(D11=9,liste!$D$9,IF(D11=10,liste!$D$10,IF(D11=11,liste!$D$11,IF(D11=12,liste!$D$12,IF(D11=13,liste!$D$13,IF(D11=14,liste!$D$14,IF(D11=15,liste!$D$15,IF(D11=16,liste!$D$16,IF(D11=17,liste!$D$17,IF(D11=18,liste!$D$18,IF(D11=19,liste!$D$19,IF(D11=20,liste!$D$20,IF(D11=21,liste!$D$21,IF(D11=22,liste!$D$22,IF(D11=23,liste!$D$23,IF(D11=24,liste!$D$24,IF(D11=25,liste!$D$25,IF(D11=26,liste!$D$26,IF(D11=27,liste!$D$27,IF(D11=28,liste!$D$28,IF(D11=29,liste!$D$29,IF(D11>=30,'2'!C11,"")))))))))))))))))))))))))))))) | G11: =IF(H11=1,liste!$D$1,IF(H11=2,liste!$D$2,IF(H11=3,liste!$D$3,IF(H11=4,liste!$D$4,IF(H11=5,liste!$D$5,IF(H11=6,liste!$D$6,IF(H11=7,liste!$D$7,IF(H11=8,liste!$D$8,IF(H11=9,liste!$D$9,IF(H11=10,liste!$D$10,IF(H11=11,liste!$D$11,IF(H11=12,liste!$D$12,IF(H11=13,liste!$D$13,IF(H11=14,liste!$D$14,IF(H11=15,liste!$D$15,IF(H11=16,liste!$D$16,IF(H11=17,liste!$D$17,IF(H11=18,liste!$D$18,IF(H11=19,liste!$D$19,IF(H11=20,liste!$D$20,IF(H11=21,liste!$D$21,IF(H11=22,liste!$D$22,IF(H11=23,liste!$D$23,IF(H11=24,liste!$D$24,IF(H11=25,liste!$D$25,IF(H11=26,liste!$D$26,IF(H11=27,liste!$D$27,IF(H11=28,liste!$D$28,IF(H11=29,liste!$D$29,IF(H11>=30,'2'!G11,"")))))))))))))))))))))))))))))) | K11: =IF(L11=1,liste!$D$1,IF(L11=2,liste!$D$2,IF(L11=3,liste!$D$3,IF(L11=4,liste!$D$4,IF(L11=5,liste!$D$5,IF(L11=6,liste!$D$6,IF(L11=7,liste!$D$7,IF(L11=8,liste!$D$8,IF(L11=9,liste!$D$9,IF(L11=10,liste!$D$10,IF(L11=11,liste!$D$11,IF(L11=12,liste!$D$12,IF(L11=13,liste!$D$13,IF(L11=14,liste!$D$14,IF(L11=15,liste!$D$15,IF(L11=16,liste!$D$16,IF(L11=17,liste!$D$17,IF(L11=18,liste!$D$18,IF(L11=19,liste!$D$19,IF(L11=20,liste!$D$20,IF(L11=21,liste!$D$21,IF(L11=22,liste!$D$22,IF(L11=23,liste!$D$23,IF(L11=24,liste!$D$24,IF(L11=25,liste!$D$25,IF(L11=26,liste!$D$26,IF(L11=27,liste!$D$27,IF(L11=28,liste!$D$28,IF(L11=29,liste!$D$29,IF(L11>=30,'2'!K11,"")))))))))))))))))))))))))))))) | O11: =IF(P11=1,liste!$D$1,IF(P11=2,liste!$D$2,IF(P11=3,liste!$D$3,IF(P11=4,liste!$D$4,IF(P11=5,liste!$D$5,IF(P11=6,liste!$D$6,IF(P11=7,liste!$D$7,IF(P11=8,liste!$D$8,IF(P11=9,liste!$D$9,IF(P11=10,liste!$D$10,IF(P11=11,liste!$D$11,IF(P11=12,liste!$D$12,IF(P11=13,liste!$D$13,IF(P11=14,liste!$D$14,IF(P11=15,liste!$D$15,IF(P11=16,liste!$D$16,IF(P11=17,liste!$D$17,IF(P11=18,liste!$D$18,IF(P11=19,liste!$D$19,IF(P11=20,liste!$D$20,IF(P11=21,liste!$D$21,IF(P11=22,liste!$D$22,IF(P11=23,liste!$D$23,IF(P11=24,liste!$D$24,IF(P11=25,liste!$D$25,IF(P11=26,liste!$D$26,IF(P11=27,liste!$D$27,IF(P11=28,liste!$D$28,IF(P11=29,liste!$D$29,IF(P11>=30,'2'!O11,"")))))))))))))))))))))))))))))) | S11: =IF(T11=1,liste!$D$1,IF(T11=2,liste!$D$2,IF(T11=3,liste!$D$3,IF(T11=4,liste!$D$4,IF(T11=5,liste!$D$5,IF(T11=6,liste!$D$6,IF(T11=7,liste!$D$7,IF(T11=8,liste!$D$8,IF(T11=9,liste!$D$9,IF(T11=10,liste!$D$10,IF(T11=11,liste!$D$11,IF(T11=12,liste!$D$12,IF(T11=13,liste!$D$13,IF(T11=14,liste!$D$14,IF(T11=15,liste!$D$15,IF(T11=16,liste!$D$16,IF(T11=17,liste!$D$17,IF(T11=18,liste!$D$18,IF(T11=19,liste!$D$19,IF(T11=20,liste!$D$20,IF(T11=21,liste!$D$21,IF(T11=22,liste!$D$22,IF(T11=23,liste!$D$23,IF(T11=24,liste!$D$24,IF(T11=25,liste!$D$25,IF(T11=26,liste!$D$26,IF(T11=27,liste!$D$27,IF(T11=28,liste!$D$28,IF(T11=29,liste!$D$29,IF(T11>=30,'2'!S11,"")))))))))))))))))))))))))))))) | W11: =IF(X11=1,liste!$D$1,IF(X11=2,liste!$D$2,IF(X11=3,liste!$D$3,IF(X11=4,liste!$D$4,IF(X11=5,liste!$D$5,IF(X11=6,liste!$D$6,IF(X11=7,liste!$D$7,IF(X11=8,liste!$D$8,IF(X11=9,liste!$D$9,IF(X11=10,liste!$D$10,IF(X11=11,liste!$D$11,IF(X11=12,liste!$D$12,IF(X11=13,liste!$D$13,IF(X11=14,liste!$D$14,IF(X11=15,liste!$D$15,IF(X11=16,liste!$D$16,IF(X11=17,liste!$D$17,IF(X11=18,liste!$D$18,IF(X11=19,liste!$D$19,IF(X11=20,liste!$D$20,IF(X11=21,liste!$D$21,IF(X11=22,liste!$D$22,IF(X11=23,liste!$D$23,IF(X11=24,liste!$D$24,IF(X11=25,liste!$D$25,IF(X11=26,liste!$D$26,IF(X11=27,liste!$D$27,IF(X11=28,liste!$D$28,IF(X11=29,liste!$D$29,IF(X11>=30,'2'!W11,"")))))))))))))))))))))))))))))) | AA11: =IF(AB11=1,liste!$D$1,IF(AB11=2,liste!$D$2,IF(AB11=3,liste!$D$3,IF(AB11=4,liste!$D$4,IF(AB11=5,liste!$D$5,IF(AB11=6,liste!$D$6,IF(AB11=7,liste!$D$7,IF(AB11=8,liste!$D$8,IF(AB11=9,liste!$D$9,IF(AB11=10,liste!$D$10,IF(AB11=11,liste!$D$11,IF(AB11=12,liste!$D$12,IF(AB11=13,liste!$D$13,IF(AB11=14,liste!$D$14,IF(AB11=15,liste!$D$15,IF(AB11=16,liste!$D$16,IF(AB11=17,liste!$D$17,IF(AB11=18,liste!$D$18,IF(AB11=19,liste!$D$19,IF(AB11=20,liste!$D$20,IF(AB11=21,liste!$D$21,IF(AB11=22,liste!$D$22,IF(AB11=23,liste!$D$23,IF(AB11=24,liste!$D$24,IF(AB11=25,liste!$D$25,IF(AB11=26,liste!$D$26,IF(AB11=27,liste!$D$27,IF(AB11=28,liste!$D$28,IF(AB11=29,liste!$D$29,IF(AB11>=30,'2'!AA11,"")))))))))))))))))))))))))))))) | AE11: =IF(AF11=1,liste!$D$1,IF(AF11=2,liste!$D$2,IF(AF11=3,liste!$D$3,IF(AF11=4,liste!$D$4,IF(AF11=5,liste!$D$5,IF(AF11=6,liste!$D$6,IF(AF11=7,liste!$D$7,IF(AF11=8,liste!$D$8,IF(AF11=9,liste!$D$9,IF(AF11=10,liste!$D$10,IF(AF11=11,liste!$D$11,IF(AF11=12,liste!$D$12,IF(AF11=13,liste!$D$13,IF(AF11=14,liste!$D$14,IF(AF11=15,liste!$D$15,IF(AF11=16,liste!$D$16,IF(AF11=17,liste!$D$17,IF(AF11=18,liste!$D$18,IF(AF11=19,liste!$D$19,IF(AF11=20,liste!$D$20,IF(AF11=21,liste!$D$21,IF(AF11=22,liste!$D$22,IF(AF11=23,liste!$D$23,IF(AF11=24,liste!$D$24,IF(AF11=25,liste!$D$25,IF(AF11=26,liste!$D$26,IF(AF11=27,liste!$D$27,IF(AF11=28,liste!$D$28,IF(AF11=29,liste!$D$29,IF(AF11>=30,'2'!AE11,""))))))))))))))))))))))))))))))
B12: =liste!I4 -> 15:30-16:20 | C12: =IF(D12=1,liste!$B$1,IF(D12=2,liste!$B$2,IF(D12=3,liste!$B$3,IF(D12=4,liste!$B$4,IF(D12=5,liste!$B$5,IF(D12=6,liste!$B$6,IF(D12=7,liste!$B$7,IF(D12=8,liste!$B$8,IF(D12=9,liste!$B$9,IF(D12=10,liste!$B$10,IF(D12=11,liste!$B$11,IF(D12=12,liste!$B$12,IF(D12=13,liste!$B$13,IF(D12=14,liste!$B$14,IF(D12=15,liste!$B$15,IF(D12=16,liste!$B$16,IF(D12=17,liste!$B$17,IF(D12=18,liste!$B$18,IF(D12=19,liste!$B$19,IF(D12=20,liste!$B$20,IF(D12=21,liste!$B$21,IF(D12=22,liste!$B$22,IF(D12=23,liste!$B$23,IF(D12=24,liste!$B$24,IF(D12=25,liste!$B$25,IF(D12=26,liste!$B$26,IF(D12=27,liste!$B$27,IF(D12=28,liste!$B$28,IF(D12=29,liste!$B$29,IF(D12>=30,'2'!C12,"")))))))))))))))))))))))))))))) | E12: =IF(F12=1,liste!$F$1,IF(F12=2,liste!$F$2,IF(F12=3,liste!$F$3,IF(F12=4,liste!$F$4,IF(F12=5,liste!$F$5,IF(F12=6,liste!$F$6,IF(F12=7,liste!$F$7,IF(F12=8,liste!$F$8,IF(F12=9,liste!$F$9,IF(F12=10,liste!$F$10,IF(F12=11,liste!$F$11,IF(F12=12,liste!$F$12,IF(F12=13,liste!$F$13,IF(F12=14,liste!$F$14,IF(F12=15,liste!$F$15,IF(F12=16,liste!$F$16,IF(F12=17,liste!$F$17,IF(F12=18,liste!$F$18,IF(F12=19,liste!$F$19,IF(F12=20,liste!$F$20,"")))))))))))))))))))) | G12: =IF(H12=1,liste!$B$1,IF(H12=2,liste!$B$2,IF(H12=3,liste!$B$3,IF(H12=4,liste!$B$4,IF(H12=5,liste!$B$5,IF(H12=6,liste!$B$6,IF(H12=7,liste!$B$7,IF(H12=8,liste!$B$8,IF(H12=9,liste!$B$9,IF(H12=10,liste!$B$10,IF(H12=11,liste!$B$11,IF(H12=12,liste!$B$12,IF(H12=13,liste!$B$13,IF(H12=14,liste!$B$14,IF(H12=15,liste!$B$15,IF(H12=16,liste!$B$16,IF(H12=17,liste!$B$17,IF(H12=18,liste!$B$18,IF(H12=19,liste!$B$19,IF(H12=20,liste!$B$20,IF(H12=21,liste!$B$21,IF(H12=22,liste!$B$22,IF(H12=23,liste!$B$23,IF(H12=24,liste!$B$24,IF(H12=25,liste!$B$25,IF(H12=26,liste!$B$26,IF(H12=27,liste!$B$27,IF(H12=28,liste!$B$28,IF(H12=29,liste!$B$29,IF(H12>=30,'2'!G12,"")))))))))))))))))))))))))))))) | I12: =IF(J12=1,liste!$F$1,IF(J12=2,liste!$F$2,IF(J12=3,liste!$F$3,IF(J12=4,liste!$F$4,IF(J12=5,liste!$F$5,IF(J12=6,liste!$F$6,IF(J12=7,liste!$F$7,IF(J12=8,liste!$F$8,IF(J12=9,liste!$F$9,IF(J12=10,liste!$F$10,IF(J12=11,liste!$F$11,IF(J12=12,liste!$F$12,IF(J12=13,liste!$F$13,IF(J12=14,liste!$F$14,IF(J12=15,liste!$F$15,IF(J12=16,liste!$F$16,IF(J12=17,liste!$F$17,IF(J12=18,liste!$F$18,IF(J12=19,liste!$F$19,IF(J12=20,liste!$F$20,"")))))))))))))))))))) | K12: =IF(L12=1,liste!$B$1,IF(L12=2,liste!$B$2,IF(L12=3,liste!$B$3,IF(L12=4,liste!$B$4,IF(L12=5,liste!$B$5,IF(L12=6,liste!$B$6,IF(L12=7,liste!$B$7,IF(L12=8,liste!$B$8,IF(L12=9,liste!$B$9,IF(L12=10,liste!$B$10,IF(L12=11,liste!$B$11,IF(L12=12,liste!$B$12,IF(L12=13,liste!$B$13,IF(L12=14,liste!$B$14,IF(L12=15,liste!$B$15,IF(L12=16,liste!$B$16,IF(L12=17,liste!$B$17,IF(L12=18,liste!$B$18,IF(L12=19,liste!$B$19,IF(L12=20,liste!$B$20,IF(L12=21,liste!$B$21,IF(L12=22,liste!$B$22,IF(L12=23,liste!$B$23,IF(L12=24,liste!$B$24,IF(L12=25,liste!$B$25,IF(L12=26,liste!$B$26,IF(L12=27,liste!$B$27,IF(L12=28,liste!$B$28,IF(L12=29,liste!$B$29,IF(L12>=30,'2'!K12,"")))))))))))))))))))))))))))))) | M12: =IF(N12=1,liste!$F$1,IF(N12=2,liste!$F$2,IF(N12=3,liste!$F$3,IF(N12=4,liste!$F$4,IF(N12=5,liste!$F$5,IF(N12=6,liste!$F$6,IF(N12=7,liste!$F$7,IF(N12=8,liste!$F$8,IF(N12=9,liste!$F$9,IF(N12=10,liste!$F$10,IF(N12=11,liste!$F$11,IF(N12=12,liste!$F$12,IF(N12=13,liste!$F$13,IF(N12=14,liste!$F$14,IF(N12=15,liste!$F$15,IF(N12=16,liste!$F$16,IF(N12=17,liste!$F$17,IF(N12=18,liste!$F$18,IF(N12=19,liste!$F$19,IF(N12=20,liste!$F$20,"")))))))))))))))))))) | O12: =IF(P12=1,liste!$B$1,IF(P12=2,liste!$B$2,IF(P12=3,liste!$B$3,IF(P12=4,liste!$B$4,IF(P12=5,liste!$B$5,IF(P12=6,liste!$B$6,IF(P12=7,liste!$B$7,IF(P12=8,liste!$B$8,IF(P12=9,liste!$B$9,IF(P12=10,liste!$B$10,IF(P12=11,liste!$B$11,IF(P12=12,liste!$B$12,IF(P12=13,liste!$B$13,IF(P12=14,liste!$B$14,IF(P12=15,liste!$B$15,IF(P12=16,liste!$B$16,IF(P12=17,liste!$B$17,IF(P12=18,liste!$B$18,IF(P12=19,liste!$B$19,IF(P12=20,liste!$B$20,IF(P12=21,liste!$B$21,IF(P12=22,liste!$B$22,IF(P12=23,liste!$B$23,IF(P12=24,liste!$B$24,IF(P12=25,liste!$B$25,IF(P12=26,liste!$B$26,IF(P12=27,liste!$B$27,IF(P12=28,liste!$B$28,IF(P12=29,liste!$B$29,IF(P12>=30,'2'!O12,"")))))))))))))))))))))))))))))) | Q12: =IF(R12=1,liste!$F$1,IF(R12=2,liste!$F$2,IF(R12=3,liste!$F$3,IF(R12=4,liste!$F$4,IF(R12=5,liste!$F$5,IF(R12=6,liste!$F$6,IF(R12=7,liste!$F$7,IF(R12=8,liste!$F$8,IF(R12=9,liste!$F$9,IF(R12=10,liste!$F$10,IF(R12=11,liste!$F$11,IF(R12=12,liste!$F$12,IF(R12=13,liste!$F$13,IF(R12=14,liste!$F$14,IF(R12=15,liste!$F$15,IF(R12=16,liste!$F$16,IF(R12=17,liste!$F$17,IF(R12=18,liste!$F$18,IF(R12=19,liste!$F$19,IF(R12=20,liste!$F$20,"")))))))))))))))))))) | S12: =IF(T12=1,liste!$B$1,IF(T12=2,liste!$B$2,IF(T12=3,liste!$B$3,IF(T12=4,liste!$B$4,IF(T12=5,liste!$B$5,IF(T12=6,liste!$B$6,IF(T12=7,liste!$B$7,IF(T12=8,liste!$B$8,IF(T12=9,liste!$B$9,IF(T12=10,liste!$B$10,IF(T12=11,liste!$B$11,IF(T12=12,liste!$B$12,IF(T12=13,liste!$B$13,IF(T12=14,liste!$B$14,IF(T12=15,liste!$B$15,IF(T12=16,liste!$B$16,IF(T12=17,liste!$B$17,IF(T12=18,liste!$B$18,IF(T12=19,liste!$B$19,IF(T12=20,liste!$B$20,IF(T12=21,liste!$B$21,IF(T12=22,liste!$B$22,IF(T12=23,liste!$B$23,IF(T12=24,liste!$B$24,IF(T12=25,liste!$B$25,IF(T12=26,liste!$B$26,IF(T12=27,liste!$B$27,IF(T12=28,liste!$B$28,IF(T12=29,liste!$B$29,IF(T12>=30,'2'!S12,"")))))))))))))))))))))))))))))) | U12: =IF(V12=1,liste!$F$1,IF(V12=2,liste!$F$2,IF(V12=3,liste!$F$3,IF(V12=4,liste!$F$4,IF(V12=5,liste!$F$5,IF(V12=6,liste!$F$6,IF(V12=7,liste!$F$7,IF(V12=8,liste!$F$8,IF(V12=9,liste!$F$9,IF(V12=10,liste!$F$10,IF(V12=11,liste!$F$11,IF(V12=12,liste!$F$12,IF(V12=13,liste!$F$13,IF(V12=14,liste!$F$14,IF(V12=15,liste!$F$15,IF(V12=16,liste!$F$16,IF(V12=17,liste!$F$17,IF(V12=18,liste!$F$18,IF(V12=19,liste!$F$19,IF(V12=20,liste!$F$20,"")))))))))))))))))))) | W12: =IF(X12=1,liste!$B$1,IF(X12=2,liste!$B$2,IF(X12=3,liste!$B$3,IF(X12=4,liste!$B$4,IF(X12=5,liste!$B$5,IF(X12=6,liste!$B$6,IF(X12=7,liste!$B$7,IF(X12=8,liste!$B$8,IF(X12=9,liste!$B$9,IF(X12=10,liste!$B$10,IF(X12=11,liste!$B$11,IF(X12=12,liste!$B$12,IF(X12=13,liste!$B$13,IF(X12=14,liste!$B$14,IF(X12=15,liste!$B$15,IF(X12=16,liste!$B$16,IF(X12=17,liste!$B$17,IF(X12=18,liste!$B$18,IF(X12=19,liste!$B$19,IF(X12=20,liste!$B$20,IF(X12=21,liste!$B$21,IF(X12=22,liste!$B$22,IF(X12=23,liste!$B$23,IF(X12=24,liste!$B$24,IF(X12=25,liste!$B$25,IF(X12=26,liste!$B$26,IF(X12=27,liste!$B$27,IF(X12=28,liste!$B$28,IF(X12=29,liste!$B$29,IF(X12>=30,'2'!W12,"")))))))))))))))))))))))))))))) | Y12: =IF(Z12=1,liste!$F$1,IF(Z12=2,liste!$F$2,IF(Z12=3,liste!$F$3,IF(Z12=4,liste!$F$4,IF(Z12=5,liste!$F$5,IF(Z12=6,liste!$F$6,IF(Z12=7,liste!$F$7,IF(Z12=8,liste!$F$8,IF(Z12=9,liste!$F$9,IF(Z12=10,liste!$F$10,IF(Z12=11,liste!$F$11,IF(Z12=12,liste!$F$12,IF(Z12=13,liste!$F$13,IF(Z12=14,liste!$F$14,IF(Z12=15,liste!$F$15,IF(Z12=16,liste!$F$16,IF(Z12=17,liste!$F$17,IF(Z12=18,liste!$F$18,IF(Z12=19,liste!$F$19,IF(Z12=20,liste!$F$20,"")))))))))))))))))))) | AA12: =IF(AB12=1,liste!$B$1,IF(AB12=2,liste!$B$2,IF(AB12=3,liste!$B$3,IF(AB12=4,liste!$B$4,IF(AB12=5,liste!$B$5,IF(AB12=6,liste!$B$6,IF(AB12=7,liste!$B$7,IF(AB12=8,liste!$B$8,IF(AB12=9,liste!$B$9,IF(AB12=10,liste!$B$10,IF(AB12=11,liste!$B$11,IF(AB12=12,liste!$B$12,IF(AB12=13,liste!$B$13,IF(AB12=14,liste!$B$14,IF(AB12=15,liste!$B$15,IF(AB12=16,liste!$B$16,IF(AB12=17,liste!$B$17,IF(AB12=18,liste!$B$18,IF(AB12=19,liste!$B$19,IF(AB12=20,liste!$B$20,IF(AB12=21,liste!$B$21,IF(AB12=22,liste!$B$22,IF(AB12=23,liste!$B$23,IF(AB12=24,liste!$B$24,IF(AB12=25,liste!$B$25,IF(AB12=26,liste!$B$26,IF(AB12=27,liste!$B$27,IF(AB12=28,liste!$B$28,IF(AB12=29,liste!$B$29,IF(AB12>=30,'2'!AA12,"")))))))))))))))))))))))))))))) | AC12: =IF(AD12=1,liste!$F$1,IF(AD12=2,liste!$F$2,IF(AD12=3,liste!$F$3,IF(AD12=4,liste!$F$4,IF(AD12=5,liste!$F$5,IF(AD12=6,liste!$F$6,IF(AD12=7,liste!$F$7,IF(AD12=8,liste!$F$8,IF(AD12=9,liste!$F$9,IF(AD12=10,liste!$F$10,IF(AD12=11,liste!$F$11,IF(AD12=12,liste!$F$12,IF(AD12=13,liste!$F$13,IF(AD12=14,liste!$F$14,IF(AD12=15,liste!$F$15,IF(AD12=16,liste!$F$16,IF(AD12=17,liste!$F$17,IF(AD12=18,liste!$F$18,IF(AD12=19,liste!$F$19,IF(AD12=20,liste!$F$20,"")))))))))))))))))))) | AE12: =IF(AF12=1,liste!$B$1,IF(AF12=2,liste!$B$2,IF(AF12=3,liste!$B$3,IF(AF12=4,liste!$B$4,IF(AF12=5,liste!$B$5,IF(AF12=6,liste!$B$6,IF(AF12=7,liste!$B$7,IF(AF12=8,liste!$B$8,IF(AF12=9,liste!$B$9,IF(AF12=10,liste!$B$10,IF(AF12=11,liste!$B$11,IF(AF12=12,liste!$B$12,IF(AF12=13,liste!$B$13,IF(AF12=14,liste!$B$14,IF(AF12=15,liste!$B$15,IF(AF12=16,liste!$B$16,IF(AF12=17,liste!$B$17,IF(AF12=18,liste!$B$18,IF(AF12=19,liste!$B$19,IF(AF12=20,liste!$B$20,IF(AF12=21,liste!$B$21,IF(AF12=22,liste!$B$22,IF(AF12=23,liste!$B$23,IF(AF12=24,liste!$B$24,IF(AF12=25,liste!$B$25,IF(AF12=26,liste!$B$26,IF(AF12=27,liste!$B$27,IF(AF12=28,liste!$B$28,IF(AF12=29,liste!$B$29,IF(AF12>=30,'2'!AE12,"")))))))))))))))))))))))))))))) | AG12: =IF(AH12=1,liste!$F$1,IF(AH12=2,liste!$F$2,IF(AH12=3,liste!$F$3,IF(AH12=4,liste!$F$4,IF(AH12=5,liste!$F$5,IF(AH12=6,liste!$F$6,IF(AH12=7,liste!$F$7,IF(AH12=8,liste!$F$8,IF(AH12=9,liste!$F$9,IF(AH12=10,liste!$F$10,IF(AH12=11,liste!$F$11,IF(AH12=12,liste!$F$12,IF(AH12=13,liste!$F$13,IF(AH12=14,liste!$F$14,IF(AH12=15,liste!$F$15,IF(AH12=16,liste!$F$16,IF(AH12=17,liste!$F$17,IF(AH12=18,liste!$F$18,IF(AH12=19,liste!$F$19,IF(AH12=20,liste!$F$20,""))))))))))))))))))))
C13: =IF(D13=1,liste!$D$1,IF(D13=2,liste!$D$2,IF(D13=3,liste!$D$3,IF(D13=4,liste!$D$4,IF(D13=5,liste!$D$5,IF(D13=6,liste!$D$6,IF(D13=7,liste!$D$7,IF(D13=8,liste!$D$8,IF(D13=9,liste!$D$9,IF(D13=10,liste!$D$10,IF(D13=11,liste!$D$11,IF(D13=12,liste!$D$12,IF(D13=13,liste!$D$13,IF(D13=14,liste!$D$14,IF(D13=15,liste!$D$15,IF(D13=16,liste!$D$16,IF(D13=17,liste!$D$17,IF(D13=18,liste!$D$18,IF(D13=19,liste!$D$19,IF(D13=20,liste!$D$20,IF(D13=21,liste!$D$21,IF(D13=22,liste!$D$22,IF(D13=23,liste!$D$23,IF(D13=24,liste!$D$24,IF(D13=25,liste!$D$25,IF(D13=26,liste!$D$26,IF(D13=27,liste!$D$27,IF(D13=28,liste!$D$28,IF(D13=29,liste!$D$29,IF(D13>=30,'2'!C13,"")))))))))))))))))))))))))))))) | G13: =IF(H13=1,liste!$D$1,IF(H13=2,liste!$D$2,IF(H13=3,liste!$D$3,IF(H13=4,liste!$D$4,IF(H13=5,liste!$D$5,IF(H13=6,liste!$D$6,IF(H13=7,liste!$D$7,IF(H13=8,liste!$D$8,IF(H13=9,liste!$D$9,IF(H13=10,liste!$D$10,IF(H13=11,liste!$D$11,IF(H13=12,liste!$D$12,IF(H13=13,liste!$D$13,IF(H13=14,liste!$D$14,IF(H13=15,liste!$D$15,IF(H13=16,liste!$D$16,IF(H13=17,liste!$D$17,IF(H13=18,liste!$D$18,IF(H13=19,liste!$D$19,IF(H13=20,liste!$D$20,IF(H13=21,liste!$D$21,IF(H13=22,liste!$D$22,IF(H13=23,liste!$D$23,IF(H13=24,liste!$D$24,IF(H13=25,liste!$D$25,IF(H13=26,liste!$D$26,IF(H13=27,liste!$D$27,IF(H13=28,liste!$D$28,IF(H13=29,liste!$D$29,IF(H13>=30,'2'!G13,"")))))))))))))))))))))))))))))) | K13: =IF(L13=1,liste!$D$1,IF(L13=2,liste!$D$2,IF(L13=3,liste!$D$3,IF(L13=4,liste!$D$4,IF(L13=5,liste!$D$5,IF(L13=6,liste!$D$6,IF(L13=7,liste!$D$7,IF(L13=8,liste!$D$8,IF(L13=9,liste!$D$9,IF(L13=10,liste!$D$10,IF(L13=11,liste!$D$11,IF(L13=12,liste!$D$12,IF(L13=13,liste!$D$13,IF(L13=14,liste!$D$14,IF(L13=15,liste!$D$15,IF(L13=16,liste!$D$16,IF(L13=17,liste!$D$17,IF(L13=18,liste!$D$18,IF(L13=19,liste!$D$19,IF(L13=20,liste!$D$20,IF(L13=21,liste!$D$21,IF(L13=22,liste!$D$22,IF(L13=23,liste!$D$23,IF(L13=24,liste!$D$24,IF(L13=25,liste!$D$25,IF(L13=26,liste!$D$26,IF(L13=27,liste!$D$27,IF(L13=28,liste!$D$28,IF(L13=29,liste!$D$29,IF(L13>=30,'2'!K13,"")))))))))))))))))))))))))))))) | O13: =IF(P13=1,liste!$D$1,IF(P13=2,liste!$D$2,IF(P13=3,liste!$D$3,IF(P13=4,liste!$D$4,IF(P13=5,liste!$D$5,IF(P13=6,liste!$D$6,IF(P13=7,liste!$D$7,IF(P13=8,liste!$D$8,IF(P13=9,liste!$D$9,IF(P13=10,liste!$D$10,IF(P13=11,liste!$D$11,IF(P13=12,liste!$D$12,IF(P13=13,liste!$D$13,IF(P13=14,liste!$D$14,IF(P13=15,liste!$D$15,IF(P13=16,liste!$D$16,IF(P13=17,liste!$D$17,IF(P13=18,liste!$D$18,IF(P13=19,liste!$D$19,IF(P13=20,liste!$D$20,IF(P13=21,liste!$D$21,IF(P13=22,liste!$D$22,IF(P13=23,liste!$D$23,IF(P13=24,liste!$D$24,IF(P13=25,liste!$D$25,IF(P13=26,liste!$D$26,IF(P13=27,liste!$D$27,IF(P13=28,liste!$D$28,IF(P13=29,liste!$D$29,IF(P13>=30,'2'!O13,"")))))))))))))))))))))))))))))) | S13: =IF(T13=1,liste!$D$1,IF(T13=2,liste!$D$2,IF(T13=3,liste!$D$3,IF(T13=4,liste!$D$4,IF(T13=5,liste!$D$5,IF(T13=6,liste!$D$6,IF(T13=7,liste!$D$7,IF(T13=8,liste!$D$8,IF(T13=9,liste!$D$9,IF(T13=10,liste!$D$10,IF(T13=11,liste!$D$11,IF(T13=12,liste!$D$12,IF(T13=13,liste!$D$13,IF(T13=14,liste!$D$14,IF(T13=15,liste!$D$15,IF(T13=16,liste!$D$16,IF(T13=17,liste!$D$17,IF(T13=18,liste!$D$18,IF(T13=19,liste!$D$19,IF(T13=20,liste!$D$20,IF(T13=21,liste!$D$21,IF(T13=22,liste!$D$22,IF(T13=23,liste!$D$23,IF(T13=24,liste!$D$24,IF(T13=25,liste!$D$25,IF(T13=26,liste!$D$26,IF(T13=27,liste!$D$27,IF(T13=28,liste!$D$28,IF(T13=29,liste!$D$29,IF(T13>=30,'2'!S13,"")))))))))))))))))))))))))))))) | W13: =IF(X13=1,liste!$D$1,IF(X13=2,liste!$D$2,IF(X13=3,liste!$D$3,IF(X13=4,liste!$D$4,IF(X13=5,liste!$D$5,IF(X13=6,liste!$D$6,IF(X13=7,liste!$D$7,IF(X13=8,liste!$D$8,IF(X13=9,liste!$D$9,IF(X13=10,liste!$D$10,IF(X13=11,liste!$D$11,IF(X13=12,liste!$D$12,IF(X13=13,liste!$D$13,IF(X13=14,liste!$D$14,IF(X13=15,liste!$D$15,IF(X13=16,liste!$D$16,IF(X13=17,liste!$D$17,IF(X13=18,liste!$D$18,IF(X13=19,liste!$D$19,IF(X13=20,liste!$D$20,IF(X13=21,liste!$D$21,IF(X13=22,liste!$D$22,IF(X13=23,liste!$D$23,IF(X13=24,liste!$D$24,IF(X13=25,liste!$D$25,IF(X13=26,liste!$D$26,IF(X13=27,liste!$D$27,IF(X13=28,liste!$D$28,IF(X13=29,liste!$D$29,IF(X13>=30,'2'!W13,"")))))))))))))))))))))))))))))) | AA13: =IF(AB13=1,liste!$D$1,IF(AB13=2,liste!$D$2,IF(AB13=3,liste!$D$3,IF(AB13=4,liste!$D$4,IF(AB13=5,liste!$D$5,IF(AB13=6,liste!$D$6,IF(AB13=7,liste!$D$7,IF(AB13=8,liste!$D$8,IF(AB13=9,liste!$D$9,IF(AB13=10,liste!$D$10,IF(AB13=11,liste!$D$11,IF(AB13=12,liste!$D$12,IF(AB13=13,liste!$D$13,IF(AB13=14,liste!$D$14,IF(AB13=15,liste!$D$15,IF(AB13=16,liste!$D$16,IF(AB13=17,liste!$D$17,IF(AB13=18,liste!$D$18,IF(AB13=19,liste!$D$19,IF(AB13=20,liste!$D$20,IF(AB13=21,liste!$D$21,IF(AB13=22,liste!$D$22,IF(AB13=23,liste!$D$23,IF(AB13=24,liste!$D$24,IF(AB13=25,liste!$D$25,IF(AB13=26,liste!$D$26,IF(AB13=27,liste!$D$27,IF(AB13=28,liste!$D$28,IF(AB13=29,liste!$D$29,IF(AB13>=30,'2'!AA13,"")))))))))))))))))))))))))))))) | AE13: =IF(AF13=1,liste!$D$1,IF(AF13=2,liste!$D$2,IF(AF13=3,liste!$D$3,IF(AF13=4,liste!$D$4,IF(AF13=5,liste!$D$5,IF(AF13=6,liste!$D$6,IF(AF13=7,liste!$D$7,IF(AF13=8,liste!$D$8,IF(AF13=9,liste!$D$9,IF(AF13=10,liste!$D$10,IF(AF13=11,liste!$D$11,IF(AF13=12,liste!$D$12,IF(AF13=13,liste!$D$13,IF(AF13=14,liste!$D$14,IF(AF13=15,liste!$D$15,IF(AF13=16,liste!$D$16,IF(AF13=17,liste!$D$17,IF(AF13=18,liste!$D$18,IF(AF13=19,liste!$D$19,IF(AF13=20,liste!$D$20,IF(AF13=21,liste!$D$21,IF(AF13=22,liste!$D$22,IF(AF13=23,liste!$D$23,IF(AF13=24,liste!$D$24,IF(AF13=25,liste!$D$25,IF(AF13=26,liste!$D$26,IF(AF13=27,liste!$D$27,IF(AF13=28,liste!$D$28,IF(AF13=29,liste!$D$29,IF(AF13>=30,'2'!AE13,""))))))))))))))))))))))))))))))
